BEGIN:VCALENDAR
VERSION:2.0
PRODID:-//Südtirol Dolomiten Touren - ECPv6.15.20//NONSGML v1.0//EN
CALSCALE:GREGORIAN
METHOD:PUBLISH
X-ORIGINAL-URL:https://xn--sdtirol-dolomiten-touren-vsc.com/?lang=en
X-WR-CALDESC:Events for Südtirol Dolomiten Touren
REFRESH-INTERVAL;VALUE=DURATION:PT1H
X-Robots-Tag:noindex
X-PUBLISHED-TTL:PT1H
BEGIN:VTIMEZONE
TZID:Europe/Berlin
BEGIN:DAYLIGHT
TZOFFSETFROM:+0100
TZOFFSETTO:+0200
TZNAME:CEST
DTSTART:20250330T010000
END:DAYLIGHT
BEGIN:STANDARD
TZOFFSETFROM:+0200
TZOFFSETTO:+0100
TZNAME:CET
DTSTART:20251026T010000
END:STANDARD
BEGIN:DAYLIGHT
TZOFFSETFROM:+0100
TZOFFSETTO:+0200
TZNAME:CEST
DTSTART:20260329T010000
END:DAYLIGHT
BEGIN:STANDARD
TZOFFSETFROM:+0200
TZOFFSETTO:+0100
TZNAME:CET
DTSTART:20261025T010000
END:STANDARD
BEGIN:DAYLIGHT
TZOFFSETFROM:+0100
TZOFFSETTO:+0200
TZNAME:CEST
DTSTART:20270328T010000
END:DAYLIGHT
BEGIN:STANDARD
TZOFFSETFROM:+0200
TZOFFSETTO:+0100
TZNAME:CET
DTSTART:20271031T010000
END:STANDARD
END:VTIMEZONE
BEGIN:VEVENT
DTSTART;VALUE=DATE:20261014
DTEND;VALUE=DATE:20261019
DTSTAMP:20260420T214331
CREATED:20260125T121529Z
LAST-MODIFIED:20260129T121506Z
UID:10000339-1791936000-1792367999@xn--sdtirol-dolomiten-touren-vsc.com
SUMMARY:Full throttle into autumn
DESCRIPTION:October 14\, 2026 – October 18\, 2026 | Dolomites car tour\nUnobstructed mountain passes. Clear lines. Maximum driving pleasure.  \nIf you want to experience the Dolomites at their best for driving\, then October is the time for you. The roads become empty\, the air is clear\, the light hits the rocks hard – and the asphalt feels as if it was made just for you.  \n“Full throttle into autumn” is our sportiest tour. No summer traffic\, no showing off – just pure driving . You concentrate on the essentials: curves\, rhythm\, line.   \n\nWhat to expect\nYou’re driving on fast\, flowing mountain passes that are pure fun – with sporty lines and a flow that makes sense. No unnecessary stops\, no “we have to get there quickly too.” Instead: pure flow .   \nYou will experience: \n\nprecisely planned routes without detours\nsmall groups \, so that the pace remains consistent\nDriver guidance for drivers – so you can drive easily.\n\n\nLed by Helmut Leitner (TRIENTNA)\nYou are not alone on your journey: Helmut Leitner (TRIENTNA) will guide you and the group through the Dolomites – with the right timing\, the perfect rhythm and exactly the routes that make autumn so special. \n\nEvening: Enjoyment at a 4-star hotel\nAfter your drive\, you’ll arrive in the evening at the 4-star Hotel Leitner **. You can relax and unwind\, enjoy a good meal\, sleep soundly – ​​and the next morning you’ll be back out on the mountain passes.  \n\nServices & Price\n\n4x half board (HP)\n3x guided tour including lunch \nOvernight stay: evening at the 4-star Hotel Leitner **\nLunch included\nPrice: €788 per person in a double room\nLed by: Helmut Leitner (TRIENTNA)\n\n\nStart inquiry\nIf you think to yourself\, “That’s exactly my thing\,” then send your request now.\nBriefly let us know if you are coming alone or in a double room – and we will get back to you quickly. \nGet in. Warm up. Full speed ahead into autumn.
URL:https://xn--sdtirol-dolomiten-touren-vsc.com/veranstaltung/full-speed-ahead-into-autumn/?lang=en
LOCATION:Hotel Leitner\, Katharina Lanz Street 83\, Mühlbach (BZ)\, 39037\, Italien
CATEGORIES:tours
ATTACH;FMTTYPE=image/jpeg:https://xn--sdtirol-dolomiten-touren-vsc.com/wp-content/uploads/2022/11/Autotour-Mit-Vollgas-in-den-Herbst-Suedtirol-Dolomiten-Touren14.jpg
END:VEVENT
END:VCALENDAR