BEGIN:VCALENDAR
VERSION:2.0
PRODID:-//Südtirol Dolomiten Touren - ECPv6.15.20//NONSGML v1.0//EN
CALSCALE:GREGORIAN
METHOD:PUBLISH
X-WR-CALNAME:Südtirol Dolomiten Touren
X-ORIGINAL-URL:https://xn--sdtirol-dolomiten-touren-vsc.com/?lang=en
X-WR-CALDESC:Events for Südtirol Dolomiten Touren
REFRESH-INTERVAL;VALUE=DURATION:PT1H
X-Robots-Tag:noindex
X-PUBLISHED-TTL:PT1H
BEGIN:VTIMEZONE
TZID:Europe/Berlin
BEGIN:DAYLIGHT
TZOFFSETFROM:+0100
TZOFFSETTO:+0200
TZNAME:CEST
DTSTART:20250330T010000
END:DAYLIGHT
BEGIN:STANDARD
TZOFFSETFROM:+0200
TZOFFSETTO:+0100
TZNAME:CET
DTSTART:20251026T010000
END:STANDARD
BEGIN:DAYLIGHT
TZOFFSETFROM:+0100
TZOFFSETTO:+0200
TZNAME:CEST
DTSTART:20260329T010000
END:DAYLIGHT
BEGIN:STANDARD
TZOFFSETFROM:+0200
TZOFFSETTO:+0100
TZNAME:CET
DTSTART:20261025T010000
END:STANDARD
BEGIN:DAYLIGHT
TZOFFSETFROM:+0100
TZOFFSETTO:+0200
TZNAME:CEST
DTSTART:20270328T010000
END:DAYLIGHT
BEGIN:STANDARD
TZOFFSETFROM:+0200
TZOFFSETTO:+0100
TZNAME:CET
DTSTART:20271031T010000
END:STANDARD
END:VTIMEZONE
BEGIN:VEVENT
DTSTART;VALUE=DATE:20260926
DTEND;VALUE=DATE:20261001
DTSTAMP:20260420T181504
CREATED:20251120T124734Z
LAST-MODIFIED:20251120T124943Z
UID:10000280-1790380800-1790812799@xn--sdtirol-dolomiten-touren-vsc.com
SUMMARY:South Tyrol Panorama Drive
DESCRIPTION:€755 per person in a double room – 4 x half board – 3 impressive days of travel \n\nAn experience blending Dolomite magic and South Tyrolean joie de vivre\nImagine closing your car door in the morning\, the engine starting smoothly\, and before you stretching those roads you usually only dream of. On the South Tyrol Panorama Drive\, you’ll experience precisely these routes – guided by Helmut Leitner\, better known as TRIENTNA \, the man who knows every curve of the Dolomites as well as others know their own backyard.  \n\nPanoramas that get under your skin\nThree days of driving packed with highlights: majestic mountain ranges\, adventurous high-altitude roads\, sun-drenched valleys\, and breathtaking views. Each stage has been carefully chosen to let you experience the real\, authentic South Tyrol – intense\, visually stunning\, and absolutely unforgettable.  \nDrive – Enjoy – Switch off\nBetween stages\, a carefully selected lunch awaits you each day\, capturing the flavors of the region. In the evenings\, you return to Hotel Leitner – your haven of comfort for this tour. After an eventful day\, you can enjoy a four-course meal here\, relax\, laugh\, and let the day’s experiences sink in.   \nExpertly guided and captivatingly told\nTRIENTNA doesn’t just lead a tour – he lives it. With his warm personality\, his deep knowledge of the region\, and his passion for driving\, he turns every leg into a mini-adventure. You don’t have to worry about a thing – just drive and enjoy.   \n\nServices at a glance\n\n4 nights at Hotel Leitner\n – including a generous breakfast – including a delicious half-board evening menu  \n3 spectacular days of driving\n – carefully selected panoramic routes\n – guided tour with TRIENTNA\nLunch on all travel days\nDreamlike South Tyrol and Dolomite scenery\nCommunity\, driving fun & unforgettable moments\n\n\nWhy this tour?\nBecause here you get exactly what makes a perfect road trip:\nDriving pleasure\, panoramic views\, enjoyment – all packaged in an experience that lingers long after. \n\nIf you’re ready for five days you won’t soon forget\, then the South Tyrol Panorama Drive is your very own highlight in autumn 2026.
URL:https://xn--sdtirol-dolomiten-touren-vsc.com/veranstaltung/south-tyrol-panorama-drive/?lang=en
LOCATION:Hotel Leitner\, Katharina Lanz Street 83\, Mühlbach (BZ)\, 39037\, Italien
ATTACH;FMTTYPE=image/jpeg:https://xn--sdtirol-dolomiten-touren-vsc.com/wp-content/uploads/2022/08/Dolomiten-andersT-tour.jpeg
END:VEVENT
BEGIN:VEVENT
DTSTART;VALUE=DATE:20260930
DTEND;VALUE=DATE:20261005
DTSTAMP:20260420T181504
CREATED:20221113T191154Z
LAST-MODIFIED:20251120T125430Z
UID:10000209-1790726400-1791158399@xn--sdtirol-dolomiten-touren-vsc.com
SUMMARY:Törggelen curves in South Tyrol: Autumn magic in the Dolomites
DESCRIPTION:Törggelen Curves South Tyrol – 30.09. to 04.10.2026 \n\n\n\n\n\n\n4 nights half board – 3 days of travel – incl. traditional Törggele lunch \n€660 per person in a double room\nLed by  Helmut Leitner – TRIENTNA \n\nAn autumn tour that will make your heart and palate beat faster\nAnyone who loves South Tyrol will adore this tour. When the mountains shimmer golden\, the chestnuts are ripe\, and the wineries open their doors\, one of the region’s most beautiful traditions begins: Törggelen . And it’s in this very atmosphere that we’ll whisk you away on an unforgettable road trip through the Dolomites – full of delights\, breathtaking panoramas\, and pure joie de vivre.   \n\nThree fantastic days of driving\nHelmut Leitner – better known as TRIENTNA – personally guides you over winding mountain passes\, quiet side valleys and viewpoints where you automatically reach for your camera.\nEach driving day is carefully planned\, balanced and ideal for connoisseurs seeking both driving experience and South Tyrolean lifestyle . \n\nHighlight: Törggele lunch\nOne day is dedicated entirely to tradition:\n Roasted chestnuts\, sweet grape must\, Schlutzkrapfen (filled pasta)\, cured meat\, dumplings\, apple fritters – all this in a rustic wine tavern\, the kind you only find if you really know South Tyrol.\nHelmut knows the best spots – and that’s exactly where you’ll stop. \n\nFeel at home – at Hotel Leitner\nFour nights half board means: \n\ncomfortable rooms\nwarm hospitality\nrich breakfast\nEnjoyable menus in the evening\nA relaxed end to the day in a family atmosphere\n\nYou arrive\, get out of the car – and immediately feel like you’ve arrived. \n\nWhy this tour in particular?\nBecause it offers the perfect mix of:\n\nCurve-riding adventures in the Dolomites\nCulinary moments that one never forgets\nrelaxing evenings at the hotel\nrelaxed\, authentic atmosphere\n\nAnd of course\, because you’re traveling with TRIENTNA – a guide who not only knows South Tyrol\, but lives it. \n\n📌 Tour facts at a glance\n📅 Date: September 30th – October 4\, 2026 \n🛏️ 4 x half board at Hotel Leitner\n🚗 3 days of driving through South Tyrol\n🥘 Includes traditional Törggele lunch \n💶 Price: €660 per person in a double room\n👤 Guided tour by Helmut Leitner (TRIENTNA)\n\nAre you ready for autumn magic\, South Tyrolean style?\nThis tour is perfect for anyone who loves enjoyment\, culture and dreamlike routes.\nWant to book or ask questions? I’m ready!
URL:https://xn--sdtirol-dolomiten-touren-vsc.com/veranstaltung/south-tyrol-toerggelen-tours/?lang=en
LOCATION:Hotel Leitner\, Katharina Lanz Street 83\, Mühlbach (BZ)\, 39037\, Italien
CATEGORIES:tours
ATTACH;FMTTYPE=image/jpeg:https://xn--sdtirol-dolomiten-touren-vsc.com/wp-content/uploads/2022/08/Toerggelen.jpg
END:VEVENT
BEGIN:VEVENT
DTSTART;VALUE=DATE:20261004
DTEND;VALUE=DATE:20261009
DTSTAMP:20260420T181504
CREATED:20250112T110223Z
LAST-MODIFIED:20251222T094359Z
UID:10000271-1791072000-1791503999@xn--sdtirol-dolomiten-touren-vsc.com
SUMMARY:Trientna's Tour – Car tour through the Dolomites
DESCRIPTION:TRIENTNA’S Tour – Enjoy South Tyrol & the Dolomites\nOctober 4–8\, 2026 | 4 days | Half board | €777 per person in a double room \nArrive. Breathe. Experience.  \nWhen autumn bathes the Dolomites in golden hues and the mountains unfold their tranquility\, TRIENTNA’s tour begins. This journey is more than just a drive through South Tyrol – it’s a feast for all the senses .  \nTogether\, we’ll discover the most beautiful parts of the Dolomites on three guided driving tours . You’ll drive in a relaxed atmosphere\, without planning or stress – guided by Helmut Leitner (TRIENTNA) \, who knows and loves the region. Along the way\, you can expect breathtaking panoramas \, carefully selected routes\, and shared lunches where culinary delights are also guaranteed.   \nIn the evening we return to the cozy Hotel Leitner \, where a pleasant atmosphere and half-board await you. A place to unwind\, connect with others\, and look forward to the next day.  \n\nThis is included for you\n\nOctober 4–8\, 2026 – 4 relaxing days of travel\nOvernight stay at Hotel Leitner\nHalf board\n3 guided South Tyrol-Dolomites car tours\n3 lunches during the tours\nPersonal tour guide: Helmut Leitner (TRIENTNA)\n\n\nThe price\n€777 per person in a double room \nA complete package of scenery\, enjoyment\, guidance and community – without hidden costs. \n\nImportant to know\nThe tour planning is carried out with the utmost care \, however the following applies: 👉 No guarantee can be given for the exact tour route \, as the routes may change at short notice due to weather conditions or for organizational reasons . However\, the goal always remains the same: the most beautiful and safest routes through South Tyrol and the Dolomites . \n\nWho is this trip perfect for?\n\nFor connoisseurs who want to experience South Tyrol without the hustle and bustle.\nFor those who appreciate guided car tours and good organization\nFor people who prefer to experience rather than plan\n\n\nInterested?\nThen secure your place on TRIENTNA’s tour in October 2026 and look forward to days full of views\, enjoyment and real Dolomite moments. You don’t book this trip because of the program – you book it because of the feeling that stays with you.
URL:https://xn--sdtirol-dolomiten-touren-vsc.com/veranstaltung/trientnas-tour-car-tour-through-the-dolomites/?lang=en
LOCATION:Hotel Leitner\, Katharina Lanz Street 83\, Mühlbach (BZ)\, 39037\, Italien
CATEGORIES:tours
ATTACH;FMTTYPE=image/jpeg:https://xn--sdtirol-dolomiten-touren-vsc.com/wp-content/uploads/2022/07/trientna-286-1425x807-1.jpg
END:VEVENT
END:VCALENDAR