BEGIN:VCALENDAR
VERSION:2.0
PRODID:-//Südtirol Dolomiten Touren - ECPv6.15.20//NONSGML v1.0//EN
CALSCALE:GREGORIAN
METHOD:PUBLISH
X-ORIGINAL-URL:https://xn--sdtirol-dolomiten-touren-vsc.com/?lang=en
X-WR-CALDESC:Events for Südtirol Dolomiten Touren
REFRESH-INTERVAL;VALUE=DURATION:PT1H
X-Robots-Tag:noindex
X-PUBLISHED-TTL:PT1H
BEGIN:VTIMEZONE
TZID:Europe/Berlin
BEGIN:DAYLIGHT
TZOFFSETFROM:+0100
TZOFFSETTO:+0200
TZNAME:CEST
DTSTART:20250330T010000
END:DAYLIGHT
BEGIN:STANDARD
TZOFFSETFROM:+0200
TZOFFSETTO:+0100
TZNAME:CET
DTSTART:20251026T010000
END:STANDARD
BEGIN:DAYLIGHT
TZOFFSETFROM:+0100
TZOFFSETTO:+0200
TZNAME:CEST
DTSTART:20260329T010000
END:DAYLIGHT
BEGIN:STANDARD
TZOFFSETFROM:+0200
TZOFFSETTO:+0100
TZNAME:CET
DTSTART:20261025T010000
END:STANDARD
BEGIN:DAYLIGHT
TZOFFSETFROM:+0100
TZOFFSETTO:+0200
TZNAME:CEST
DTSTART:20270328T010000
END:DAYLIGHT
BEGIN:STANDARD
TZOFFSETFROM:+0200
TZOFFSETTO:+0100
TZNAME:CET
DTSTART:20271031T010000
END:STANDARD
END:VTIMEZONE
BEGIN:VEVENT
DTSTART;VALUE=DATE:20260919
DTEND;VALUE=DATE:20260923
DTSTAMP:20260420T164000
CREATED:20251120T070910Z
LAST-MODIFIED:20251120T124006Z
UID:10000115-1789776000-1790121599@xn--sdtirol-dolomiten-touren-vsc.com
SUMMARY:Tiki-Taka Tour - Short passing game on hot hoops
DESCRIPTION:Tiki Taka Car Tour – September 19-22\, 2026\nPrice: €577 per person in a double room\n2 days of travel – 3 nights with half board at Hotel Leitner\nLed by Helmut Leitner – TRIENTNA \n\nGet in\, sit back and rediscover South Tyrol\nThe Tiki Taka car tour is perfect for anyone who loves winding roads but wants to travel comfortably in a car. It’s about relaxed driving\, breathtaking landscapes\, and the feeling of experiencing something special together.\n And right in the middle: Helmut Leitner (TRIENTNA) – your personal guide through his homeland.  \n\nWhat makes this tour so special?\nTwo days of driving with variety and WOW moments\nHelmut will guide you on routes that you would hardly find without local knowledge.\nYou drive through valleys\, over mountain passes\, past small villages and viewpoints that you would otherwise only know from picture books.\nEverything at a comfortable pace – the journey is the destination. \nSouth Tyrol’s beauty from the best perspective\nBy car you can enjoy every curve\, every view of the Dolomites and every landscape that opens up before you.\nHelmut will show you: \n\nquiet side valleys away from the well-known tourist routes\nselected panoramic viewpoints\ncharming places that have retained their original character\nincluding lunch\n\n\nEvenings to enjoy – Hotel Leitner\nYour base camp is the cozy Hotel Leitner \, where you will spend three relaxing evenings.\nLook forward to: \n\na delicious evening meal\ncomfortable rooms\na family atmosphere\ngood conversations about the day’s experiences\n\nThis is a wonderful place to arrive\, rest and recharge your batteries. \n\nWho is the Tiki Taka car tour for?\nFor all those who enjoy traveling together and want to discover South Tyrol in a peaceful\, enjoyable way.\nFor couples\, friends or small groups who want to combine driving pleasure\, nature and comfort.\nFor all those who say:  “I want to experience the Dolomites – but in a relaxed way.” \n\nWhy you should be there\nBecause Helmut knows the roads like almost no one else – and because he knows exactly what makes a tour unforgettable.\nIt’s the mix of scenery\, good company\, relaxed stages and genuine insider tips. \n\nSecure your spot now\nThe number of participants is limited to keep the tour personal and enjoyable.\nIf you fancy two wonderful days of driving and want to experience South Tyrol in a completely different way\, then this tour is waiting for you. \nHelmut is looking forward to having you there!
URL:https://xn--sdtirol-dolomiten-touren-vsc.com/veranstaltung/tiki-taka-tour/?lang=en
LOCATION:Hotel Leitner\, Katharina Lanz Street 83\, Mühlbach (BZ)\, 39037\, Italien
CATEGORIES:tours
ATTACH;FMTTYPE=image/jpeg:https://xn--sdtirol-dolomiten-touren-vsc.com/wp-content/uploads/2022/08/Tiki-Taka-Tour-–-Kurzpassspiel-auf-heissen-Reifen.jpg
END:VEVENT
BEGIN:VEVENT
DTSTART;VALUE=DATE:20260926
DTEND;VALUE=DATE:20261001
DTSTAMP:20260420T164001
CREATED:20251120T124734Z
LAST-MODIFIED:20251120T124943Z
UID:10000280-1790380800-1790812799@xn--sdtirol-dolomiten-touren-vsc.com
SUMMARY:South Tyrol Panorama Drive
DESCRIPTION:€755 per person in a double room – 4 x half board – 3 impressive days of travel \n\nAn experience blending Dolomite magic and South Tyrolean joie de vivre\nImagine closing your car door in the morning\, the engine starting smoothly\, and before you stretching those roads you usually only dream of. On the South Tyrol Panorama Drive\, you’ll experience precisely these routes – guided by Helmut Leitner\, better known as TRIENTNA \, the man who knows every curve of the Dolomites as well as others know their own backyard.  \n\nPanoramas that get under your skin\nThree days of driving packed with highlights: majestic mountain ranges\, adventurous high-altitude roads\, sun-drenched valleys\, and breathtaking views. Each stage has been carefully chosen to let you experience the real\, authentic South Tyrol – intense\, visually stunning\, and absolutely unforgettable.  \nDrive – Enjoy – Switch off\nBetween stages\, a carefully selected lunch awaits you each day\, capturing the flavors of the region. In the evenings\, you return to Hotel Leitner – your haven of comfort for this tour. After an eventful day\, you can enjoy a four-course meal here\, relax\, laugh\, and let the day’s experiences sink in.   \nExpertly guided and captivatingly told\nTRIENTNA doesn’t just lead a tour – he lives it. With his warm personality\, his deep knowledge of the region\, and his passion for driving\, he turns every leg into a mini-adventure. You don’t have to worry about a thing – just drive and enjoy.   \n\nServices at a glance\n\n4 nights at Hotel Leitner\n – including a generous breakfast – including a delicious half-board evening menu  \n3 spectacular days of driving\n – carefully selected panoramic routes\n – guided tour with TRIENTNA\nLunch on all travel days\nDreamlike South Tyrol and Dolomite scenery\nCommunity\, driving fun & unforgettable moments\n\n\nWhy this tour?\nBecause here you get exactly what makes a perfect road trip:\nDriving pleasure\, panoramic views\, enjoyment – all packaged in an experience that lingers long after. \n\nIf you’re ready for five days you won’t soon forget\, then the South Tyrol Panorama Drive is your very own highlight in autumn 2026.
URL:https://xn--sdtirol-dolomiten-touren-vsc.com/veranstaltung/south-tyrol-panorama-drive/?lang=en
LOCATION:Hotel Leitner\, Katharina Lanz Street 83\, Mühlbach (BZ)\, 39037\, Italien
ATTACH;FMTTYPE=image/jpeg:https://xn--sdtirol-dolomiten-touren-vsc.com/wp-content/uploads/2022/08/Dolomiten-andersT-tour.jpeg
END:VEVENT
END:VCALENDAR