BEGIN:VCALENDAR
VERSION:2.0
PRODID:-//Südtirol Dolomiten Touren - ECPv6.15.20//NONSGML v1.0//EN
CALSCALE:GREGORIAN
METHOD:PUBLISH
X-WR-CALNAME:Südtirol Dolomiten Touren
X-ORIGINAL-URL:https://xn--sdtirol-dolomiten-touren-vsc.com/?lang=en
X-WR-CALDESC:Events for Südtirol Dolomiten Touren
REFRESH-INTERVAL;VALUE=DURATION:PT1H
X-Robots-Tag:noindex
X-PUBLISHED-TTL:PT1H
BEGIN:VTIMEZONE
TZID:Europe/Berlin
BEGIN:DAYLIGHT
TZOFFSETFROM:+0100
TZOFFSETTO:+0200
TZNAME:CEST
DTSTART:20250330T010000
END:DAYLIGHT
BEGIN:STANDARD
TZOFFSETFROM:+0200
TZOFFSETTO:+0100
TZNAME:CET
DTSTART:20251026T010000
END:STANDARD
BEGIN:DAYLIGHT
TZOFFSETFROM:+0100
TZOFFSETTO:+0200
TZNAME:CEST
DTSTART:20260329T010000
END:DAYLIGHT
BEGIN:STANDARD
TZOFFSETFROM:+0200
TZOFFSETTO:+0100
TZNAME:CET
DTSTART:20261025T010000
END:STANDARD
BEGIN:DAYLIGHT
TZOFFSETFROM:+0100
TZOFFSETTO:+0200
TZNAME:CEST
DTSTART:20270328T010000
END:DAYLIGHT
BEGIN:STANDARD
TZOFFSETFROM:+0200
TZOFFSETTO:+0100
TZNAME:CET
DTSTART:20271031T010000
END:STANDARD
END:VTIMEZONE
BEGIN:VEVENT
DTSTART;VALUE=DATE:20260830
DTEND;VALUE=DATE:20260903
DTSTAMP:20260420T214203
CREATED:20251113T121938Z
LAST-MODIFIED:20251125T132732Z
UID:10000276-1788048000-1788393599@xn--sdtirol-dolomiten-touren-vsc.com
SUMMARY:Curves & Culinary Delights
DESCRIPTION:Curves & Culinary Delights – August 30 to September 2\, 2026 \nLed by Helmut Leitner – TRIENTNA\nMaximum 10 vehicles | €666 per person | Exclusive gourmet tour\n\nA tour that delights the heart\, palate\, and throttle grip alike.\nImagine gliding through the spectacular Dolomites\, breathing in the scent of the mountain landscape\, and knowing that not only will the next bend be a delight\, but so will what lands on your plate later. That’s exactly what awaits you on our legendary “Curves & Culinary Delights” tour .  \nThis experience is led by Helmut Leitner\, better known as TRIENTNA – a guide who knows every road\, every hut and every insider tip personally. And in the evening? Arrive and enjoy at Hotel Leitner \, your home for three nights\, pampered with half board and genuine South Tyrolean hospitality.  \n\nWhat to expect\n🏔️ Two full days of driving – curves\, passes & panoramic views\nYou will experience South Tyrol and the Dolomites at their most beautiful: \n\nhand-picked routes\nwinding Alpine passes\nPanoramic routes away from mass tourism\nRelaxed stops for coffee\, photos & views\n\nHelmut will guide you safely\, calmly and with great passion – nobody will be left behind\, and every kilometer counts. \n\n🍝 Culinary delights at their finest\nSouth Tyrol is a paradise for gourmets. On this tour you will experience:  \n\nregional specialties\nSophisticated menu combinations in the evening at the hotel\nTypical Alpine\, Mediterranean-inspired aromas\nselected rest stops\n\nHere\, food becomes a pleasure – and pleasure becomes a holiday moment that lasts. \n\n🏨 Three nights at Hotel Leitner – including half board\nAfter a perfect day of driving\, it means: \n\nrelax\narrive\nenjoy\n\nHotel Leitner offers comfortable rooms\, first-class cuisine and an atmosphere where you immediately feel at ease. \n\nImportant to know\n🔢 Limited number of participants\nMax. 10 vehicles – deliberately kept small to ensure the group remains harmonious and everyone enjoys a personal experience. \n💶 Price\n€666 per person in a double roomIncl. 3x half board + guided tours + complete activity program \n📅 Appointment\nAugust 30 to September 2\, 2026 \n\nWhy you shouldn’t miss this tour\n✔ Exclusive small group\nMore driving pleasure\, more safety\, more personal support. \n✔ Driving passion meets enjoyment\nA rare mix that will make your days intense and unforgettable. \n✔ Helmut / TRIENTNA – your guide\nWith years of experience\, a calm driving style and a deep-rooted love for his homeland. \n✔ Perfect for those seeking something special\nNo standard tour. No mass tourism. Instead\, genuine experiences.   \n\nReady for an unforgettable curves and culinary experience?\nWhen you book this tour\, you’re not just booking a ride – You book moments that will bring a smile to your face for a long time to come.
URL:https://xn--sdtirol-dolomiten-touren-vsc.com/veranstaltung/curves-culinary-delights/?lang=en
LOCATION:Hotel Leitner\, Katharina Lanz Street 83\, Mühlbach (BZ)\, 39037\, Italien
ATTACH;FMTTYPE=image/jpeg:https://xn--sdtirol-dolomiten-touren-vsc.com/wp-content/uploads/2022/08/Genuss-Tour-2022-Touren-mit-dem-Auto-Dolomiten-Suedtirol4.jpg
END:VEVENT
BEGIN:VEVENT
DTSTART;VALUE=DATE:20260902
DTEND;VALUE=DATE:20260907
DTSTAMP:20260420T214203
CREATED:20260125T120556Z
LAST-MODIFIED:20260129T115234Z
UID:10000331-1788307200-1788739199@xn--sdtirol-dolomiten-touren-vsc.com
SUMMARY:Dream cars against a dream backdrop
DESCRIPTION:The Dolomites classics in 3 days – to experience\, enjoy\, and remember.\nSometimes one look at the mountains is enough – and you know: This is where I want to go.\n Curve after curve\, that special Dolomite flow\, plus light that makes your car look like it came from a design study. That’s exactly what “Dream Cars Against a Dream Backdrop” is made for: for everyone who doesn’t just want to drive any old loop\, but collects the classics – Sella\, Misurina\, Giau\, Fedaia\, Mendel and more.  \nThis is not a mass event. This is an experience for people who love driving culture \, celebrate aesthetics \, and want to say at the end of the day with a broad grin: “That was truly fantastic.”  \n\nDolomite Highlights\nThe classic cars you absolutely have to drive.\nLook forward to legendary routes and places that will leave a lasting impression – and that look just as good in photos as they do in real life: \n\nSella – a legendary mountain pass that awakens every driver’s heart\nMisurina – a postcard-perfect setting that will make you momentarily silent.\nGiau – pure panorama\, with addictive curves\nFedaia – dramatic\, powerful\, unforgettable\nMendel et al. – the perfect addition to your classic collection\n\nAnd the best part: We’re not in a rush. We plan so that you have time for photo stops\, enjoyment\, and genuine moments .  \n\nWhat makes this tour special\nDriving pleasure with a sense of timing\nWe drive when it’s at its best – and stop where your car becomes a stage . \nDream spots for stunning photos\nNot just “stopping somewhere briefly\,” but staging it deliberately : light\, line\, backdrop – and there you have a lasting memory. \nEnjoyment included\nA day in the Dolomites also needs proper breaks. That’s why lunch is included in the guided tours .  \n\nIncluded services & price\nService package\n\n4x half board (HP)\n3 guided tours including lunch \nOvernight stay: evening at Hotel Leitner **\nLed by: Helmut Leitner (TRIENTNA)\nLunch included\n\nPrice\n€799 per person in a double room (DZ) \n\nWho is “Dream Cars in a Dream Setting” for?\nFor everyone who doesn’t want to “tick off” the Dolomites\, but truly experience them .\nFor people who love classics – and who wish to sit in their hotel in the evening\, review the day and think:  “That’s exactly how it should be.” \n\nSecure your spot now\nIf you want to collect the Dolomite classics – with guidance\, comfort and enjoyment – ​​then this is your tour.\nSecure your spot and make your dream car the starring role against the most beautiful backdrop of the Alps.
URL:https://xn--sdtirol-dolomiten-touren-vsc.com/veranstaltung/8905/?lang=en
LOCATION:Hotel Leitner\, Katharina Lanz Street 83\, Mühlbach (BZ)\, 39037\, Italien
CATEGORIES:tours
ATTACH;FMTTYPE=image/jpeg:https://xn--sdtirol-dolomiten-touren-vsc.com/wp-content/uploads/2022/08/Touren-mit-dem-Auto-durch-die-Dolomiten-Traumautos-vor-Traumkulisse-7.jpg
END:VEVENT
BEGIN:VEVENT
DTSTART;VALUE=DATE:20260906
DTEND;VALUE=DATE:20260910
DTSTAMP:20260420T214203
CREATED:20260125T121323Z
LAST-MODIFIED:20260125T121339Z
UID:10000334-1788652800-1788998399@xn--sdtirol-dolomiten-touren-vsc.com
SUMMARY:GARAGE Blanc with friends in the Dolomites
DESCRIPTION:GARAGE Blanc & Friends – family-run\, stylish\, and enjoyable. Picture-perfect Dolomites.\nLed by: Helmut Leitner (TRIENTNA)\nOvernight stay: evening at the Hotel Leitner****\nLunch included
URL:https://xn--sdtirol-dolomiten-touren-vsc.com/veranstaltung/garage-blanc-with-friends-in-the-dolomites/?lang=en
LOCATION:Hotel Leitner\, Katharina Lanz Street 83\, Mühlbach (BZ)\, 39037\, Italien
CATEGORIES:tours
ATTACH;FMTTYPE=image/jpeg:https://xn--sdtirol-dolomiten-touren-vsc.com/wp-content/uploads/2022/10/Autotour-Mighty-Dolomiti-2022-Suedtirol-Dolomiten-Touren-3.jpg
END:VEVENT
END:VCALENDAR