BEGIN:VCALENDAR
VERSION:2.0
PRODID:-//Südtirol Dolomiten Touren - ECPv6.15.20//NONSGML v1.0//EN
CALSCALE:GREGORIAN
METHOD:PUBLISH
X-WR-CALNAME:Südtirol Dolomiten Touren
X-ORIGINAL-URL:https://xn--sdtirol-dolomiten-touren-vsc.com/?lang=en
X-WR-CALDESC:Events for Südtirol Dolomiten Touren
REFRESH-INTERVAL;VALUE=DURATION:PT1H
X-Robots-Tag:noindex
X-PUBLISHED-TTL:PT1H
BEGIN:VTIMEZONE
TZID:Europe/Berlin
BEGIN:DAYLIGHT
TZOFFSETFROM:+0100
TZOFFSETTO:+0200
TZNAME:CEST
DTSTART:20250330T010000
END:DAYLIGHT
BEGIN:STANDARD
TZOFFSETFROM:+0200
TZOFFSETTO:+0100
TZNAME:CET
DTSTART:20251026T010000
END:STANDARD
BEGIN:DAYLIGHT
TZOFFSETFROM:+0100
TZOFFSETTO:+0200
TZNAME:CEST
DTSTART:20260329T010000
END:DAYLIGHT
BEGIN:STANDARD
TZOFFSETFROM:+0200
TZOFFSETTO:+0100
TZNAME:CET
DTSTART:20261025T010000
END:STANDARD
BEGIN:DAYLIGHT
TZOFFSETFROM:+0100
TZOFFSETTO:+0200
TZNAME:CEST
DTSTART:20270328T010000
END:DAYLIGHT
BEGIN:STANDARD
TZOFFSETFROM:+0200
TZOFFSETTO:+0100
TZNAME:CET
DTSTART:20271031T010000
END:STANDARD
END:VTIMEZONE
BEGIN:VEVENT
DTSTART;VALUE=DATE:20260823
DTEND;VALUE=DATE:20260828
DTSTAMP:20260420T214203
CREATED:20260125T120257Z
LAST-MODIFIED:20260125T120257Z
UID:10000324-1787443200-1787875199@xn--sdtirol-dolomiten-touren-vsc.com
SUMMARY:Porsche 9XX Friends
DESCRIPTION:9XX enthusiasts on tour – iconic routes\, legendary passes\, photo stops guaranteed.\n Led by: Helmut Leitner (TRIENTNA)\n Overnight stay: evening at the Hotel Leitner****\n Lunch included
URL:https://xn--sdtirol-dolomiten-touren-vsc.com/veranstaltung/porsche-9xx-friends/?lang=en
LOCATION:Hotel Leitner\, Katharina Lanz Street 83\, Mühlbach (BZ)\, 39037\, Italien
CATEGORIES:tours
ATTACH;FMTTYPE=image/jpeg:https://xn--sdtirol-dolomiten-touren-vsc.com/wp-content/uploads/2023/11/Porsche-Club-Freunde.jpg
END:VEVENT
BEGIN:VEVENT
DTSTART;VALUE=DATE:20260827
DTEND;VALUE=DATE:20260831
DTSTAMP:20260420T214203
CREATED:20260125T120400Z
LAST-MODIFIED:20260125T120400Z
UID:10000327-1787788800-1788134399@xn--sdtirol-dolomiten-touren-vsc.com
SUMMARY:Mercedes Benz Austria – on the hunt for truffles
DESCRIPTION:Pleasure & Panorama: Mercedes-Benz Austria combines fine routes with the theme of truffle hunting – a culinary vibe in late summer.\n Led by: Helmut Leitner (TRIENTNA)\n Overnight stay: evening at the Hotel Leitner****\n Lunch included
URL:https://xn--sdtirol-dolomiten-touren-vsc.com/veranstaltung/mercedes-benz-austria-on-the-hunt-for-truffles/?lang=en
LOCATION:Hotel Leitner\, Katharina Lanz Street 83\, Mühlbach (BZ)\, 39037\, Italien
CATEGORIES:tours
ATTACH;FMTTYPE=image/jpeg:https://xn--sdtirol-dolomiten-touren-vsc.com/wp-content/uploads/2022/09/Mercedes-Benz-SL-Club-Austria-209.jpg
END:VEVENT
BEGIN:VEVENT
DTSTART;VALUE=DATE:20260830
DTEND;VALUE=DATE:20260903
DTSTAMP:20260420T214203
CREATED:20251113T121938Z
LAST-MODIFIED:20251125T132732Z
UID:10000276-1788048000-1788393599@xn--sdtirol-dolomiten-touren-vsc.com
SUMMARY:Curves & Culinary Delights
DESCRIPTION:Curves & Culinary Delights – August 30 to September 2\, 2026 \nLed by Helmut Leitner – TRIENTNA\nMaximum 10 vehicles | €666 per person | Exclusive gourmet tour\n\nA tour that delights the heart\, palate\, and throttle grip alike.\nImagine gliding through the spectacular Dolomites\, breathing in the scent of the mountain landscape\, and knowing that not only will the next bend be a delight\, but so will what lands on your plate later. That’s exactly what awaits you on our legendary “Curves & Culinary Delights” tour .  \nThis experience is led by Helmut Leitner\, better known as TRIENTNA – a guide who knows every road\, every hut and every insider tip personally. And in the evening? Arrive and enjoy at Hotel Leitner \, your home for three nights\, pampered with half board and genuine South Tyrolean hospitality.  \n\nWhat to expect\n🏔️ Two full days of driving – curves\, passes & panoramic views\nYou will experience South Tyrol and the Dolomites at their most beautiful: \n\nhand-picked routes\nwinding Alpine passes\nPanoramic routes away from mass tourism\nRelaxed stops for coffee\, photos & views\n\nHelmut will guide you safely\, calmly and with great passion – nobody will be left behind\, and every kilometer counts. \n\n🍝 Culinary delights at their finest\nSouth Tyrol is a paradise for gourmets. On this tour you will experience:  \n\nregional specialties\nSophisticated menu combinations in the evening at the hotel\nTypical Alpine\, Mediterranean-inspired aromas\nselected rest stops\n\nHere\, food becomes a pleasure – and pleasure becomes a holiday moment that lasts. \n\n🏨 Three nights at Hotel Leitner – including half board\nAfter a perfect day of driving\, it means: \n\nrelax\narrive\nenjoy\n\nHotel Leitner offers comfortable rooms\, first-class cuisine and an atmosphere where you immediately feel at ease. \n\nImportant to know\n🔢 Limited number of participants\nMax. 10 vehicles – deliberately kept small to ensure the group remains harmonious and everyone enjoys a personal experience. \n💶 Price\n€666 per person in a double roomIncl. 3x half board + guided tours + complete activity program \n📅 Appointment\nAugust 30 to September 2\, 2026 \n\nWhy you shouldn’t miss this tour\n✔ Exclusive small group\nMore driving pleasure\, more safety\, more personal support. \n✔ Driving passion meets enjoyment\nA rare mix that will make your days intense and unforgettable. \n✔ Helmut / TRIENTNA – your guide\nWith years of experience\, a calm driving style and a deep-rooted love for his homeland. \n✔ Perfect for those seeking something special\nNo standard tour. No mass tourism. Instead\, genuine experiences.   \n\nReady for an unforgettable curves and culinary experience?\nWhen you book this tour\, you’re not just booking a ride – You book moments that will bring a smile to your face for a long time to come.
URL:https://xn--sdtirol-dolomiten-touren-vsc.com/veranstaltung/curves-culinary-delights/?lang=en
LOCATION:Hotel Leitner\, Katharina Lanz Street 83\, Mühlbach (BZ)\, 39037\, Italien
ATTACH;FMTTYPE=image/jpeg:https://xn--sdtirol-dolomiten-touren-vsc.com/wp-content/uploads/2022/08/Genuss-Tour-2022-Touren-mit-dem-Auto-Dolomiten-Suedtirol4.jpg
END:VEVENT
END:VCALENDAR