BEGIN:VCALENDAR
VERSION:2.0
PRODID:-//Südtirol Dolomiten Touren - ECPv6.15.20//NONSGML v1.0//EN
CALSCALE:GREGORIAN
METHOD:PUBLISH
X-WR-CALNAME:Südtirol Dolomiten Touren
X-ORIGINAL-URL:https://xn--sdtirol-dolomiten-touren-vsc.com/?lang=en
X-WR-CALDESC:Events for Südtirol Dolomiten Touren
REFRESH-INTERVAL;VALUE=DURATION:PT1H
X-Robots-Tag:noindex
X-PUBLISHED-TTL:PT1H
BEGIN:VTIMEZONE
TZID:Europe/Berlin
BEGIN:DAYLIGHT
TZOFFSETFROM:+0100
TZOFFSETTO:+0200
TZNAME:CEST
DTSTART:20250330T010000
END:DAYLIGHT
BEGIN:STANDARD
TZOFFSETFROM:+0200
TZOFFSETTO:+0100
TZNAME:CET
DTSTART:20251026T010000
END:STANDARD
BEGIN:DAYLIGHT
TZOFFSETFROM:+0100
TZOFFSETTO:+0200
TZNAME:CEST
DTSTART:20260329T010000
END:DAYLIGHT
BEGIN:STANDARD
TZOFFSETFROM:+0200
TZOFFSETTO:+0100
TZNAME:CET
DTSTART:20261025T010000
END:STANDARD
BEGIN:DAYLIGHT
TZOFFSETFROM:+0100
TZOFFSETTO:+0200
TZNAME:CEST
DTSTART:20270328T010000
END:DAYLIGHT
BEGIN:STANDARD
TZOFFSETFROM:+0200
TZOFFSETTO:+0100
TZNAME:CET
DTSTART:20271031T010000
END:STANDARD
END:VTIMEZONE
BEGIN:VEVENT
DTSTART;VALUE=DATE:20260510
DTEND;VALUE=DATE:20260515
DTSTAMP:20260422T185945
CREATED:20260125T111405Z
LAST-MODIFIED:20260129T121714Z
UID:10000297-1778371200-1778803199@xn--sdtirol-dolomiten-touren-vsc.com
SUMMARY:WERK 96 – Porsche 996 Update
DESCRIPTION:WERK 96 Tour focusing on the “update” of the Porsche 996 to “better” technology (chassis\, components\, etc.) – driving-active\, technically exciting\, pure Dolomites.\n Led by: Helmut Leitner (TRIENTNA)\n Overnight stay: evening at the Hotel Leitner****\n Lunch included
URL:https://xn--sdtirol-dolomiten-touren-vsc.com/veranstaltung/werk-96-porsche-996-update/?lang=en
LOCATION:Hotel Leitner\, Katharina Lanz Street 83\, Mühlbach (BZ)\, 39037\, Italien
ATTACH;FMTTYPE=image/jpeg:https://xn--sdtirol-dolomiten-touren-vsc.com/wp-content/uploads/2026/01/Porsche-996.jpg
END:VEVENT
BEGIN:VEVENT
DTSTART;VALUE=DATE:20260514
DTEND;VALUE=DATE:20260518
DTSTAMP:20260422T185945
CREATED:20220818T140814Z
LAST-MODIFIED:20251228T103627Z
UID:10000132-1778716800-1779062399@xn--sdtirol-dolomiten-touren-vsc.com
SUMMARY:Apple blossom romance Dolomites tour
DESCRIPTION:Apple Blossom Romance Dolomites Tour: Spring Magic in South Tyrol from 14 to 17 May 2026\nExperience the magic of the Dolomites at their most beautiful time of year on our Apple Blossom Romance Dolomites Tour! This four-day journey takes you through the blossoming valleys of South Tyrol\, when the apple trees are in full bloom and the landscape shines in delicate shades of pink and white. \nLook forward to three nights in the comfortable Hotel Leitner with half board and enjoy two guided tours through the spectacular Dolomites. Our experienced guides will accompany you on the most beautiful routes and show you the impressive nature and the blooming fruit plantations of South Tyrol up close. \nTour highlights: \n\n\n2 guided tours through the Dolomites: Discover impressive mountain roads\, charming villages\, and the fascinating blossoming of South Tyrol’s apple orchards. \n\n\n3 nights at the Hotel Leitner (half board): In the evening\, indulge in regional specialties and relax in a cozy atmosphere. \n\n\nA unique spring experience: Drive along quiet panoramic roads and enjoy the breathtaking view of the Dolomites. \n\nLunch included!\n\nWho is it suitable for?The Apple Blossom Romance Dolomites Tour is ideal for anyone who wants to combine spring feelings with the enjoyment of nature – perfect for couples or groups of friends who want to travel together in picturesque surroundings. \nPrices: \n\n\nPrice per person in a double room: 477 € \n\n\nPrice in a single room: 555 € \n\n\nBook now and experience the enchanting floral splendor of South Tyrol up close!
URL:https://xn--sdtirol-dolomiten-touren-vsc.com/veranstaltung/apple-blossom-tour/?lang=en
LOCATION:Hotel Leitner\, Katharina Lanz Street 83\, Mühlbach (BZ)\, 39037\, Italien
CATEGORIES:tours
ATTACH;FMTTYPE=image/jpeg:https://xn--sdtirol-dolomiten-touren-vsc.com/wp-content/uploads/2022/08/Apfelbluetentour-1.jpg
END:VEVENT
BEGIN:VEVENT
DTSTART;VALUE=DATE:20260517
DTEND;VALUE=DATE:20260522
DTSTAMP:20260422T185945
CREATED:20220818T132626Z
LAST-MODIFIED:20260314T223243Z
UID:10000135-1778976000-1779407999@xn--sdtirol-dolomiten-touren-vsc.com
SUMMARY:Young & Oldtimer Tour through the Dolomites
DESCRIPTION:May 17 – 21\, 2026\n 4 nights | 3 guided day tours | Enjoyment & driving fun\nWhether a modern classic or a true classic car – when stylish vehicles meet winding mountain roads\, something truly special is created. On our spring tour to South Tyrol\, we combine the best of both worlds: a passion for classic cars and the unique landscape of the Pustertal Valley and the Dolomites.  \nOur base camp: Hotel Leitner in Mühlbach\nWe’ll be staying at the Hotel Leitner in Mühlbach for four nights. Here\, you’ll find genuine South Tyrolean hospitality\, excellent food\, and a small but fine wellness area for post-tour relaxation. The family-run hotel is known for its excellent cuisine and is conveniently located—an ideal starting point for our excursions.   \nWhat you can expect:\n 🚘 Three guided day tours with varied routes through South Tyrol\, Trentino\, and the neighboring Alpine regions. We ride in groups\, with radio contact upon request\, and enjoy both the riding experience and the breathtaking scenery.\n 🍝 Lunch included – we stop at selected guesthouses or alpine huts along the way\, where we are treated to regional cuisine.\n 💬 In the evening\, dinner together in the hotel and time for conversations with like-minded people – whether at the regulars’ table or with a glass of wine on the terrace.  \nFrame information at a glance:\n 📅 Date: May 17 – 21\, 2026 (arrival Sunday\, departure Thursday)\n 🏨 Accommodation: 4 x half board at the Hotel Leitner in Mühlbach\n 🗺️ Services: 3 guided tours including lunch & route guidance\n 🚗 Vehicle: Participation with your own classic or vintage car\n 💰 Price: 777\,- €\, single room supplement: 20 € per day  \nThe tour is designed for a limited number of participants – if you would like to take part\, please register early. \nWe look forward to great vehicles\, great people and many unforgettable kilometers.
URL:https://xn--sdtirol-dolomiten-touren-vsc.com/veranstaltung/young-vintage/?lang=en
LOCATION:Hotel Leitner\, Katharina Lanz Street 83\, Mühlbach (BZ)\, 39037\, Italien
CATEGORIES:tours
ATTACH;FMTTYPE=image/jpeg:https://xn--sdtirol-dolomiten-touren-vsc.com/wp-content/uploads/2022/08/Apfelbluetentour-Ausgebucht.jpg
END:VEVENT
END:VCALENDAR