BEGIN:VCALENDAR
VERSION:2.0
PRODID:-//Südtirol Dolomiten Touren - ECPv6.15.20//NONSGML v1.0//EN
CALSCALE:GREGORIAN
METHOD:PUBLISH
X-ORIGINAL-URL:https://xn--sdtirol-dolomiten-touren-vsc.com/?lang=en
X-WR-CALDESC:Events for Südtirol Dolomiten Touren
REFRESH-INTERVAL;VALUE=DURATION:PT1H
X-Robots-Tag:noindex
X-PUBLISHED-TTL:PT1H
BEGIN:VTIMEZONE
TZID:Europe/Berlin
BEGIN:DAYLIGHT
TZOFFSETFROM:+0100
TZOFFSETTO:+0200
TZNAME:CEST
DTSTART:20250330T010000
END:DAYLIGHT
BEGIN:STANDARD
TZOFFSETFROM:+0200
TZOFFSETTO:+0100
TZNAME:CET
DTSTART:20251026T010000
END:STANDARD
BEGIN:DAYLIGHT
TZOFFSETFROM:+0100
TZOFFSETTO:+0200
TZNAME:CEST
DTSTART:20260329T010000
END:DAYLIGHT
BEGIN:STANDARD
TZOFFSETFROM:+0200
TZOFFSETTO:+0100
TZNAME:CET
DTSTART:20261025T010000
END:STANDARD
BEGIN:DAYLIGHT
TZOFFSETFROM:+0100
TZOFFSETTO:+0200
TZNAME:CEST
DTSTART:20270328T010000
END:DAYLIGHT
BEGIN:STANDARD
TZOFFSETFROM:+0200
TZOFFSETTO:+0100
TZNAME:CET
DTSTART:20271031T010000
END:STANDARD
END:VTIMEZONE
BEGIN:VEVENT
DTSTART;VALUE=DATE:20260430
DTEND;VALUE=DATE:20260505
DTSTAMP:20260422T172425
CREATED:20260121T092819Z
LAST-MODIFIED:20260121T092819Z
UID:10000288-1777507200-1777939199@xn--sdtirol-dolomiten-touren-vsc.com
SUMMARY:Left turn signal
DESCRIPTION:A joint tour in a stunning setting – mountain passes\, panoramic views and plenty of driving fun in a great group.\n Led by: Helmut Leitner (TRIENTNA)\n Overnight stay: evening at Hotel Leitner\n Lunch included
URL:https://xn--sdtirol-dolomiten-touren-vsc.com/veranstaltung/left-turn-signal/?lang=en
LOCATION:Hotel Leitner\, Katharina Lanz Street 83\, Mühlbach (BZ)\, 39037\, Italien
CATEGORIES:tours
ATTACH;FMTTYPE=image/jpeg:https://xn--sdtirol-dolomiten-touren-vsc.com/wp-content/uploads/2022/10/Autotour-Mighty-Dolomiti-2022-Suedtirol-Dolomiten-Touren-1.jpg
END:VEVENT
BEGIN:VEVENT
DTSTART;VALUE=DATE:20260503
DTEND;VALUE=DATE:20260508
DTSTAMP:20260422T172425
CREATED:20260125T110743Z
LAST-MODIFIED:20260125T110743Z
UID:10000291-1777766400-1778198399@xn--sdtirol-dolomiten-touren-vsc.com
SUMMARY:SEMIDRIVER on tour in the Dolomites
DESCRIPTION:SEMIDRIVER on the road in the Dolomites – winding classics\, stunning viewpoints and real driving moments.\n Led by: Helmut Leitner (TRIENTNA)\n Overnight stay: evening at the Hotel Leitner****\n Lunch included
URL:https://xn--sdtirol-dolomiten-touren-vsc.com/veranstaltung/semidriver-on-tour-in-the-dolomites/?lang=en
LOCATION:Hotel Leitner\, Katharina Lanz Street 83\, Mühlbach (BZ)\, 39037\, Italien
CATEGORIES:tours
ATTACH;FMTTYPE=image/jpeg:https://xn--sdtirol-dolomiten-touren-vsc.com/wp-content/uploads/2022/10/Autotour-Spaetauslese-Suedtirol-Dolomiten-Touren1.jpg
END:VEVENT
BEGIN:VEVENT
DTSTART;VALUE=DATE:20260506
DTEND;VALUE=DATE:20260511
DTSTAMP:20260422T172425
CREATED:20260125T110856Z
LAST-MODIFIED:20260125T110913Z
UID:10000295-1778025600-1778457599@xn--sdtirol-dolomiten-touren-vsc.com
SUMMARY:Daiva Exclusive – “Friends of refined driving”
DESCRIPTION:Exclusive days for connoisseurs: carefully selected routes\, relaxed pace\, stylish group.\n Led by: Helmut Leitner (TRIENTNA)\n Overnight stay: evening at the Hotel Leitner****\n Lunch included
URL:https://xn--sdtirol-dolomiten-touren-vsc.com/veranstaltung/daiva-exclusive-friends-of-refined-driving/?lang=en
LOCATION:Hotel Leitner\, Katharina Lanz Street 83\, Mühlbach (BZ)\, 39037\, Italien
CATEGORIES:tours
ATTACH;FMTTYPE=image/jpeg:https://xn--sdtirol-dolomiten-touren-vsc.com/wp-content/uploads/2026/01/Trientnas-Tour-2025-2.jpg
END:VEVENT
BEGIN:VEVENT
DTSTART;VALUE=DATE:20260510
DTEND;VALUE=DATE:20260515
DTSTAMP:20260422T172425
CREATED:20260125T111405Z
LAST-MODIFIED:20260129T121714Z
UID:10000297-1778371200-1778803199@xn--sdtirol-dolomiten-touren-vsc.com
SUMMARY:WERK 96 – Porsche 996 Update
DESCRIPTION:WERK 96 Tour focusing on the “update” of the Porsche 996 to “better” technology (chassis\, components\, etc.) – driving-active\, technically exciting\, pure Dolomites.\n Led by: Helmut Leitner (TRIENTNA)\n Overnight stay: evening at the Hotel Leitner****\n Lunch included
URL:https://xn--sdtirol-dolomiten-touren-vsc.com/veranstaltung/werk-96-porsche-996-update/?lang=en
LOCATION:Hotel Leitner\, Katharina Lanz Street 83\, Mühlbach (BZ)\, 39037\, Italien
ATTACH;FMTTYPE=image/jpeg:https://xn--sdtirol-dolomiten-touren-vsc.com/wp-content/uploads/2026/01/Porsche-996.jpg
END:VEVENT
END:VCALENDAR