BEGIN:VCALENDAR
VERSION:2.0
PRODID:-//Südtirol Dolomiten Touren - ECPv6.15.20//NONSGML v1.0//EN
CALSCALE:GREGORIAN
METHOD:PUBLISH
X-ORIGINAL-URL:https://xn--sdtirol-dolomiten-touren-vsc.com/?lang=en
X-WR-CALDESC:Events for Südtirol Dolomiten Touren
REFRESH-INTERVAL;VALUE=DURATION:PT1H
X-Robots-Tag:noindex
X-PUBLISHED-TTL:PT1H
BEGIN:VTIMEZONE
TZID:Europe/Berlin
BEGIN:DAYLIGHT
TZOFFSETFROM:+0100
TZOFFSETTO:+0200
TZNAME:CEST
DTSTART:20250330T010000
END:DAYLIGHT
BEGIN:STANDARD
TZOFFSETFROM:+0200
TZOFFSETTO:+0100
TZNAME:CET
DTSTART:20251026T010000
END:STANDARD
BEGIN:DAYLIGHT
TZOFFSETFROM:+0100
TZOFFSETTO:+0200
TZNAME:CEST
DTSTART:20260329T010000
END:DAYLIGHT
BEGIN:STANDARD
TZOFFSETFROM:+0200
TZOFFSETTO:+0100
TZNAME:CET
DTSTART:20261025T010000
END:STANDARD
BEGIN:DAYLIGHT
TZOFFSETFROM:+0100
TZOFFSETTO:+0200
TZNAME:CEST
DTSTART:20270328T010000
END:DAYLIGHT
BEGIN:STANDARD
TZOFFSETFROM:+0200
TZOFFSETTO:+0100
TZNAME:CET
DTSTART:20271031T010000
END:STANDARD
END:VTIMEZONE
BEGIN:VEVENT
DTSTART;VALUE=DATE:20260106
DTEND;VALUE=DATE:20260111
DTSTAMP:20260423T012450
CREATED:20220813T191513Z
LAST-MODIFIED:20250909T083638Z
UID:10000106-1767657600-1768089599@xn--sdtirol-dolomiten-touren-vsc.com
SUMMARY:Snow tour 1
DESCRIPTION:Snow Tour 2026\n06.01. – 10.01.2026  | 765 € per person in a double room \nMountains & passes in a class of their own in winter\nExperience the winter wonderland of the Dolomites\nImagine: The Dolomites glittering in the snow\, the mountain air clear and fresh\, and you’re driving with like-minded people over South Tyrol’s most spectacular passes. This is exactly what awaits you on our Snow Tour 2026 – an exclusive car tour through the snowy mountains\, led by experienced “Trientna” Helmut Leitner.  \nSpectacular routes – unforgettable impressions\nThree days of riding full of highlights: The imposing Sella Pass kicks off the tour\, framed by the Sassolungo and the Sella Towers. This is followed by the legendary Dolomite passes of Campolongo\, Falzarego\, Valparola\, and Giau – each route a new winter adventure. A special highlight awaits you: the frozen Lake Misurina \, which mirrors nature and offers a truly unique photo opportunity.   \nEnjoyment and relaxation at the Hotel Leitner\nAfter exciting hours on the snowy roads\, enjoy the comfort of the Hotel Leitner . Warming sauna sessions\, relaxing massages in the Vital Spa\, and culinary delights ensure the perfect end to every day.  \nWhy you should book now\nOur spots are strictly limited – and demand is high. If you’d like to be there\, don’t hesitate. Secure your spot now and experience the Dolomites at their most beautiful.   \n👉 Enquire today without obligation and secure your winter adventure!
URL:https://xn--sdtirol-dolomiten-touren-vsc.com/veranstaltung/snow-tour/?lang=en
LOCATION:Hotel Leitner\, Katharina Lanz Street 83\, Mühlbach (BZ)\, 39037\, Italien
CATEGORIES:tours
ATTACH;FMTTYPE=image/jpeg:https://xn--sdtirol-dolomiten-touren-vsc.com/wp-content/uploads/2023/02/Autotour-Snow-Show-Tour-2-Suedtirol-Dolomiten-Touren-18.jpg
END:VEVENT
END:VCALENDAR