BEGIN:VCALENDAR
VERSION:2.0
PRODID:-//Südtirol Dolomiten Touren - ECPv6.15.20//NONSGML v1.0//EN
CALSCALE:GREGORIAN
METHOD:PUBLISH
X-ORIGINAL-URL:https://xn--sdtirol-dolomiten-touren-vsc.com/?lang=en
X-WR-CALDESC:Events for Südtirol Dolomiten Touren
REFRESH-INTERVAL;VALUE=DURATION:PT1H
X-Robots-Tag:noindex
X-PUBLISHED-TTL:PT1H
BEGIN:VTIMEZONE
TZID:Europe/Berlin
BEGIN:DAYLIGHT
TZOFFSETFROM:+0100
TZOFFSETTO:+0200
TZNAME:CEST
DTSTART:20240331T010000
END:DAYLIGHT
BEGIN:STANDARD
TZOFFSETFROM:+0200
TZOFFSETTO:+0100
TZNAME:CET
DTSTART:20241027T010000
END:STANDARD
BEGIN:DAYLIGHT
TZOFFSETFROM:+0100
TZOFFSETTO:+0200
TZNAME:CEST
DTSTART:20250330T010000
END:DAYLIGHT
BEGIN:STANDARD
TZOFFSETFROM:+0200
TZOFFSETTO:+0100
TZNAME:CET
DTSTART:20251026T010000
END:STANDARD
BEGIN:DAYLIGHT
TZOFFSETFROM:+0100
TZOFFSETTO:+0200
TZNAME:CEST
DTSTART:20260329T010000
END:DAYLIGHT
BEGIN:STANDARD
TZOFFSETFROM:+0200
TZOFFSETTO:+0100
TZNAME:CET
DTSTART:20261025T010000
END:STANDARD
END:VTIMEZONE
BEGIN:VEVENT
DTSTART;VALUE=DATE:20250525
DTEND;VALUE=DATE:20250530
DTSTAMP:20260423T115906
CREATED:20240930T200712Z
LAST-MODIFIED:20240930T203525Z
UID:10000264-1748131200-1748563199@xn--sdtirol-dolomiten-touren-vsc.com
SUMMARY:Audi RS Dolomites adrenaline tour
DESCRIPTION:Experience the Dolomites behind the wheel of your Audi RS: An adrenaline tour in May 2025\n  Discover the fascination of the Dolomites behind the wheel of your Audi RS and experience pure driving pleasure on our “Audi RS Dolomites Adrenaline Tour”! This five-day adventure offers a unique combination of unforgettable landscapes\, winding mountain roads and the comfort of the Hotel Leitner. During your four nights in this charming hotel\, you will enjoy half board and experience three guided day tours that include spectacular passes and picturesque villages. Drive in your own Audi RS with other enthusiasts and let experienced guides lead you through the impressive scenery of the Dolomites – including lunch stops where regional specialties await you.     Tour highlights: \n\n3 guided day tours: Explore famous mountain roads with your own Audi RS and enjoy the drive through the picturesque valleys of the Dolomites.\n4 x overnight stays at the Hotel Leitner (half board): Relax in the evening in comfortable rooms and let yourself be pampered with culinary delights.\nAudi RS Experience: Experience the power and precision of your own vehicle on the challenging routes of the Dolomites while enjoying the unique landscape of South Tyrol.\n\nWho is it suitable for?  The tour is aimed at Audi RS drivers who are looking for a unique driving experience in one of the most beautiful mountain landscapes in Europe. Ideal for individuals\, couples or groups of friends who want to experience unforgettable moments together in their own vehicles. Price per person in a double room: €760 Book now and enjoy the breathtaking combination of sports car feeling and mountain panorama!
URL:https://xn--sdtirol-dolomiten-touren-vsc.com/veranstaltung/audi-rs-dolomites-adrenaline-tour/?lang=en
LOCATION:Hotel Leitner\, Katharina Lanz Street 83\, Mühlbach (BZ)\, 39037\, Italien
CATEGORIES:tours
ATTACH;FMTTYPE=image/jpeg:https://xn--sdtirol-dolomiten-touren-vsc.com/wp-content/uploads/2024/09/Audi-RS-Tour.jpg
END:VEVENT
END:VCALENDAR