BEGIN:VCALENDAR
VERSION:2.0
PRODID:-//Südtirol Dolomiten Touren - ECPv6.15.20//NONSGML v1.0//EN
CALSCALE:GREGORIAN
METHOD:PUBLISH
X-WR-CALNAME:Südtirol Dolomiten Touren
X-ORIGINAL-URL:https://xn--sdtirol-dolomiten-touren-vsc.com/?lang=en
X-WR-CALDESC:Events for Südtirol Dolomiten Touren
REFRESH-INTERVAL;VALUE=DURATION:PT1H
X-Robots-Tag:noindex
X-PUBLISHED-TTL:PT1H
BEGIN:VTIMEZONE
TZID:Europe/Berlin
BEGIN:DAYLIGHT
TZOFFSETFROM:+0100
TZOFFSETTO:+0200
TZNAME:CEST
DTSTART:20230326T010000
END:DAYLIGHT
BEGIN:STANDARD
TZOFFSETFROM:+0200
TZOFFSETTO:+0100
TZNAME:CET
DTSTART:20231029T010000
END:STANDARD
BEGIN:DAYLIGHT
TZOFFSETFROM:+0100
TZOFFSETTO:+0200
TZNAME:CEST
DTSTART:20240331T010000
END:DAYLIGHT
BEGIN:STANDARD
TZOFFSETFROM:+0200
TZOFFSETTO:+0100
TZNAME:CET
DTSTART:20241027T010000
END:STANDARD
BEGIN:DAYLIGHT
TZOFFSETFROM:+0100
TZOFFSETTO:+0200
TZNAME:CEST
DTSTART:20250330T010000
END:DAYLIGHT
BEGIN:STANDARD
TZOFFSETFROM:+0200
TZOFFSETTO:+0100
TZNAME:CET
DTSTART:20251026T010000
END:STANDARD
END:VTIMEZONE
BEGIN:VEVENT
DTSTART;VALUE=DATE:20240706
DTEND;VALUE=DATE:20240711
DTSTAMP:20260424T070605
CREATED:20240613T221919Z
LAST-MODIFIED:20240614T161333Z
UID:10000261-1720224000-1720655999@xn--sdtirol-dolomiten-touren-vsc.com
SUMMARY:Dolomites Panorama
DESCRIPTION:Dolomites Panorama: An unforgettable car tour with Helmut Leitner\nA trip you shouldn’t miss\nGood evening and welcome! Have you ever dreamed of the fascinating beauty of the Dolomites? Would you like to explore this breathtaking mountain world in a comfortable car\, accompanied by an experienced guide? Then you are exactly right here! Helmut Leitner\, also known as TRIENTNA\, invites you to an exclusive car tour through South Tyrol. This tour promises unforgettable moments\, impressive landscapes and a perfect mix of adventure and relaxation. \nThe route of your dreams: insights into the road trip\n\nDay 1: Welcome to South Tyrol\nYour journey begins at the charming Hotel Leitner\, where you will receive a warm welcome. After checking in and a short introduction by Helmut Leitner\, a delicious dinner awaits you. Here you have the opportunity to exchange ideas with the other participants and discuss the upcoming adventures.\n\nDay 2: Panoramic tours and cultural highlights\nAfter a hearty breakfast we set off on our first tour. The route takes us through the Pustertal and further into the Gadertal. Along the way we enjoy impressive panoramic views and stop in picturesque villages such as St. Vigil and Corvara. A special highlight is a visit to the Messner Mountain Museum\, which offers interesting insights into the mountain world. At lunchtime we enjoy a typical South Tyrolean lunch in a cozy inn.\n\nDay 3: The beauties of the Seiser Alm\n Today the Seiser Alm\, the largest high alpine pasture in Europe\, is on the agenda. After a relaxing drive we reach this natural paradise\, where green meadows\, blooming alpine roses and impressive mountain peaks await us. A cozy alpine snack strengthens us for the onward journey through the Val Gardena\, known for its wood carving and charming villages. Another highlight is a visit to the church of St. Ulrich\, which is famous for its artistic frescoes.\nDay 4: The grand finale\n On the last day of our tour we drive through the Eisack Valley and cross the famous Brenner Pass. Here you have the opportunity to experience the border between Italy and Austria and enjoy the spectacular views. A visit to Franzensfeste\, a historic fortress\, rounds off the tour. Back at the Hotel Leitner\, we end the trip with a festive dinner and share our best memories.\n\nTravel information and booking details\nPrice and services \nFor this 4-day car tour through the Dolomites you pay 850€ per person. The price includes: \n\n4 days half board at Hotel Leitner\n3 guided car tours including lunch\nEntrance fees to all sights visited\nPersonal support from Helmut Leitner\n\nFor those who only want to join the tour for 2 days\, we offer a special package: \n\n3 days half board at Hotel Leitner\n2 guided car tours including lunch\nPrice: 750€ per person
URL:https://xn--sdtirol-dolomiten-touren-vsc.com/veranstaltung/dolomites-panorama/?lang=en
LOCATION:Hotel Leitner\, Katharina Lanz Street 83\, Mühlbach (BZ)\, 39037\, Italien
ATTACH;FMTTYPE=image/jpeg:https://xn--sdtirol-dolomiten-touren-vsc.com/wp-content/uploads/2022/08/Early-Bird-Tour-2022-Touren-mit-dem-Auto-Dolomiten-Suedtirol1.jpg
END:VEVENT
END:VCALENDAR