BEGIN:VCALENDAR
VERSION:2.0
PRODID:-//Südtirol Dolomiten Touren - ECPv6.15.20//NONSGML v1.0//EN
CALSCALE:GREGORIAN
METHOD:PUBLISH
X-WR-CALNAME:Südtirol Dolomiten Touren
X-ORIGINAL-URL:https://xn--sdtirol-dolomiten-touren-vsc.com/?lang=en
X-WR-CALDESC:Events for Südtirol Dolomiten Touren
REFRESH-INTERVAL;VALUE=DURATION:PT1H
X-Robots-Tag:noindex
X-PUBLISHED-TTL:PT1H
BEGIN:VTIMEZONE
TZID:Europe/Berlin
BEGIN:DAYLIGHT
TZOFFSETFROM:+0100
TZOFFSETTO:+0200
TZNAME:CEST
DTSTART:20230326T010000
END:DAYLIGHT
BEGIN:STANDARD
TZOFFSETFROM:+0200
TZOFFSETTO:+0100
TZNAME:CET
DTSTART:20231029T010000
END:STANDARD
BEGIN:DAYLIGHT
TZOFFSETFROM:+0100
TZOFFSETTO:+0200
TZNAME:CEST
DTSTART:20240331T010000
END:DAYLIGHT
BEGIN:STANDARD
TZOFFSETFROM:+0200
TZOFFSETTO:+0100
TZNAME:CET
DTSTART:20241027T010000
END:STANDARD
BEGIN:DAYLIGHT
TZOFFSETFROM:+0100
TZOFFSETTO:+0200
TZNAME:CEST
DTSTART:20250330T010000
END:DAYLIGHT
BEGIN:STANDARD
TZOFFSETFROM:+0200
TZOFFSETTO:+0100
TZNAME:CET
DTSTART:20251026T010000
END:STANDARD
END:VTIMEZONE
BEGIN:VEVENT
DTSTART;VALUE=DATE:20240427
DTEND;VALUE=DATE:20240502
DTSTAMP:20260424T113430
CREATED:20231114T173211Z
LAST-MODIFIED:20231223T102530Z
UID:10000253-1714176000-1714607999@xn--sdtirol-dolomiten-touren-vsc.com
SUMMARY:Porsche Club Friends
DESCRIPTION:Discover the magic of the South Tyrolean Dolomites with Helmut and the Porsche Club friends\nHello dear Porsche Club friends\, \nI am Helmut Leitner\, also known as TRIENTNA \, and I would like to invite you on a very special journey. From April 27th to May 1st\, 2024 we will explore the breathtaking beauty of the South Tyrolean Dolomites together. Our tour is not only a journey through one of the most beautiful landscapes in Europe\, but also an exclusive experience for Porsche lovers. \nStarting point: Hotel Leitner – Our gateway to the Dolomites\nOur journey begins at Hotel Leitner \, a place that offers comfort and hospitality in the middle of the picturesque South Tyrolean landscape. Here we meet to start our tour into the world of majestic mountains. \nThe route: From east to west\, over passes and through valleys\nOur path takes us east to the Carnic Dolomites and of course to the famous passes of the Dolomites. Every kilometer of our route is carefully chosen to ensure we get the most out of this spectacular region. We will drive through breathtaking landscapes\, the perfect backdrop for our Porsches. \nExclusivity and community: A private tour for Porsche enthusiasts\nThis tour is exclusively for Porsche Club members. It is an opportunity to meet like-minded people\, exchange experiences and share your passion for Porsche. We are a community that unites the joy of driving and the love of extraordinary cars.
URL:https://xn--sdtirol-dolomiten-touren-vsc.com/veranstaltung/porsche-club-friends/?lang=en
LOCATION:Hotel Leitner\, Katharina Lanz Street 83\, Mühlbach (BZ)\, 39037\, Italien
CATEGORIES:tours
ATTACH;FMTTYPE=image/jpeg:https://xn--sdtirol-dolomiten-touren-vsc.com/wp-content/uploads/2023/11/Porsche-Club-Freunde.jpg
END:VEVENT
END:VCALENDAR