BEGIN:VCALENDAR
VERSION:2.0
PRODID:-//Südtirol Dolomiten Touren - ECPv6.15.20//NONSGML v1.0//EN
CALSCALE:GREGORIAN
METHOD:PUBLISH
X-ORIGINAL-URL:https://xn--sdtirol-dolomiten-touren-vsc.com/?lang=en
X-WR-CALDESC:Events for Südtirol Dolomiten Touren
REFRESH-INTERVAL;VALUE=DURATION:PT1H
X-Robots-Tag:noindex
X-PUBLISHED-TTL:PT1H
BEGIN:VTIMEZONE
TZID:Europe/Berlin
BEGIN:DAYLIGHT
TZOFFSETFROM:+0100
TZOFFSETTO:+0200
TZNAME:CEST
DTSTART:20220327T010000
END:DAYLIGHT
BEGIN:STANDARD
TZOFFSETFROM:+0200
TZOFFSETTO:+0100
TZNAME:CET
DTSTART:20221030T010000
END:STANDARD
BEGIN:DAYLIGHT
TZOFFSETFROM:+0100
TZOFFSETTO:+0200
TZNAME:CEST
DTSTART:20230326T010000
END:DAYLIGHT
BEGIN:STANDARD
TZOFFSETFROM:+0200
TZOFFSETTO:+0100
TZNAME:CET
DTSTART:20231029T010000
END:STANDARD
BEGIN:DAYLIGHT
TZOFFSETFROM:+0100
TZOFFSETTO:+0200
TZNAME:CEST
DTSTART:20240331T010000
END:DAYLIGHT
BEGIN:STANDARD
TZOFFSETFROM:+0200
TZOFFSETTO:+0100
TZNAME:CET
DTSTART:20241027T010000
END:STANDARD
END:VTIMEZONE
BEGIN:VEVENT
DTSTART;VALUE=DATE:20230917
DTEND;VALUE=DATE:20230924
DTSTAMP:20260424T213717
CREATED:20221113T190934Z
LAST-MODIFIED:20221117T110748Z
UID:10000203-1694908800-1695513599@xn--sdtirol-dolomiten-touren-vsc.com
SUMMARY:BMW Z1 Club Germany
DESCRIPTION:If you want to explore the Dolomites by car\, you can not only look forward to the beautiful landscape\, but also to the interesting history and culture of the region.  \nThe car tour through the Dolomites is a special highlight for the BMW Z1 Club Germany. Helmut Leitner\, the initiator of the tour\, is a real connoisseur of the area and knows exactly where to find the most beautiful vantage points.  \nOn the tour you can not only enjoy the breathtaking nature of the Dolomites\, but also get to know the fascinating culture of the South Tyroleans. \nprivate tour
URL:https://xn--sdtirol-dolomiten-touren-vsc.com/veranstaltung/bmw-z1-club-germany/?lang=en
LOCATION:Hotel Leitner\, Katharina Lanz Street 83\, Mühlbach (BZ)\, 39037\, Italien
CATEGORIES:tours
ATTACH;FMTTYPE=image/jpeg:https://xn--sdtirol-dolomiten-touren-vsc.com/wp-content/uploads/2022/11/BMW-Z1-Club.jpg
END:VEVENT
BEGIN:VEVENT
DTSTART;VALUE=DATE:20230923
DTEND;VALUE=DATE:20230927
DTSTAMP:20260424T213717
CREATED:20230815T101536Z
LAST-MODIFIED:20230815T101536Z
UID:10000237-1695427200-1695772799@xn--sdtirol-dolomiten-touren-vsc.com
SUMMARY:On tour with a woman: when the navigation system says 'right' and she says 'left'!
DESCRIPTION:South Tyrol Dolomites Tours – An unforgettable adventure awaits you!\nDiscover the magic of the Dolomites with us\nDo you want to ski the impressive Dolomites with your wife? With us\, not only driving is in the foreground\, but also the experience. Take plenty of time to look\, marvel and enjoy. Our tours are relaxed and offer you the opportunity to discover the breathtaking nature at your own pace. \nWhy you should choose South Tyrol Dolomites tours\nOur tours take you through the most beautiful routes in South Tyrol and the Dolomites. Experience the adrenaline as you steer your vehicle through the winding roads of the Puster Valley. Be enchanted by the unique landscape with impressive natural scenery such as the Sella Pass or the Three Peaks. With us you not only take a break\, but also experience culinary highlights in selected restaurants. \nHosted by an expert\nHelmut Leitner\, the organizer and your host\, is not only the owner of Hotel Leitner\, but also a passionate motorsport enthusiast. He knows the Dolomites like the back of his hand and has more than 18 years of experience in organizing tours. With him by your side you are sure to discover the hidden treasures of the Dolomites. \nA home away from home\nYour starting point for all tours is the Hotel Leitner. After a day of adventure\, you can relax in one of our stylishly furnished double rooms for only €499 per person . Enjoy our hotel spa offers and let us spoil you with culinary delights. \nAn offer you can’t refuse\nIf you’re looking for a unique way to experience the Dolomites\, then you’ve come to the right place. Our tours are not just a ride\, but an experience. An experience that you will take home with you and that you will never forget.
URL:https://xn--sdtirol-dolomiten-touren-vsc.com/veranstaltung/on-tour-with-a-woman-when-the-navigation-system-says-right-and-she-says-left/?lang=en
LOCATION:Hotel Leitner\, Katharina Lanz Street 83\, Mühlbach (BZ)\, 39037\, Italien
CATEGORIES:tours
ATTACH;FMTTYPE=image/jpeg:https://xn--sdtirol-dolomiten-touren-vsc.com/wp-content/uploads/2022/10/Autotour-Mighty-Dolomiti-2022-Suedtirol-Dolomiten-Touren-4.jpg
END:VEVENT
END:VCALENDAR