BEGIN:VCALENDAR
VERSION:2.0
PRODID:-//Südtirol Dolomiten Touren - ECPv6.15.20//NONSGML v1.0//EN
CALSCALE:GREGORIAN
METHOD:PUBLISH
X-WR-CALNAME:Südtirol Dolomiten Touren
X-ORIGINAL-URL:https://xn--sdtirol-dolomiten-touren-vsc.com/?lang=en
X-WR-CALDESC:Events for Südtirol Dolomiten Touren
REFRESH-INTERVAL;VALUE=DURATION:PT1H
X-Robots-Tag:noindex
X-PUBLISHED-TTL:PT1H
BEGIN:VTIMEZONE
TZID:Europe/Berlin
BEGIN:DAYLIGHT
TZOFFSETFROM:+0100
TZOFFSETTO:+0200
TZNAME:CEST
DTSTART:20220327T010000
END:DAYLIGHT
BEGIN:STANDARD
TZOFFSETFROM:+0200
TZOFFSETTO:+0100
TZNAME:CET
DTSTART:20221030T010000
END:STANDARD
BEGIN:DAYLIGHT
TZOFFSETFROM:+0100
TZOFFSETTO:+0200
TZNAME:CEST
DTSTART:20230326T010000
END:DAYLIGHT
BEGIN:STANDARD
TZOFFSETFROM:+0200
TZOFFSETTO:+0100
TZNAME:CET
DTSTART:20231029T010000
END:STANDARD
BEGIN:DAYLIGHT
TZOFFSETFROM:+0100
TZOFFSETTO:+0200
TZNAME:CEST
DTSTART:20240331T010000
END:DAYLIGHT
BEGIN:STANDARD
TZOFFSETFROM:+0200
TZOFFSETTO:+0100
TZNAME:CET
DTSTART:20241027T010000
END:STANDARD
END:VTIMEZONE
BEGIN:VEVENT
DTSTART;VALUE=DATE:20230604
DTEND;VALUE=DATE:20230609
DTSTAMP:20260425T053742
CREATED:20220819T075658Z
LAST-MODIFIED:20221117T112944Z
UID:10000155-1685836800-1686268799@xn--sdtirol-dolomiten-touren-vsc.com
SUMMARY:Zety
DESCRIPTION:Lots of fun is always guaranteed on my tours!\nOn my tours I always ride on small roads and paths so that I can see as much of the landscape as possible. The most beautiful mountain passes and curves are my goal. It is important to me to always be safe on the road and not to take any risks.  \nMy tours are always varied and exciting. They lead me through picturesque villages and landscapes\, past impressive mountain panoramas. There is always a lot to see and discover on the tours. I particularly enjoy sharing my tours with other people. That’s why I regularly offer guided car tours where you can explore the most beautiful corners of South Tyrol with me.  \nProgram: \n\nTwo days tour of the Dolomites\,\none day e-bike tour with lunch and wine pairing\,\nReturn by bus.\n\nPrice in a double room €679
URL:https://xn--sdtirol-dolomiten-touren-vsc.com/veranstaltung/zetty-three-countries-meeting/?lang=en
LOCATION:Hotel Leitner\, Katharina Lanz Street 83\, Mühlbach (BZ)\, 39037\, Italien
ATTACH;FMTTYPE=image/jpeg:https://xn--sdtirol-dolomiten-touren-vsc.com/wp-content/uploads/2022/08/Zetty-Drei-Laender-Treff.jpg
END:VEVENT
END:VCALENDAR