BEGIN:VCALENDAR
VERSION:2.0
PRODID:-//Südtirol Dolomiten Touren - ECPv6.15.20//NONSGML v1.0//EN
CALSCALE:GREGORIAN
METHOD:PUBLISH
X-WR-CALNAME:Südtirol Dolomiten Touren
X-ORIGINAL-URL:https://xn--sdtirol-dolomiten-touren-vsc.com/?lang=en
X-WR-CALDESC:Events for Südtirol Dolomiten Touren
REFRESH-INTERVAL;VALUE=DURATION:PT1H
X-Robots-Tag:noindex
X-PUBLISHED-TTL:PT1H
BEGIN:VTIMEZONE
TZID:Europe/Berlin
BEGIN:DAYLIGHT
TZOFFSETFROM:+0100
TZOFFSETTO:+0200
TZNAME:CEST
DTSTART:20220327T010000
END:DAYLIGHT
BEGIN:STANDARD
TZOFFSETFROM:+0200
TZOFFSETTO:+0100
TZNAME:CET
DTSTART:20221030T010000
END:STANDARD
BEGIN:DAYLIGHT
TZOFFSETFROM:+0100
TZOFFSETTO:+0200
TZNAME:CEST
DTSTART:20230326T010000
END:DAYLIGHT
BEGIN:STANDARD
TZOFFSETFROM:+0200
TZOFFSETTO:+0100
TZNAME:CET
DTSTART:20231029T010000
END:STANDARD
BEGIN:DAYLIGHT
TZOFFSETFROM:+0100
TZOFFSETTO:+0200
TZNAME:CEST
DTSTART:20240331T010000
END:DAYLIGHT
BEGIN:STANDARD
TZOFFSETFROM:+0200
TZOFFSETTO:+0100
TZNAME:CET
DTSTART:20241027T010000
END:STANDARD
END:VTIMEZONE
BEGIN:VEVENT
DTSTART;VALUE=DATE:20230521
DTEND;VALUE=DATE:20230525
DTSTAMP:20260425T041303
CREATED:20221110T162136Z
LAST-MODIFIED:20221110T170912Z
UID:10000182-1684627200-1684972799@xn--sdtirol-dolomiten-touren-vsc.com
SUMMARY:Convertible Europe
DESCRIPTION:My name is Helmut and I am a real South Tyrolean. Having grown up in the mountains\, I know the area like the back of my hand. If there is something to discover\, then I know exactly where it is. And what could be nicer than exploring this beautiful landscape by car? I love driving through the curves and being on the mountain passes. The view is just stunning and it’s so much fun!  \nEspecially when you’re with someone you like. Then you can enjoy the beautiful moments even more intensively. But of course you always have to be careful. The roads in the mountains are often not easy to drive on and caution is therefore required. But don’t worry\, I’m an experienced driver and I know this area like the back of my hand.  \nSo\, if you fancy an exciting car tour in the South Tyrolean mountains\, then just come along – I’m looking forward to it!
URL:https://xn--sdtirol-dolomiten-touren-vsc.com/veranstaltung/convertible-europe-2/?lang=en
LOCATION:Hotel Leitner\, Katharina Lanz Street 83\, Mühlbach (BZ)\, 39037\, Italien
ATTACH;FMTTYPE=image/jpeg:https://xn--sdtirol-dolomiten-touren-vsc.com/wp-content/uploads/2022/08/Touren-mit-dem-Auto-durch-die-Dolomiten-Traumautos-vor-Traumkulisse-20.jpg
END:VEVENT
END:VCALENDAR