BEGIN:VCALENDAR
VERSION:2.0
PRODID:-//Südtirol Dolomiten Touren - ECPv6.15.20//NONSGML v1.0//EN
CALSCALE:GREGORIAN
METHOD:PUBLISH
X-ORIGINAL-URL:https://xn--sdtirol-dolomiten-touren-vsc.com/?lang=it
X-WR-CALDESC:Eventi per Südtirol Dolomiten Touren
REFRESH-INTERVAL;VALUE=DURATION:PT1H
X-Robots-Tag:noindex
X-PUBLISHED-TTL:PT1H
BEGIN:VTIMEZONE
TZID:Europe/Berlin
BEGIN:DAYLIGHT
TZOFFSETFROM:+0100
TZOFFSETTO:+0200
TZNAME:CEST
DTSTART:20240331T010000
END:DAYLIGHT
BEGIN:STANDARD
TZOFFSETFROM:+0200
TZOFFSETTO:+0100
TZNAME:CET
DTSTART:20241027T010000
END:STANDARD
BEGIN:DAYLIGHT
TZOFFSETFROM:+0100
TZOFFSETTO:+0200
TZNAME:CEST
DTSTART:20250330T010000
END:DAYLIGHT
BEGIN:STANDARD
TZOFFSETFROM:+0200
TZOFFSETTO:+0100
TZNAME:CET
DTSTART:20251026T010000
END:STANDARD
BEGIN:DAYLIGHT
TZOFFSETFROM:+0100
TZOFFSETTO:+0200
TZNAME:CEST
DTSTART:20260329T010000
END:DAYLIGHT
BEGIN:STANDARD
TZOFFSETFROM:+0200
TZOFFSETTO:+0100
TZNAME:CET
DTSTART:20261025T010000
END:STANDARD
END:VTIMEZONE
BEGIN:VEVENT
DTSTART;VALUE=DATE:20251019
DTEND;VALUE=DATE:20251023
DTSTAMP:20260420T071136
CREATED:20220825T132146Z
LAST-MODIFIED:20250716T151143Z
UID:10000099-1760832000-1761177599@xn--sdtirol-dolomiten-touren-vsc.com
SUMMARY:Spätauslese 2025 – Un tour esclusivo in auto attraverso le Dolomiti
DESCRIPTION:Spätauslese 2025 – Un tour esclusivo in auto attraverso le Dolomiti\n19 – 22 ottobre 2025 | 629 € a persona in camera doppia\nUn’avventura autunnale indimenticabile\nL’autunno in Alto Adige si mostra dal suo lato più bello: boschi dorati\, aria limpida di montagna e strade tortuose da sogno. La Spätauslese 2025 offre la combinazione perfetta tra piacere di guida\, delizie culinarie e panorami mozzafiato. Vi aspettano tre giorni ricchi di percorsi spettacolari\, natura suggestiva e gastronomia di prima classe.   \nGiorno 1: Arrivo e Sintonizzazione\nL’avventura inizia con una rilassante colazione all’Hotel Leitner. Caffè fresco\, prelibatezze regionali e una prima introduzione vi metteranno nell’umore giusto per il vostro prossimo tour. Poi si prosegue dritti sulla strada: la strada del pianoforte che porta al Passo delle Erbe e al leggendario Passo Pordoi offre un inizio fantastico.   \nGiorno 2: Storia\, Pass e Divertimento\nLa giornata vi porterà attraverso la suggestiva storia della regione: il Passo San Pellegrino\, il Passo Staulanza e il Falzarego raccontano storie del passato. Le delizie culinarie continuano ad altissimo livello: nel ristorante Malga Roncac a Collepietra i partecipanti potranno vivere un’esperienza culinaria davvero speciale.  \nGiorno 3: Momenti fotografici e cime maestose\nUn’ultima tappa obbligata: il Passo Fedaia con la sua spettacolare vista sulla Marmolada. Qui si realizzano scatti mozzafiato sullo sfondo unico del lago artificiale e delle Dolomiti. Un momento che nessuno dimenticherà facilmente.   \nRegistrati ora e diventa parte di noi\nQuesto tour esclusivo è l’occasione per provare il divertimento della guida e il piacere della natura ai massimi livelli. Registrati subito e assicurati il ​​tuo posto.  \nData: 19-22 ottobre 2025\nPrezzo: 629 € a persona in camera doppia\nUlteriori informazioni e iscrizioni: Tour Dolomiti Alto Adige \nLe strade dell’Alto Adige vi aspettano.
URL:https://xn--sdtirol-dolomiten-touren-vsc.com/veranstaltung/selezione-tardiva/?lang=it
LOCATION:Hotel Leitner\, Via Katharina Lanz 83\, Rio di Pusteria (BZ)\, 39037\, Italien
CATEGORIES:tour
ATTACH;FMTTYPE=image/jpeg:https://xn--sdtirol-dolomiten-touren-vsc.com/wp-content/uploads/2022/08/Spaetauslese-e1661433866345.jpg
END:VEVENT
END:VCALENDAR