BEGIN:VCALENDAR
VERSION:2.0
PRODID:-//Südtirol Dolomiten Touren - ECPv6.15.20//NONSGML v1.0//EN
CALSCALE:GREGORIAN
METHOD:PUBLISH
X-ORIGINAL-URL:https://xn--sdtirol-dolomiten-touren-vsc.com/?lang=it
X-WR-CALDESC:Eventi per Südtirol Dolomiten Touren
REFRESH-INTERVAL;VALUE=DURATION:PT1H
X-Robots-Tag:noindex
X-PUBLISHED-TTL:PT1H
BEGIN:VTIMEZONE
TZID:Europe/Berlin
BEGIN:DAYLIGHT
TZOFFSETFROM:+0100
TZOFFSETTO:+0200
TZNAME:CEST
DTSTART:20240331T010000
END:DAYLIGHT
BEGIN:STANDARD
TZOFFSETFROM:+0200
TZOFFSETTO:+0100
TZNAME:CET
DTSTART:20241027T010000
END:STANDARD
BEGIN:DAYLIGHT
TZOFFSETFROM:+0100
TZOFFSETTO:+0200
TZNAME:CEST
DTSTART:20250330T010000
END:DAYLIGHT
BEGIN:STANDARD
TZOFFSETFROM:+0200
TZOFFSETTO:+0100
TZNAME:CET
DTSTART:20251026T010000
END:STANDARD
BEGIN:DAYLIGHT
TZOFFSETFROM:+0100
TZOFFSETTO:+0200
TZNAME:CEST
DTSTART:20260329T010000
END:DAYLIGHT
BEGIN:STANDARD
TZOFFSETFROM:+0200
TZOFFSETTO:+0100
TZNAME:CET
DTSTART:20261025T010000
END:STANDARD
END:VTIMEZONE
BEGIN:VEVENT
DTSTART;VALUE=DATE:20250615
DTEND;VALUE=DATE:20250619
DTSTAMP:20260422T154327
CREATED:20250210T143558Z
LAST-MODIFIED:20250327T172153Z
UID:10000273-1749945600-1750291199@xn--sdtirol-dolomiten-touren-vsc.com
SUMMARY:Viaggio da sogno in cabriolet tra le Dolomiti
DESCRIPTION:Viaggio da sogno in cabriolet attraverso le Dolomiti: il piacere di guidare al suo meglio\nData: 15-18 giugno 2025\nPartenza e arrivo: Alto Adige – Dolomiti\nPrezzo: 465 € a persona in camera doppia\, pranzo incluso  \nPuro piacere della decappottabile: curve\, panorama e piacere di guida\nScoprite le Dolomiti nel loro aspetto più bello: aperte\, libere e con viste indimenticabili! Questo esclusivo tour in decappottabile vi condurrà attraverso leggendari passi alpini\, serpentine mozzafiato e spettacolari strade panoramiche. Lasciatevi trasportare dall’emozione delle curve\, godetevi il vento e assaporate la pura libertà sulle strade più belle delle Alpi! Inclusi: la famosa Strada del Piano e gli affascinanti percorsi attorno al massiccio del Sella.    \nOgni curva\, ogni salita\, ogni panorama di questo viaggio sono un’esperienza a sé stante. Le Dolomiti offrono un gioco incomparabile di imponenti formazioni rocciose\, verdi prati alpini e incantevoli villaggi di montagna. Che si attraversino fitte foreste o si risalgano strette serpentine per raggiungere altezze elevate\, questo tour offre un’esperienza di guida senza eguali.   \nCosa ti aspetta\n\nSpettacolari passi alpini con viste panoramiche uniche\nCurve infinite per un vero piacere di guida\nComunità con persone che la pensano come te : condividi la passione per le decappottabili\nAlloggi di alta qualità e delizie culinarie della regione\nPercorsi guidati con consigli di esperti locali per un’esperienza di guida ottimale\nPossibilità di escursioni individuali fuori dalle strade principali\n\nI punti salienti di questo tour\nI passi più belli delle Dolomiti\nDomina percorsi leggendari come il Passo Sella\, il Passo Gardena e il Passo Pordoi . Ognuna di queste strade offre sfide uniche e viste magnifiche che faranno battere più forte il cuore di ogni automobilista. La combinazione di perfette condizioni stradali e panorami indimenticabili garantisce un’esperienza di guida incomparabile.   \nThe Piano Street – Una sinfonia di curve\nQuesto percorso speciale si snoda attraverso il paesaggio montano come una melodia. Perfetto per tutti coloro che amano le curve e vogliono godersi l’esperienza di guida al massimo livello. La topografia variabile e il percorso uniforme rendono questo itinerario uno dei punti salienti dell’intero tour.   \nDelizie culinarie e specialità regionali\nDopo una giornata di divertimento alla guida\, vi aspetta la varietà culinaria dell’Alto Adige. Dalle prelibatezze più sostanziose alle raffinate specialità della cucina alpina: qui ce n’è per tutti i gusti. Gustate la pasta fatta in casa\, il formaggio di montagna piccante\, il saporito speck e gli ottimi vini regionali.   \nUn’avventura che verrà ricordata a lungo\nQuesto tour in decappottabile non è solo un viaggio: è un’esperienza indimenticabile. Il mix di emozionanti passi di montagna\, suggestivi scenari naturali e una cucina di prima classe rende questo tour un vero e proprio highlight per tutti gli amanti delle decappottabili e delle esperienze di guida speciali.  \nPrenota ora e non lasciarti scappare l’occasione!\nPrenota subito il tuo posto per questa straordinaria esperienza. Le Dolomiti ti aspettano: vivi il divertimento alla guida\, la natura e la libertà nella loro forma più bella!
URL:https://xn--sdtirol-dolomiten-touren-vsc.com/veranstaltung/viaggio-da-sogno-in-cabriolet-tra-le-dolomiti/?lang=it
LOCATION:Hotel Leitner\, Via Katharina Lanz 83\, Rio di Pusteria (BZ)\, 39037\, Italien
CATEGORIES:tour
ATTACH;FMTTYPE=image/jpeg:https://xn--sdtirol-dolomiten-touren-vsc.com/wp-content/uploads/2022/08/Genuss-Tour-Ausgebucht.jpg
END:VEVENT
END:VCALENDAR