BEGIN:VCALENDAR
VERSION:2.0
PRODID:-//Südtirol Dolomiten Touren - ECPv6.15.20//NONSGML v1.0//EN
CALSCALE:GREGORIAN
METHOD:PUBLISH
X-ORIGINAL-URL:https://xn--sdtirol-dolomiten-touren-vsc.com/?lang=it
X-WR-CALDESC:Eventi per Südtirol Dolomiten Touren
REFRESH-INTERVAL;VALUE=DURATION:PT1H
X-Robots-Tag:noindex
X-PUBLISHED-TTL:PT1H
BEGIN:VTIMEZONE
TZID:Europe/Berlin
BEGIN:DAYLIGHT
TZOFFSETFROM:+0100
TZOFFSETTO:+0200
TZNAME:CEST
DTSTART:20230326T010000
END:DAYLIGHT
BEGIN:STANDARD
TZOFFSETFROM:+0200
TZOFFSETTO:+0100
TZNAME:CET
DTSTART:20231029T010000
END:STANDARD
BEGIN:DAYLIGHT
TZOFFSETFROM:+0100
TZOFFSETTO:+0200
TZNAME:CEST
DTSTART:20240331T010000
END:DAYLIGHT
BEGIN:STANDARD
TZOFFSETFROM:+0200
TZOFFSETTO:+0100
TZNAME:CET
DTSTART:20241027T010000
END:STANDARD
BEGIN:DAYLIGHT
TZOFFSETFROM:+0100
TZOFFSETTO:+0200
TZNAME:CEST
DTSTART:20250330T010000
END:DAYLIGHT
BEGIN:STANDARD
TZOFFSETFROM:+0200
TZOFFSETTO:+0100
TZNAME:CET
DTSTART:20251026T010000
END:STANDARD
END:VTIMEZONE
BEGIN:VEVENT
DTSTART;VALUE=DATE:20240706
DTEND;VALUE=DATE:20240711
DTSTAMP:20260426T034924
CREATED:20240613T221919Z
LAST-MODIFIED:20240614T161334Z
UID:10000262-1720224000-1720655999@xn--sdtirol-dolomiten-touren-vsc.com
SUMMARY:Panorama delle Dolomiti
DESCRIPTION:Panorama delle Dolomiti: un tour in macchina indimenticabile con Helmut Leitner\nUn viaggio da non perdere\nBuonasera e benvenuti! Avete mai sognato l’affascinante bellezza delle Dolomiti? Ti piacerebbe esplorare questo mondo montano mozzafiato a bordo di un’auto confortevole\, accompagnato da una guida esperta? Allora sei proprio qui! Helmut Leitner\, detto TRIENTNA\, vi invita ad un esclusivo tour in auto attraverso l’Alto Adige. Questo tour promette momenti indimenticabili\, paesaggi impressionanti e un mix perfetto di avventura e relax. \nIl percorso dei tuoi sogni: approfondimenti sui tour in auto\n\nGiorno 1: Benvenuti in Alto Adige\nIl vostro viaggio inizia nell’incantevole Hotel Leitner\, dove sarete accolti con un caloroso benvenuto. Dopo il check-in e una breve introduzione da parte di Helmut Leitner vi aspetta una deliziosa cena. Qui hai l’opportunità di scambiare idee con gli altri partecipanti e discutere delle prossime avventure.\n\nGiorno 2: percorsi panoramici e attrazioni culturali\nDopo un’abbondante colazione partiamo per il nostro primo tour. Il percorso ci porta attraverso la Val Pusteria e poi in Val Badia. Lungo il percorso godiamo di impressionanti viste panoramiche e ci fermiamo in villaggi pittoreschi come San Vigilio e Corvara. Un’attrazione speciale è la visita al Messner Mountain Museum\, che offre interessanti spunti sul mondo della montagna. All’ora di pranzo gusteremo un tipico pranzo altoatesino in un’accogliente locanda.\n\nGiorno 3: Le bellezze dell’Alpe di Siusi\n Oggi è in programma l’Alpe di Siusi\, l’alpeggio più grande d’Europa. Dopo un viaggio rilassante\, raggiungiamo questo paradiso naturale\, dove ci aspettano prati verdi\, rose alpine in fiore e imponenti vette montuose. Un accogliente spuntino alpino ci rafforza per il proseguimento del viaggio attraverso la Val Gardena\, nota per la sua scultura in legno e le affascinanti città. Un altro punto forte è la visita alla Chiesa di Sant’Ulrico\, famosa per i suoi affreschi riccamente decorati.\nGiorno 4: Il gran finale\n L’ultimo giorno del nostro tour attraverseremo la Valle Isarco e attraverseremo il famoso Passo del Brennero. Qui hai l’opportunità di vivere il confine tra Italia e Austria e goderti viste spettacolari. Completa il tour una visita alla Fortezza\, la fortezza storica. Di ritorno all’Hotel Leitner concludiamo il viaggio con una cena festiva e condividiamo i nostri ricordi più belli.\n\nInformazioni di viaggio e dettagli della prenotazione\nPrezzo e servizi \nPer questo tour in macchina di 4 giorni attraverso le Dolomiti paghi 850 € a persona. Incluso nel prezzo sono: \n\n4 giorni in mezza pensione all’Hotel Leitner\n3 visite guidate in auto compreso il pranzo\nIngressi a tutte le attrazioni visitate\nSupporto personale di Helmut Leitner\n\nPer chi vuole partecipare al tour solo per 2 giorni\, offriamo un pacchetto speciale: \n\n3 giorni in mezza pensione all’Hotel Leitner\n2 visite guidate in auto compreso il pranzo\nPrezzo: 750€ a persona
URL:https://xn--sdtirol-dolomiten-touren-vsc.com/veranstaltung/panorama-delle-dolomiti/?lang=it
LOCATION:Hotel Leitner\, Via Katharina Lanz 83\, Rio di Pusteria (BZ)\, 39037\, Italien
ATTACH;FMTTYPE=image/jpeg:https://xn--sdtirol-dolomiten-touren-vsc.com/wp-content/uploads/2022/08/Early-Bird-Tour-2022-Touren-mit-dem-Auto-Dolomiten-Suedtirol1.jpg
END:VEVENT
END:VCALENDAR