BEGIN:VCALENDAR
VERSION:2.0
PRODID:-//Südtirol Dolomiten Touren - ECPv6.15.20//NONSGML v1.0//EN
CALSCALE:GREGORIAN
METHOD:PUBLISH
X-WR-CALNAME:Südtirol Dolomiten Touren
X-ORIGINAL-URL:https://xn--sdtirol-dolomiten-touren-vsc.com/?lang=en
X-WR-CALDESC:Events for Südtirol Dolomiten Touren
REFRESH-INTERVAL;VALUE=DURATION:PT1H
X-Robots-Tag:noindex
X-PUBLISHED-TTL:PT1H
BEGIN:VTIMEZONE
TZID:Europe/Berlin
BEGIN:DAYLIGHT
TZOFFSETFROM:+0100
TZOFFSETTO:+0200
TZNAME:CEST
DTSTART:20210328T010000
END:DAYLIGHT
BEGIN:STANDARD
TZOFFSETFROM:+0200
TZOFFSETTO:+0100
TZNAME:CET
DTSTART:20211031T010000
END:STANDARD
BEGIN:DAYLIGHT
TZOFFSETFROM:+0100
TZOFFSETTO:+0200
TZNAME:CEST
DTSTART:20220327T010000
END:DAYLIGHT
BEGIN:STANDARD
TZOFFSETFROM:+0200
TZOFFSETTO:+0100
TZNAME:CET
DTSTART:20221030T010000
END:STANDARD
BEGIN:DAYLIGHT
TZOFFSETFROM:+0100
TZOFFSETTO:+0200
TZNAME:CEST
DTSTART:20230326T010000
END:DAYLIGHT
BEGIN:STANDARD
TZOFFSETFROM:+0200
TZOFFSETTO:+0100
TZNAME:CET
DTSTART:20231029T010000
END:STANDARD
BEGIN:DAYLIGHT
TZOFFSETFROM:+0100
TZOFFSETTO:+0200
TZNAME:CEST
DTSTART:20240331T010000
END:DAYLIGHT
BEGIN:STANDARD
TZOFFSETFROM:+0200
TZOFFSETTO:+0100
TZNAME:CET
DTSTART:20241027T010000
END:STANDARD
END:VTIMEZONE
BEGIN:VEVENT
DTSTART;VALUE=DATE:20230428
DTEND;VALUE=DATE:20230502
DTSTAMP:20260421T014440
CREATED:20230212T103327Z
LAST-MODIFIED:20230212T103327Z
UID:10000231-1682640000-1682985599@xn--sdtirol-dolomiten-touren-vsc.com
SUMMARY:Start of the season
DESCRIPTION:Experience the unforgettable adventure of a car tour through the breathtaking landscapes of the South Tyrolean Dolomites. Discover the region in a unique way while navigating some of the most beautiful passes\, including Lake Misurina\, Passo di Giau\, Passo Valparola\, Passo Gardena\, Passo Sella\, Passo Fedaia and Passo Karer. \nFrom the 28.04. until 05/01/23 you will be accompanied by an experienced tour guide who will show you every curve and every view in an unforgettable way. With his insider knowledge\, he will recommend you the best places and routes that you should not miss. \nBut the adventure does not only end on the road – during your tour you will also get to know the culinary delights of the region. Let yourself be spoiled by the delicious dishes from South Tyrol and enjoy the unique atmosphere of the region. \nAnd the best part? The tour is available at an unbeatable price of €519 per person in a double room . Don’t miss the chance to experience this unique combination of driving fun\, culinary delights and beautiful landscapes. \nBook your tour now and get ready for the adventure of a lifetime! Convince yourself of the beauty of the Dolomites and be enchanted by the fascination of this unique region.
URL:https://xn--sdtirol-dolomiten-touren-vsc.com/veranstaltung/start-of-the-season/?lang=en
LOCATION:Hotel Leitner\, Katharina Lanz Street 83\, Mühlbach (BZ)\, 39037\, Italien
ATTACH;FMTTYPE=image/jpeg:https://xn--sdtirol-dolomiten-touren-vsc.com/wp-content/uploads/2022/09/Longarone-Kammerer-2022-16-scaled.jpg
END:VEVENT
BEGIN:VEVENT
DTSTART;VALUE=DATE:20230406
DTEND;VALUE=DATE:20230411
DTSTAMP:20260421T014440
CREATED:20220813T192256Z
LAST-MODIFIED:20221117T075949Z
UID:10000127-1680739200-1681171199@xn--sdtirol-dolomiten-touren-vsc.com
SUMMARY:Culinary curves
DESCRIPTION:Culinary curves – the car tour for gourmets\n\nCar tours with the Trientna Helmut Leitner always start with a small welcome drink\, some typical South Tyrolean snacks and the presentation of the tour program. But this time the welcome buffet is already part of the program\, because on the first car tour of the season everything revolves around the culinary delights of the Dolomites . On this tour we want to curve culinary . \nA fast ride to the culinary delights of South Tyrol\nWe open the season with plenty of horsepower – and even more calories. We hide the diet plan in the trunk for a few days\, because people eat hearty and well in the Dolomites. Our own kitchen at Hotel Leitner will spoil you with classic South Tyrolean dishes as soon as you arrive. \nThe culinary curves tour begins with a ride over the varied route through the Jaufen Pass. Jaufenspitz\, Saxner and the Hohe Wilde with its almost 3\,500 meter high peak pass us by. Lush mountain meadows shine between the mountains. But we’re getting hungry again and treat ourselves to a coffee break at the legendary Andreus Resort . The house is well known for its coffee and Mediterranean cuisine. \nThen we earn our lunch with a sprint over the rarely used Tschöggelberg . Its curves are tough\, but the fantastic view rewards every effort. Then it goes to the high plateau of the Soltn \, where the road winds through extensive larch forests. Time for the next stop and a hearty lunch. Where we eat is not revealed yet. \nWell fortified\, we continue across the high plateau of Ritten\, in the direction of Lengmoos and straight on to Barbian with its famous crooked church tower and idyllic ponds. After the culinary car tour through South Tyrol\, a delicious dinner awaits you at the Hotel Leitner . Let us surprise you again with the culinary delights we end our high-calorie excursion with. \n€729 per person in a double room
URL:https://xn--sdtirol-dolomiten-touren-vsc.com/veranstaltung/culinary-curves/?lang=en
LOCATION:Hotel Leitner\, Katharina Lanz Street 83\, Mühlbach (BZ)\, 39037\, Italien
ATTACH;FMTTYPE=image/jpeg:https://xn--sdtirol-dolomiten-touren-vsc.com/wp-content/uploads/2022/08/Touren-mit-dem-Auto-durch-die-Dolomiten-Traumautos-vor-Traumkulisse-11.jpg
END:VEVENT
BEGIN:VEVENT
DTSTART;VALUE=DATE:20230129
DTEND;VALUE=DATE:20230203
DTSTAMP:20260421T014440
CREATED:20221124T075747Z
LAST-MODIFIED:20221124T085418Z
UID:10000226-1674950400-1675382399@xn--sdtirol-dolomiten-touren-vsc.com
SUMMARY:snow tour 2
DESCRIPTION:Snow Tour – top-class mountains and passes in winter\nWhen the mountains and peaks of the Dolomites lie under a white blanket of snow and the cold wind blows through the passes\, hardly anyone is out on the streets. At this time of year\, “Trientna” founder Helmut Leitner gathers passionate drivers who want to experience top-class mountains and passes with him. \nOn our snow tour in the Dolomites you can experience the fascination of the mountains in winter up close. Of course\, winter tires are a must on such a car tour. A four-wheel drive can’t hurt either\, because things are sporty even in winter. \nWarmth and well-being after the car tour in the Hotel Leitner\nAfter our wintry car tour we return tired but happy to the Hotel Leitner. Take advantage of our relaxation offers to calm down and warm up before a hearty dinner. Sweat it out in the Finnish steam sauna or have a massage in the Vital Spa – there is nothing better than relaxing in the warmth while snowflakes are falling outside the window on the South Tyrolean mountains.  \nIf you feel like taking part in our Snow Tour\, then hurry to book! Our seasonal special car tours are very popular and drive with us through the winter wonderland of South Tyrol! \n€699 per person in a double room
URL:https://xn--sdtirol-dolomiten-touren-vsc.com/veranstaltung/snow-tour-2/?lang=en
LOCATION:Hotel Leitner\, Katharina Lanz Street 83\, Mühlbach (BZ)\, 39037\, Italien
CATEGORIES:tours
ATTACH;FMTTYPE=image/jpeg:https://xn--sdtirol-dolomiten-touren-vsc.com/wp-content/uploads/2022/07/Berge-Paesse-der-Extraklasse-13.jpeg
END:VEVENT
BEGIN:VEVENT
DTSTART;VALUE=DATE:20221013
DTEND;VALUE=DATE:20221017
DTSTAMP:20260421T014440
CREATED:20220820T193809Z
LAST-MODIFIED:20221110T150519Z
UID:10000096-1665619200-1665964799@xn--sdtirol-dolomiten-touren-vsc.com
SUMMARY:Family & Friends
DESCRIPTION:Friendship is priceless\nNothing beats true friends. They are the best passengers on car tours with passes and curves. Today we start a new friends tour and also get to know the friends of friends. Family & Friends – endless passes! \nprivate tour
URL:https://xn--sdtirol-dolomiten-touren-vsc.com/veranstaltung/family-friends-ii/2022-10-13/?lang=en
LOCATION:Hotel Leitner\, Katharina Lanz Street 83\, Mühlbach (BZ)\, 39037\, Italien
ATTACH;FMTTYPE=image/jpeg:https://xn--sdtirol-dolomiten-touren-vsc.com/wp-content/uploads/2022/08/Family-Friends-II.jpg
END:VEVENT
BEGIN:VEVENT
DTSTART;VALUE=DATE:20221007
DTEND;VALUE=DATE:20221012
DTSTAMP:20260421T014440
CREATED:20220820T085425Z
LAST-MODIFIED:20220820T085425Z
UID:10000129-1665100800-1665532799@xn--sdtirol-dolomiten-touren-vsc.com
SUMMARY:Wing Man Tour
DESCRIPTION:private tour
URL:https://xn--sdtirol-dolomiten-touren-vsc.com/veranstaltung/wing-man-tour/?lang=en
LOCATION:Hotel Leitner\, Katharina Lanz Street 83\, Mühlbach (BZ)\, 39037\, Italien
CATEGORIES:tours
ATTACH;FMTTYPE=image/jpeg:https://xn--sdtirol-dolomiten-touren-vsc.com/wp-content/uploads/2022/07/Wingman-Tour-2022-11.jpeg
END:VEVENT
BEGIN:VEVENT
DTSTART;VALUE=DATE:20221005
DTEND;VALUE=DATE:20221009
DTSTAMP:20260421T014440
CREATED:20220820T085101Z
LAST-MODIFIED:20220820T085101Z
UID:10000168-1664928000-1665273599@xn--sdtirol-dolomiten-touren-vsc.com
SUMMARY:Porsche Stuttgart
DESCRIPTION:private tour
URL:https://xn--sdtirol-dolomiten-touren-vsc.com/veranstaltung/porsche-stuttgart/?lang=en
LOCATION:Hotel Leitner\, Katharina Lanz Street 83\, Mühlbach (BZ)\, 39037\, Italien
CATEGORIES:tours
ATTACH;FMTTYPE=image/jpeg:https://xn--sdtirol-dolomiten-touren-vsc.com/wp-content/uploads/2022/07/Wingman-Tour-2022-14.jpeg
END:VEVENT
BEGIN:VEVENT
DTSTART;VALUE=DATE:20221003
DTEND;VALUE=DATE:20221008
DTSTAMP:20260421T014440
CREATED:20220820T084634Z
LAST-MODIFIED:20220820T084634Z
UID:10000162-1664755200-1665187199@xn--sdtirol-dolomiten-touren-vsc.com
SUMMARY:Vintage MOCC
DESCRIPTION:private tour
URL:https://xn--sdtirol-dolomiten-touren-vsc.com/veranstaltung/vintage-mocc/?lang=en
LOCATION:Hotel Leitner\, Katharina Lanz Street 83\, Mühlbach (BZ)\, 39037\, Italien
CATEGORIES:tours
ATTACH;FMTTYPE=image/jpeg:https://xn--sdtirol-dolomiten-touren-vsc.com/wp-content/uploads/2022/08/Youngtimer-Klassiker-Touren-Auto-Dolomiten-Suedtirol-103-scaled.jpg
END:VEVENT
BEGIN:VEVENT
DTSTART;VALUE=DATE:20220929
DTEND;VALUE=DATE:20221004
DTSTAMP:20260421T014440
CREATED:20220809T174208Z
LAST-MODIFIED:20220923T111921Z
UID:10000110-1664409600-1664841599@xn--sdtirol-dolomiten-touren-vsc.com
SUMMARY:Törggelen & curves
DESCRIPTION:Ride tours & Törggelen in South Tyrol\nTörggelen – customs from South Tyrol\nTörggelen is an old South Tyrolean custom that was cultivated by farmers and wine merchants and is still very popular among all walks of life. The period in which the Törggelen is offered extends from the end of September to the Advent season. \nIn autumn\, because chestnuts\, fresh wine and hearty sour meat are tasted at Törggelen. These culinary delights are in season at this time of the year. Klein Fein Hotel Leitner combines this tradition and the wonderful South Tyrolean autumn landscape with motorsport fun and offers you selected day tours on South Tyrolean mountain roads with alternative routes that you cannot simply “google”. \narrival\nAfter checking in at the Hotel Leitner\, the host Helmut will give an initial introduction to the various day tours around 6 p.m. over the evening aperitif. Of course\, there is also enough time during the tours to capture memories of the eventful days. \ntour day 1\nTour: San Cassiano – Valparola Pass – Falzarego Pass – Fiera di Premiero – Rollerass – Sella Pass – back to Hotel Leitner (approx. 330 km). After morning refreshment at the Hotel Leitner\, the first tour begins with the guide Helmut. At around 9 a.m. we set off for St. Kassian in Val Badia\, curve up the Valparola Pass and then continue on to the Falzarego Pass. From there we continue and the curves lead us to Alleghe\, towards Agordo and up to Fiera di Primero\, the smallest in terms of area\nMunicipality of Italy\, which was characterized by the mining of various ores. \nAfterwards we drive over the Rolle Pass\, one of the oldest roads in the Dolomites. This was passable as early as 1820. We start our way home via the Sella Pass and\nreturn to the Hotel Leitner\, where we will be spoiled with culinary delights by the head chef. \ntour day 2\nTour: Würzjoch – past the Peitlerkofl – Grödnerjoch – along the bishop’s town – back to the Hotel Leitner (approx. 150 km) \nWe start the second tour later in the morning to the Würzjoch\, which connects the Isarco Valley with the Ladin-speaking Val Badia and along the Peitlerkofel. The sight of this parade mountain is particularly impressive. \nWe spend lunchtime with an extensive party of törggele in a traditional South Tyrolean tavern. In the late afternoon we curve through it\nPasso Gardena and the villages on the outskirts of the Episcopal city of Brixen\, back to our hotel. \ntour day 3\nTour: Bolzano – Mendel Pass – Brezer Joch – Ultental\, Sirmian\, Penser Joch\, Nalles – back to Hotel Leitner (approx. 260 km) \nOver the Mendola Pass we get to the Nonstal and then over the Brezer Joch at only 1397 m above sea level. i.e. M. in the Ultental\, the home valley of the well-known skier Dominik Paris. \nWe start the day with a drive towards the provincial capital of Bolzano\, which has 100\,000 inhabitants\, the majority of whom are Italian-speaking. \nFrom this valley\, the path later leads us into the Sarntal\, the largest municipality in South Tyrol in terms of area. Over the Penser Joch and a tunnel-rich journey\nwe start our way home to the Hotel Leitner. \ntour day 4\nTour: Vipiteno – Jaufenpass – Timmelsjoch – individual journey home \nFor the “journey home”\, we have worked out a suggestion for an individual plan of the day: start by touring to Sterzing and then driving up the Jaufenpass. This takes you to St. Leonhard in the Passeier Valley\, where the German national soccer team prepared for the 2014 World Cup. Afterwards you drive up to the Timmelsjoch and everyone can continue their journey home individually. Of course\, Helmut is helpful with great tips on routes. \n€579 per person in a double room
URL:https://xn--sdtirol-dolomiten-touren-vsc.com/veranstaltung/toerggelen-curves/2022-09-29/?lang=en
LOCATION:Hotel Leitner\, Katharina Lanz Street 83\, Mühlbach (BZ)\, 39037\, Italien
ATTACH;FMTTYPE=image/jpeg:https://xn--sdtirol-dolomiten-touren-vsc.com/wp-content/uploads/2022/08/Toerggelen.jpg
END:VEVENT
BEGIN:VEVENT
DTSTART;VALUE=DATE:20220923
DTEND;VALUE=DATE:20220927
DTSTAMP:20260421T014440
CREATED:20220813T193311Z
LAST-MODIFIED:20221116T174649Z
UID:10000121-1663891200-1664236799@xn--sdtirol-dolomiten-touren-vsc.com
SUMMARY:Dream cars in front of dream backdrops
DESCRIPTION:Tour through the Dolomites with dream cars and dream scenery\n\nThe name says it all – dream cars! Just take a look at the gallery. Madness – the finest stainless steel with the finest precision engineering. It’s fun – to look at and even more so to drive. \nAnd where is the best place to drive? Against the dreamy backdrop of the South Tyrolean Dolomites!!!\nLet’s go: Campolonogo pass to warm up. Then Val del Mis and “Croce d’Aune” – a fantastic circuit. The excellent food in “Feltre Panevina” goes well with this.\nStrengthened\, we continue to the Rolle Pass\, then San Pellegrino – very few have seen the pass\, most have drunk the mineral water! And for the finale\, the “all-time classic”: the Sella Pass.\nWhat was nicer now? The dream setting or the unique fleet of vehicles?
URL:https://xn--sdtirol-dolomiten-touren-vsc.com/veranstaltung/dream-cars-in-front-of-dream-backdrops/2022-09-23/?lang=en
ATTACH;FMTTYPE=image/jpeg:https://xn--sdtirol-dolomiten-touren-vsc.com/wp-content/uploads/2022/08/Touren-mit-dem-Auto-durch-die-Dolomiten-Traumautos-vor-Traumkulisse-13.jpg
END:VEVENT
BEGIN:VEVENT
DTSTART;VALUE=DATE:20220915
DTEND;VALUE=DATE:20220919
DTSTAMP:20260421T014440
CREATED:20220820T083907Z
LAST-MODIFIED:20220825T203241Z
UID:10000093-1663200000-1663545599@xn--sdtirol-dolomiten-touren-vsc.com
SUMMARY:MINI GT
DESCRIPTION:€399 per person in a double room
URL:https://xn--sdtirol-dolomiten-touren-vsc.com/veranstaltung/mini-gt/?lang=en
LOCATION:Hotel Leitner\, Katharina Lanz Street 83\, Mühlbach (BZ)\, 39037\, Italien
ATTACH;FMTTYPE=image/jpeg:https://xn--sdtirol-dolomiten-touren-vsc.com/wp-content/uploads/2022/08/Mini-GT-Autotour.jpg
END:VEVENT
BEGIN:VEVENT
DTSTART;VALUE=DATE:20220910
DTEND;VALUE=DATE:20220915
DTSTAMP:20260421T014440
CREATED:20220820T083245Z
LAST-MODIFIED:20220905T115921Z
UID:10000090-1662768000-1663199999@xn--sdtirol-dolomiten-touren-vsc.com
SUMMARY:Car tour - sports driver Eifel
DESCRIPTION:private tour
URL:https://xn--sdtirol-dolomiten-touren-vsc.com/veranstaltung/sport-driver-eifel/?lang=en
LOCATION:Hotel Leitner\, Katharina Lanz Street 83\, Mühlbach (BZ)\, 39037\, Italien
CATEGORIES:tours
ATTACH;FMTTYPE=image/jpeg:https://xn--sdtirol-dolomiten-touren-vsc.com/wp-content/uploads/2022/08/Sportfahrer-Eifel.jpg
END:VEVENT
BEGIN:VEVENT
DTSTART;VALUE=DATE:20220906
DTEND;VALUE=DATE:20220911
DTSTAMP:20260421T014440
CREATED:20220820T082323Z
LAST-MODIFIED:20220905T085810Z
UID:10000087-1662422400-1662854399@xn--sdtirol-dolomiten-touren-vsc.com
SUMMARY:SL - SLK Club Austria
DESCRIPTION:private tour
URL:https://xn--sdtirol-dolomiten-touren-vsc.com/veranstaltung/slk-club-austria/?lang=en
LOCATION:Hotel Leitner\, Katharina Lanz Street 83\, Mühlbach (BZ)\, 39037\, Italien
CATEGORIES:tours
ATTACH;FMTTYPE=image/jpeg:https://xn--sdtirol-dolomiten-touren-vsc.com/wp-content/uploads/2022/08/SL-SLK-Club-Austria.jpg
END:VEVENT
END:VCALENDAR