BEGIN:VCALENDAR
VERSION:2.0
PRODID:-//Südtirol Dolomiten Touren - ECPv6.15.20//NONSGML v1.0//EN
CALSCALE:GREGORIAN
METHOD:PUBLISH
X-WR-CALNAME:Südtirol Dolomiten Touren
X-ORIGINAL-URL:https://xn--sdtirol-dolomiten-touren-vsc.com/?lang=en
X-WR-CALDESC:Events for Südtirol Dolomiten Touren
REFRESH-INTERVAL;VALUE=DURATION:PT1H
X-Robots-Tag:noindex
X-PUBLISHED-TTL:PT1H
BEGIN:VTIMEZONE
TZID:Europe/Berlin
BEGIN:DAYLIGHT
TZOFFSETFROM:+0100
TZOFFSETTO:+0200
TZNAME:CEST
DTSTART:20210328T010000
END:DAYLIGHT
BEGIN:STANDARD
TZOFFSETFROM:+0200
TZOFFSETTO:+0100
TZNAME:CET
DTSTART:20211031T010000
END:STANDARD
BEGIN:DAYLIGHT
TZOFFSETFROM:+0100
TZOFFSETTO:+0200
TZNAME:CEST
DTSTART:20220327T010000
END:DAYLIGHT
BEGIN:STANDARD
TZOFFSETFROM:+0200
TZOFFSETTO:+0100
TZNAME:CET
DTSTART:20221030T010000
END:STANDARD
BEGIN:DAYLIGHT
TZOFFSETFROM:+0100
TZOFFSETTO:+0200
TZNAME:CEST
DTSTART:20230326T010000
END:DAYLIGHT
BEGIN:STANDARD
TZOFFSETFROM:+0200
TZOFFSETTO:+0100
TZNAME:CET
DTSTART:20231029T010000
END:STANDARD
END:VTIMEZONE
BEGIN:VEVENT
DTSTART;VALUE=DATE:20220915
DTEND;VALUE=DATE:20220919
DTSTAMP:20260425T213100
CREATED:20220820T083907Z
LAST-MODIFIED:20220825T203241Z
UID:10000093-1663200000-1663545599@xn--sdtirol-dolomiten-touren-vsc.com
SUMMARY:MINI GT
DESCRIPTION:€399 per person in a double room
URL:https://xn--sdtirol-dolomiten-touren-vsc.com/veranstaltung/mini-gt/?lang=en
LOCATION:Hotel Leitner\, Katharina Lanz Street 83\, Mühlbach (BZ)\, 39037\, Italien
ATTACH;FMTTYPE=image/jpeg:https://xn--sdtirol-dolomiten-touren-vsc.com/wp-content/uploads/2022/08/Mini-GT-Autotour.jpg
END:VEVENT
BEGIN:VEVENT
DTSTART;VALUE=DATE:20220910
DTEND;VALUE=DATE:20220915
DTSTAMP:20260425T213100
CREATED:20220820T083245Z
LAST-MODIFIED:20220905T115921Z
UID:10000090-1662768000-1663199999@xn--sdtirol-dolomiten-touren-vsc.com
SUMMARY:Car tour - sports driver Eifel
DESCRIPTION:private tour
URL:https://xn--sdtirol-dolomiten-touren-vsc.com/veranstaltung/sport-driver-eifel/?lang=en
LOCATION:Hotel Leitner\, Katharina Lanz Street 83\, Mühlbach (BZ)\, 39037\, Italien
CATEGORIES:tours
ATTACH;FMTTYPE=image/jpeg:https://xn--sdtirol-dolomiten-touren-vsc.com/wp-content/uploads/2022/08/Sportfahrer-Eifel.jpg
END:VEVENT
BEGIN:VEVENT
DTSTART;VALUE=DATE:20220906
DTEND;VALUE=DATE:20220911
DTSTAMP:20260425T213100
CREATED:20220820T082323Z
LAST-MODIFIED:20220905T085810Z
UID:10000087-1662422400-1662854399@xn--sdtirol-dolomiten-touren-vsc.com
SUMMARY:SL - SLK Club Austria
DESCRIPTION:private tour
URL:https://xn--sdtirol-dolomiten-touren-vsc.com/veranstaltung/slk-club-austria/?lang=en
LOCATION:Hotel Leitner\, Katharina Lanz Street 83\, Mühlbach (BZ)\, 39037\, Italien
CATEGORIES:tours
ATTACH;FMTTYPE=image/jpeg:https://xn--sdtirol-dolomiten-touren-vsc.com/wp-content/uploads/2022/08/SL-SLK-Club-Austria.jpg
END:VEVENT
END:VCALENDAR