BEGIN:VCALENDAR
VERSION:2.0
PRODID:-//Südtirol Dolomiten Touren - ECPv6.15.20//NONSGML v1.0//EN
CALSCALE:GREGORIAN
METHOD:PUBLISH
X-WR-CALNAME:Südtirol Dolomiten Touren
X-ORIGINAL-URL:https://xn--sdtirol-dolomiten-touren-vsc.com/?lang=en
X-WR-CALDESC:Events for Südtirol Dolomiten Touren
REFRESH-INTERVAL;VALUE=DURATION:PT1H
X-Robots-Tag:noindex
X-PUBLISHED-TTL:PT1H
BEGIN:VTIMEZONE
TZID:Europe/Berlin
BEGIN:DAYLIGHT
TZOFFSETFROM:+0100
TZOFFSETTO:+0200
TZNAME:CEST
DTSTART:20250330T010000
END:DAYLIGHT
BEGIN:STANDARD
TZOFFSETFROM:+0200
TZOFFSETTO:+0100
TZNAME:CET
DTSTART:20251026T010000
END:STANDARD
BEGIN:DAYLIGHT
TZOFFSETFROM:+0100
TZOFFSETTO:+0200
TZNAME:CEST
DTSTART:20260329T010000
END:DAYLIGHT
BEGIN:STANDARD
TZOFFSETFROM:+0200
TZOFFSETTO:+0100
TZNAME:CET
DTSTART:20261025T010000
END:STANDARD
BEGIN:DAYLIGHT
TZOFFSETFROM:+0100
TZOFFSETTO:+0200
TZNAME:CEST
DTSTART:20270328T010000
END:DAYLIGHT
BEGIN:STANDARD
TZOFFSETFROM:+0200
TZOFFSETTO:+0100
TZNAME:CET
DTSTART:20271031T010000
END:STANDARD
END:VTIMEZONE
BEGIN:VEVENT
DTSTART;VALUE=DATE:20260629
DTEND;VALUE=DATE:20260703
DTSTAMP:20260420T214232
CREATED:20221113T190154Z
LAST-MODIFIED:20250707T181547Z
UID:10000191-1782691200-1783036799@xn--sdtirol-dolomiten-touren-vsc.com
SUMMARY:Dolomites Early Bird – Sunrise Tour
DESCRIPTION:Early Bird Tour – Sunrise magic on the Stelvio Pass\nDate: June 29 – July 2\, 2026\nLocation: South Tyrol\, Dolomites\nAccommodation: Hotel Leitner\nPrice: 544€ per person in a double room \nDescription: \nAs day dawns in the Dolomites\, the mountain world reveals itself at its most impressive. On the Early Bird Tour from June 29 to July 2\, 2026\, you’ll experience this magical moment up close\, right from the wheel of your vehicle. Led by Helmut Leitner (Trento)\, we’ll set off before sunrise and climb the heights of the legendary Stelvio Pass together to greet the first light of day.   \nWhat you can expect: \n\nSunrise at the Stelvio Pass: An emotional highlight of the tour. The morning silence\, the golden light\, and the vastness of the landscape – an experience that gets under your skin. \nGuided tours through the Dolomites: Even after sunrise\, the days remain exciting. Winding mountain passes\, stunning panoramas\, and hidden gems are on the agenda. \nRelaxed atmosphere: Overnight stay in the cozy Hotel Leitner \, daily breakfast and dinner together in a relaxed atmosphere.\n\nProcess:\n After arriving on June 29\, the next morning begins early: Before first light\, we set off toward the Stelvio Pass. Once at the top\, we enjoy the sunrise – accompanied by coffee and admiring views. In the following days\, we explore more impressive routes in South Tyrol together before beginning our journey home on July 2.   \nWho is it suitable for?\nFor early risers\, mountain lovers\, and riders who appreciate special moments. This tour is aimed at people who want to experience not only the Dolomites but also the feeling of freedom and tranquility at dawn.  \nPrice per person in a double room: 544€\, single room supplement: 20€ per day \nRegister now and experience the magic of the sunrise in the Dolomites!
URL:https://xn--sdtirol-dolomiten-touren-vsc.com/veranstaltung/early-bird-tour-2023/?lang=en
LOCATION:Hotel Leitner\, Katharina Lanz Street 83\, Mühlbach (BZ)\, 39037\, Italien
CATEGORIES:tours
ATTACH;FMTTYPE=image/jpeg:https://xn--sdtirol-dolomiten-touren-vsc.com/wp-content/uploads/2022/11/Early-Bird-Tour-Touren-mit-dem-Auto-Dolomiten-Suedtirol.jpeg
END:VEVENT
BEGIN:VEVENT
DTSTART;VALUE=DATE:20260705
DTEND;VALUE=DATE:20260710
DTSTAMP:20260420T214232
CREATED:20260303T092641Z
LAST-MODIFIED:20260303T092641Z
UID:10000342-1783209600-1783641599@xn--sdtirol-dolomiten-touren-vsc.com
SUMMARY:1000 Curves – Dolomites Summer Tour
DESCRIPTION:Mühlbach | 4-star Hotel Leitner | managed by Helmut Leitner (TRIENTNA)\nImagine: You start in Mühlbach in the morning\, the air is clear\, the mountains are already glowing in the sun – and ahead of you lies a day full of curves\, passes and viewpoints where you automatically slow down because you simply want to take it all in. That’s exactly what this tour is like.  \nFrom July 5th to 9th\, we will be driving the Dolomites summer tour “1000 Curves” together – 3 guided tour days \, carefully planned\, with really beautiful routes and exactly the mix of driving fun and enjoyment that makes the Dolomites so special. \n\nWhat you get\n4 nights at the 4-star Hotel Leitner (Mühlbach)\nHalf board included – arrive in the evening\, eat well\, relax\, recharge your batteries. \n3 guided Dolomite tour days\nI’ll travel with you in the group – you don’t have to worry about anything except enjoying yourself. \n3x shared lunch on the go\nDuring the tour days\, we eat together – relaxed\, cozy\, and just right to replenish our energy for the next kilometers. \n\nRoutes you won’t forget\nA few of our planned highlights: \n\nMisurina\nFedaia Pass\nSellaronda\nGardena Pass\nPanorama Lounge King Laurin\n\nAnd honestly: the best parts are often the sections in between – when one curve follows the next and you realize why you simply have to love this area. \n\nSmall group – relaxed driving\nWe deliberately keep the size manageable: \n\napprox.  18 participants\nmaximum 12 vehicles\n\nThis way it remains personal\, relaxed\, and you don’t lose yourself. \n\nPrice\n€888 per person\nEarly bird price until March 31st: €777
URL:https://xn--sdtirol-dolomiten-touren-vsc.com/veranstaltung/1000-curves-dolomites-summer-tour/?lang=en
LOCATION:Hotel Leitner\, Katharina Lanz Street 83\, Mühlbach (BZ)\, 39037\, Italien
CATEGORIES:tours
ATTACH;FMTTYPE=image/jpeg:https://xn--sdtirol-dolomiten-touren-vsc.com/wp-content/uploads/2022/08/Tiki-Taka-Tour-Suedtirol-e1661497984324.jpg
END:VEVENT
BEGIN:VEVENT
DTSTART;VALUE=DATE:20260709
DTEND;VALUE=DATE:20260713
DTSTAMP:20260420T214232
CREATED:20260125T115828Z
LAST-MODIFIED:20260129T114726Z
UID:10000319-1783555200-1783900799@xn--sdtirol-dolomiten-touren-vsc.com
SUMMARY:AMG C63 Team South
DESCRIPTION:C63 team in the Dolomites – winding\, powerful\, shared driving fun with top views.\n Led by: Helmut Leitner (TRIENTNA)\n Overnight stay: evening at the Hotel Leitner****\n Lunch included
URL:https://xn--sdtirol-dolomiten-touren-vsc.com/veranstaltung/amg-c63-team-south/?lang=en
LOCATION:Hotel Leitner\, Katharina Lanz Street 83\, Mühlbach (BZ)\, 39037\, Italien
CATEGORIES:tours
ATTACH;FMTTYPE=image/jpeg:https://xn--sdtirol-dolomiten-touren-vsc.com/wp-content/uploads/2026/01/C63-AMG-Team.jpg
END:VEVENT
BEGIN:VEVENT
DTSTART;VALUE=DATE:20260716
DTEND;VALUE=DATE:20260720
DTSTAMP:20260420T214232
CREATED:20260125T115930Z
LAST-MODIFIED:20260125T115930Z
UID:10000321-1784160000-1784505599@xn--sdtirol-dolomiten-touren-vsc.com
SUMMARY:PLANT 96
DESCRIPTION:WERK 96 Summer Special – days of driving\, Dolomite passes and a shared evening get-together.\n Led by: Helmut Leitner (TRIENTNA)\n Overnight stay: evening at the Hotel Leitner****\n Lunch included
URL:https://xn--sdtirol-dolomiten-touren-vsc.com/veranstaltung/plant-96/?lang=en
LOCATION:Hotel Leitner\, Katharina Lanz Street 83\, Mühlbach (BZ)\, 39037\, Italien
ATTACH;FMTTYPE=image/jpeg:https://xn--sdtirol-dolomiten-touren-vsc.com/wp-content/uploads/2026/01/Trientnas-Tour-2025-3.jpg
END:VEVENT
END:VCALENDAR