BEGIN:VCALENDAR
VERSION:2.0
PRODID:-//Südtirol Dolomiten Touren - ECPv6.15.20//NONSGML v1.0//EN
CALSCALE:GREGORIAN
METHOD:PUBLISH
X-ORIGINAL-URL:https://xn--sdtirol-dolomiten-touren-vsc.com/?lang=en
X-WR-CALDESC:Events for Südtirol Dolomiten Touren
REFRESH-INTERVAL;VALUE=DURATION:PT1H
X-Robots-Tag:noindex
X-PUBLISHED-TTL:PT1H
BEGIN:VTIMEZONE
TZID:Europe/Berlin
BEGIN:DAYLIGHT
TZOFFSETFROM:+0100
TZOFFSETTO:+0200
TZNAME:CEST
DTSTART:20250330T010000
END:DAYLIGHT
BEGIN:STANDARD
TZOFFSETFROM:+0200
TZOFFSETTO:+0100
TZNAME:CET
DTSTART:20251026T010000
END:STANDARD
BEGIN:DAYLIGHT
TZOFFSETFROM:+0100
TZOFFSETTO:+0200
TZNAME:CEST
DTSTART:20260329T010000
END:DAYLIGHT
BEGIN:STANDARD
TZOFFSETFROM:+0200
TZOFFSETTO:+0100
TZNAME:CET
DTSTART:20261025T010000
END:STANDARD
BEGIN:DAYLIGHT
TZOFFSETFROM:+0100
TZOFFSETTO:+0200
TZNAME:CEST
DTSTART:20270328T010000
END:DAYLIGHT
BEGIN:STANDARD
TZOFFSETFROM:+0200
TZOFFSETTO:+0100
TZNAME:CET
DTSTART:20271031T010000
END:STANDARD
END:VTIMEZONE
BEGIN:VEVENT
DTSTART;VALUE=DATE:20260529
DTEND;VALUE=DATE:20260605
DTSTAMP:20260420T232212
CREATED:20260125T112517Z
LAST-MODIFIED:20260125T112532Z
UID:10000304-1780012800-1780617599@xn--sdtirol-dolomiten-touren-vsc.com
SUMMARY:mustang
DESCRIPTION:Mustang Dolomites Week – bold sound\, great panoramas\, driving fun on the most beautiful roads.\n Led by: Helmut Leitner (TRIENTNA)\n Overnight stay: evening at the Hotel Leitner****\n Lunch included
URL:https://xn--sdtirol-dolomiten-touren-vsc.com/veranstaltung/mustang/?lang=en
LOCATION:Hotel Leitner\, Katharina Lanz Street 83\, Mühlbach (BZ)\, 39037\, Italien
CATEGORIES:tours
ATTACH;FMTTYPE=image/jpeg:https://xn--sdtirol-dolomiten-touren-vsc.com/wp-content/uploads/2022/08/Mustang-Autotour-Dolomiten-Suedtirol.jpg
END:VEVENT
BEGIN:VEVENT
DTSTART;VALUE=DATE:20260604
DTEND;VALUE=DATE:20260608
DTSTAMP:20260420T232212
CREATED:20220819T080017Z
LAST-MODIFIED:20251228T103641Z
UID:10000151-1780531200-1780876799@xn--sdtirol-dolomiten-touren-vsc.com
SUMMARY:Dolomiten AndersT Tour
DESCRIPTION:Dolomites AndersT Tour 04. – June 7\, 2026Hidden paths and breathtaking landscapes off the beaten track\nDiscover a completely different side of the Dolomites with our Dolomites AndersT Tour! From the 4th Until June 7\, 2026\, we will take you on a four-day road trip along hidden paths\, spectacular passes and idyllic valleys that lie off the beaten tourist track. AndersT stands for “different from the well-known mountain roads”: We avoid the typical routes and take you on less travelled roads that allow you to delve deep into the fascinating history and breathtaking nature of South Tyrol. \nLook forward to three nights in the comfortable Hotel Leitner including half board and enjoy two exclusive\, guided day tours to the hidden treasures of the Dolomites. Our experienced guides will show you spectacular views\, quiet routes and the authentic side of this unique mountain region – far away from the hustle and bustle of the famous tourist attractions. \nYour highlights at a glance: \n\n\nTwo guided tours off the beaten track in the Dolomites: Rediscover South Tyrol and experience the Dolomites like you’ve never seen them before. \n\n\n3 nights at the Hotel Leitner (half board): Let yourself be pampered with local specialties and enjoy relaxing evenings in a cozy atmosphere. \n\n\nA unique adventure of discovery: Experience the special magic of the Dolomites on remote passes and scenic roads. \n\nLunch included!\n\nWho is the tour suitable for?This tour is aimed at all drivers who are looking for an extraordinary adventure off the beaten track. Perfect for couples or groups of friends who want to experience South Tyrol from a very special perspective. \nPrices: \n\n\nDouble room: 477 € per person \n\n\nSingle room: 555 € per person \n\n\nBook now and experience the Dolomites in a whole new way!
URL:https://xn--sdtirol-dolomiten-touren-vsc.com/veranstaltung/dolomiten-anderst-tour/?lang=en
LOCATION:Hotel Leitner\, Katharina Lanz Street 83\, Mühlbach (BZ)\, 39037\, Italien
CATEGORIES:tours
ATTACH;FMTTYPE=image/jpeg:https://xn--sdtirol-dolomiten-touren-vsc.com/wp-content/uploads/2022/11/Traumautos-Traumkulissen-Ausgebucht.jpg
END:VEVENT
BEGIN:VEVENT
DTSTART;VALUE=DATE:20260607
DTEND;VALUE=DATE:20260612
DTSTAMP:20260420T232212
CREATED:20260125T113005Z
LAST-MODIFIED:20260125T113157Z
UID:10000306-1780790400-1781222399@xn--sdtirol-dolomiten-touren-vsc.com
SUMMARY:Audi RS Club Germany
DESCRIPTION:RS Club in the Dolomites – dynamic routes\, top passes\, strong community.\n Price: €744 per person in a double room\n Led by: Helmut Leitner (TRIENTNA)\n Overnight stay: evening at the Hotel Leitner****\n Lunch included
URL:https://xn--sdtirol-dolomiten-touren-vsc.com/veranstaltung/audi-rs-club-germany/?lang=en
LOCATION:Hotel Leitner\, Katharina Lanz Street 83\, Mühlbach (BZ)\, 39037\, Italien
CATEGORIES:tours
ATTACH;FMTTYPE=image/jpeg:https://xn--sdtirol-dolomiten-touren-vsc.com/wp-content/uploads/2024/09/Audi-RS-Tour.jpg
END:VEVENT
BEGIN:VEVENT
DTSTART;VALUE=DATE:20260611
DTEND;VALUE=DATE:20260615
DTSTAMP:20260420T232212
CREATED:20260125T113219Z
LAST-MODIFIED:20260125T113219Z
UID:10000310-1781136000-1781481599@xn--sdtirol-dolomiten-touren-vsc.com
SUMMARY:BMW Southwest – M Squadron
DESCRIPTION:M-Squadron Tour – sporty stages\, group experience\, Dolomite classics.\n Led by: Helmut Leitner (TRIENTNA)\n Overnight stay: evening at the Hotel Leitner****\n Lunch included
URL:https://xn--sdtirol-dolomiten-touren-vsc.com/veranstaltung/bmw-southwest-m-squadron/?lang=en
LOCATION:Hotel Leitner\, Katharina Lanz Street 83\, Mühlbach (BZ)\, 39037\, Italien
CATEGORIES:tours
ATTACH;FMTTYPE=image/jpeg:https://xn--sdtirol-dolomiten-touren-vsc.com/wp-content/uploads/2022/08/BMW-SuedWest-M.jpg
END:VEVENT
BEGIN:VEVENT
DTSTART;VALUE=DATE:20260614
DTEND;VALUE=DATE:20260618
DTSTAMP:20260420T232212
CREATED:20260125T113530Z
LAST-MODIFIED:20260125T113530Z
UID:10000316-1781395200-1781740799@xn--sdtirol-dolomiten-touren-vsc.com
SUMMARY:BMW Southwest America
DESCRIPTION:Participants from the Stuttgart area (US base) – a special group\, special days\, special routes.\n Led by: Helmut Leitner (TRIENTNA)\n Overnight stay: evening at the Hotel Leitner****\n Lunch included
URL:https://xn--sdtirol-dolomiten-touren-vsc.com/veranstaltung/bmw-southwest-america/?lang=en
LOCATION:Hotel Leitner\, Katharina Lanz Street 83\, Mühlbach (BZ)\, 39037\, Italien
CATEGORIES:tours
ATTACH;FMTTYPE=image/jpeg:https://xn--sdtirol-dolomiten-touren-vsc.com/wp-content/uploads/2023/06/Autotour-Suedtirol-Dolomiten-GenussTour-202320.jpg
END:VEVENT
BEGIN:VEVENT
DTSTART;VALUE=DATE:20260629
DTEND;VALUE=DATE:20260703
DTSTAMP:20260420T232212
CREATED:20221113T190154Z
LAST-MODIFIED:20250707T181547Z
UID:10000191-1782691200-1783036799@xn--sdtirol-dolomiten-touren-vsc.com
SUMMARY:Dolomites Early Bird – Sunrise Tour
DESCRIPTION:Early Bird Tour – Sunrise magic on the Stelvio Pass\nDate: June 29 – July 2\, 2026\nLocation: South Tyrol\, Dolomites\nAccommodation: Hotel Leitner\nPrice: 544€ per person in a double room \nDescription: \nAs day dawns in the Dolomites\, the mountain world reveals itself at its most impressive. On the Early Bird Tour from June 29 to July 2\, 2026\, you’ll experience this magical moment up close\, right from the wheel of your vehicle. Led by Helmut Leitner (Trento)\, we’ll set off before sunrise and climb the heights of the legendary Stelvio Pass together to greet the first light of day.   \nWhat you can expect: \n\nSunrise at the Stelvio Pass: An emotional highlight of the tour. The morning silence\, the golden light\, and the vastness of the landscape – an experience that gets under your skin. \nGuided tours through the Dolomites: Even after sunrise\, the days remain exciting. Winding mountain passes\, stunning panoramas\, and hidden gems are on the agenda. \nRelaxed atmosphere: Overnight stay in the cozy Hotel Leitner \, daily breakfast and dinner together in a relaxed atmosphere.\n\nProcess:\n After arriving on June 29\, the next morning begins early: Before first light\, we set off toward the Stelvio Pass. Once at the top\, we enjoy the sunrise – accompanied by coffee and admiring views. In the following days\, we explore more impressive routes in South Tyrol together before beginning our journey home on July 2.   \nWho is it suitable for?\nFor early risers\, mountain lovers\, and riders who appreciate special moments. This tour is aimed at people who want to experience not only the Dolomites but also the feeling of freedom and tranquility at dawn.  \nPrice per person in a double room: 544€\, single room supplement: 20€ per day \nRegister now and experience the magic of the sunrise in the Dolomites!
URL:https://xn--sdtirol-dolomiten-touren-vsc.com/veranstaltung/early-bird-tour-2023/?lang=en
LOCATION:Hotel Leitner\, Katharina Lanz Street 83\, Mühlbach (BZ)\, 39037\, Italien
CATEGORIES:tours
ATTACH;FMTTYPE=image/jpeg:https://xn--sdtirol-dolomiten-touren-vsc.com/wp-content/uploads/2022/11/Early-Bird-Tour-Touren-mit-dem-Auto-Dolomiten-Suedtirol.jpeg
END:VEVENT
END:VCALENDAR