BEGIN:VCALENDAR
VERSION:2.0
PRODID:-//Südtirol Dolomiten Touren - ECPv6.15.20//NONSGML v1.0//EN
CALSCALE:GREGORIAN
METHOD:PUBLISH
X-ORIGINAL-URL:https://xn--sdtirol-dolomiten-touren-vsc.com/?lang=en
X-WR-CALDESC:Events for Südtirol Dolomiten Touren
REFRESH-INTERVAL;VALUE=DURATION:PT1H
X-Robots-Tag:noindex
X-PUBLISHED-TTL:PT1H
BEGIN:VTIMEZONE
TZID:Europe/Berlin
BEGIN:DAYLIGHT
TZOFFSETFROM:+0100
TZOFFSETTO:+0200
TZNAME:CEST
DTSTART:20220327T010000
END:DAYLIGHT
BEGIN:STANDARD
TZOFFSETFROM:+0200
TZOFFSETTO:+0100
TZNAME:CET
DTSTART:20221030T010000
END:STANDARD
BEGIN:DAYLIGHT
TZOFFSETFROM:+0100
TZOFFSETTO:+0200
TZNAME:CEST
DTSTART:20230326T010000
END:DAYLIGHT
BEGIN:STANDARD
TZOFFSETFROM:+0200
TZOFFSETTO:+0100
TZNAME:CET
DTSTART:20231029T010000
END:STANDARD
BEGIN:DAYLIGHT
TZOFFSETFROM:+0100
TZOFFSETTO:+0200
TZNAME:CEST
DTSTART:20240331T010000
END:DAYLIGHT
BEGIN:STANDARD
TZOFFSETFROM:+0200
TZOFFSETTO:+0100
TZNAME:CET
DTSTART:20241027T010000
END:STANDARD
END:VTIMEZONE
BEGIN:VEVENT
DTSTART;VALUE=DATE:20230604
DTEND;VALUE=DATE:20230609
DTSTAMP:20260425T003802
CREATED:20220819T075658Z
LAST-MODIFIED:20221117T112944Z
UID:10000155-1685836800-1686268799@xn--sdtirol-dolomiten-touren-vsc.com
SUMMARY:Zety
DESCRIPTION:Lots of fun is always guaranteed on my tours!\nOn my tours I always ride on small roads and paths so that I can see as much of the landscape as possible. The most beautiful mountain passes and curves are my goal. It is important to me to always be safe on the road and not to take any risks.  \nMy tours are always varied and exciting. They lead me through picturesque villages and landscapes\, past impressive mountain panoramas. There is always a lot to see and discover on the tours. I particularly enjoy sharing my tours with other people. That’s why I regularly offer guided car tours where you can explore the most beautiful corners of South Tyrol with me.  \nProgram: \n\nTwo days tour of the Dolomites\,\none day e-bike tour with lunch and wine pairing\,\nReturn by bus.\n\nPrice in a double room €679
URL:https://xn--sdtirol-dolomiten-touren-vsc.com/veranstaltung/zetty-three-countries-meeting/?lang=en
LOCATION:Hotel Leitner\, Katharina Lanz Street 83\, Mühlbach (BZ)\, 39037\, Italien
ATTACH;FMTTYPE=image/jpeg:https://xn--sdtirol-dolomiten-touren-vsc.com/wp-content/uploads/2022/08/Zetty-Drei-Laender-Treff.jpg
END:VEVENT
BEGIN:VEVENT
DTSTART;VALUE=DATE:20230611
DTEND;VALUE=DATE:20230616
DTSTAMP:20260425T003802
CREATED:20221113T185817Z
LAST-MODIFIED:20230104T172625Z
UID:10000185-1686441600-1686873599@xn--sdtirol-dolomiten-touren-vsc.com
SUMMARY:Dream cars in front of dream scenery 3
DESCRIPTION:Anyone who knows the Dolomites knows that this is a unique landscape. From breathtaking mountain ranges to picturesque valleys\, everything is represented. And it is precisely this diversity that makes a car tour through the Dolomites something very special. The landscape is incredibly diverse and offers both breathtaking views and numerous opportunities to explore the surrounding area. For example\, you can explore the numerous mountain ranges or relax in one of the picturesque valleys. \nSo if you are looking for an unforgettable experience\, you should consider a car tour with Helmut Leitner through the Dolomites. Because here you can not only admire dream cars in front of breathtaking scenery\, but also enjoy the unique landscape of the Dolomites. \nPrice in a double room €699
URL:https://xn--sdtirol-dolomiten-touren-vsc.com/veranstaltung/dream-cars-in-front-of-dream-backdrops-3/?lang=en
LOCATION:Hotel Leitner\, Katharina Lanz Street 83\, Mühlbach (BZ)\, 39037\, Italien
CATEGORIES:tours
ATTACH;FMTTYPE=image/jpeg:https://xn--sdtirol-dolomiten-touren-vsc.com/wp-content/uploads/2022/08/Touren-mit-dem-Auto-durch-die-Dolomiten-Traumautos-vor-Traumkulisse-20.jpg
END:VEVENT
BEGIN:VEVENT
DTSTART;VALUE=DATE:20230615
DTEND;VALUE=DATE:20230619
DTSTAMP:20260425T003802
CREATED:20220819T080258Z
LAST-MODIFIED:20220819T080258Z
UID:10000167-1686787200-1687132799@xn--sdtirol-dolomiten-touren-vsc.com
SUMMARY:Burkhard Engineering
DESCRIPTION:private tour
URL:https://xn--sdtirol-dolomiten-touren-vsc.com/veranstaltung/burkhard-engineering/?lang=en
LOCATION:Hotel Leitner\, Katharina Lanz Street 83\, Mühlbach (BZ)\, 39037\, Italien
CATEGORIES:tours
ATTACH;FMTTYPE=image/jpeg:https://xn--sdtirol-dolomiten-touren-vsc.com/wp-content/uploads/2022/08/Burkhart-Engineering.jpg
END:VEVENT
BEGIN:VEVENT
DTSTART;VALUE=DATE:20230621
DTEND;VALUE=DATE:20230626
DTSTAMP:20260425T003802
CREATED:20220818T191041Z
LAST-MODIFIED:20220819T074322Z
UID:10000148-1687305600-1687737599@xn--sdtirol-dolomiten-touren-vsc.com
SUMMARY:Cabrio tour Lake Constance
DESCRIPTION:Not bookable!
URL:https://xn--sdtirol-dolomiten-touren-vsc.com/veranstaltung/cabrio-tour-lake-constance/?lang=en
LOCATION:Hotel Leitner\, Katharina Lanz Street 83\, Mühlbach (BZ)\, 39037\, Italien
ATTACH;FMTTYPE=image/jpeg:https://xn--sdtirol-dolomiten-touren-vsc.com/wp-content/uploads/2022/08/Cabrio-BodenSee-Hotel-Leitner-Pustertal-Suedtirol-Dolomiten-Autotouren-5-scaled.jpg
END:VEVENT
BEGIN:VEVENT
DTSTART;VALUE=DATE:20230623
DTEND;VALUE=DATE:20230626
DTSTAMP:20260425T003802
CREATED:20230620T091618Z
LAST-MODIFIED:20230622T093153Z
UID:10000234-1687478400-1687737599@xn--sdtirol-dolomiten-touren-vsc.com
SUMMARY:C63 AMG Team South
DESCRIPTION:Welcome to an unforgettable car tour through the breathtaking Dolomites! A three-day journey full of adrenaline\, beautiful mountain passes\, exciting curves and spectacular views awaits you. \nOur adventure begins on June 23\, 2023 at the Hotel Leitner\, where we will gather for this exclusive experience. As part of the C63 and AMG team\, you will have the opportunity to put your driving skills to the test and savor the capabilities of these impressive vehicles. \nThe Dolomites\, a UNESCO World Heritage Site\, are known worldwide for their breathtaking beauty. During our tour\, we will drive through picturesque mountain passes that will make drivers’ hearts beat faster with their variety of curves and roads. At the same time\, you will be amazed by the spectacular views of the majestic Dolomite peaks. \nHelmut Leitner will accompany you throughout the tour and will share his extensive knowledge of the region and its unique driving opportunities with you. He is not only an experienced driver\, but also a passionate connoisseur of the Dolomites and will show you the most beautiful routes and hidden insider tips. \nBe ready for unforgettable driving experiences that will delight your senses and get your pulse racing. This tour is suitable for car lovers and adventurers alike. Come with us and experience the fascination of the Dolomites while sitting behind the wheel of your dream car. \nWe look forward to welcoming you to Hotel Leitner on June 23\, 2023 and to experiencing an unforgettable car tour through the Dolomites together. Pack your anticipation and prepare for an adventure that will stay with you for a long time.
URL:https://xn--sdtirol-dolomiten-touren-vsc.com/veranstaltung/c63-amg-team/?lang=en
LOCATION:Hotel Leitner\, Katharina Lanz Street 83\, Mühlbach (BZ)\, 39037\, Italien
ATTACH;FMTTYPE=image/jpeg:https://xn--sdtirol-dolomiten-touren-vsc.com/wp-content/uploads/2023/06/AMG-Team.jpg
END:VEVENT
END:VCALENDAR