BEGIN:VCALENDAR
VERSION:2.0
PRODID:-//Südtirol Dolomiten Touren - ECPv6.15.20//NONSGML v1.0//EN
CALSCALE:GREGORIAN
METHOD:PUBLISH
X-ORIGINAL-URL:https://xn--sdtirol-dolomiten-touren-vsc.com/?lang=en
X-WR-CALDESC:Events for Südtirol Dolomiten Touren
REFRESH-INTERVAL;VALUE=DURATION:PT1H
X-Robots-Tag:noindex
X-PUBLISHED-TTL:PT1H
BEGIN:VTIMEZONE
TZID:Europe/Berlin
BEGIN:DAYLIGHT
TZOFFSETFROM:+0100
TZOFFSETTO:+0200
TZNAME:CEST
DTSTART:20220327T010000
END:DAYLIGHT
BEGIN:STANDARD
TZOFFSETFROM:+0200
TZOFFSETTO:+0100
TZNAME:CET
DTSTART:20221030T010000
END:STANDARD
BEGIN:DAYLIGHT
TZOFFSETFROM:+0100
TZOFFSETTO:+0200
TZNAME:CEST
DTSTART:20230326T010000
END:DAYLIGHT
BEGIN:STANDARD
TZOFFSETFROM:+0200
TZOFFSETTO:+0100
TZNAME:CET
DTSTART:20231029T010000
END:STANDARD
BEGIN:DAYLIGHT
TZOFFSETFROM:+0100
TZOFFSETTO:+0200
TZNAME:CEST
DTSTART:20240331T010000
END:DAYLIGHT
BEGIN:STANDARD
TZOFFSETFROM:+0200
TZOFFSETTO:+0100
TZNAME:CET
DTSTART:20241027T010000
END:STANDARD
END:VTIMEZONE
BEGIN:VEVENT
DTSTART;VALUE=DATE:20230428
DTEND;VALUE=DATE:20230502
DTSTAMP:20260425T022657
CREATED:20230212T103327Z
LAST-MODIFIED:20230212T103327Z
UID:10000231-1682640000-1682985599@xn--sdtirol-dolomiten-touren-vsc.com
SUMMARY:Start of the season
DESCRIPTION:Experience the unforgettable adventure of a car tour through the breathtaking landscapes of the South Tyrolean Dolomites. Discover the region in a unique way while navigating some of the most beautiful passes\, including Lake Misurina\, Passo di Giau\, Passo Valparola\, Passo Gardena\, Passo Sella\, Passo Fedaia and Passo Karer. \nFrom the 28.04. until 05/01/23 you will be accompanied by an experienced tour guide who will show you every curve and every view in an unforgettable way. With his insider knowledge\, he will recommend you the best places and routes that you should not miss. \nBut the adventure does not only end on the road – during your tour you will also get to know the culinary delights of the region. Let yourself be spoiled by the delicious dishes from South Tyrol and enjoy the unique atmosphere of the region. \nAnd the best part? The tour is available at an unbeatable price of €519 per person in a double room . Don’t miss the chance to experience this unique combination of driving fun\, culinary delights and beautiful landscapes. \nBook your tour now and get ready for the adventure of a lifetime! Convince yourself of the beauty of the Dolomites and be enchanted by the fascination of this unique region.
URL:https://xn--sdtirol-dolomiten-touren-vsc.com/veranstaltung/start-of-the-season/?lang=en
LOCATION:Hotel Leitner\, Katharina Lanz Street 83\, Mühlbach (BZ)\, 39037\, Italien
ATTACH;FMTTYPE=image/jpeg:https://xn--sdtirol-dolomiten-touren-vsc.com/wp-content/uploads/2022/09/Longarone-Kammerer-2022-16-scaled.jpg
END:VEVENT
BEGIN:VEVENT
DTSTART;VALUE=DATE:20230429
DTEND;VALUE=DATE:20230502
DTSTAMP:20260425T022657
CREATED:20221110T144852Z
LAST-MODIFIED:20221113T192213Z
UID:10000101-1682726400-1682985599@xn--sdtirol-dolomiten-touren-vsc.com
SUMMARY:Bernd with friends
DESCRIPTION:Welcome to our Dolomite tour “Bernd with friends”! This private tour is led by Helmut Leitner and takes us through some of the most beautiful scenery in all of Europe. We will visit some of the classic towns and villages in the Dolomites and enjoy the stunning natural scenery. I’m sure you all will enjoy this unique experience. Thank you for joining us!
URL:https://xn--sdtirol-dolomiten-touren-vsc.com/veranstaltung/bernd-with-friends/?lang=en
LOCATION:Hotel Leitner\, Katharina Lanz Street 83\, Mühlbach (BZ)\, 39037\, Italien
ATTACH;FMTTYPE=image/jpeg:https://xn--sdtirol-dolomiten-touren-vsc.com/wp-content/uploads/2022/11/Autotour-Mit-Vollgas-in-den-Herbst-Suedtirol-Dolomiten-Touren2-scaled.jpg
END:VEVENT
BEGIN:VEVENT
DTSTART;VALUE=DATE:20230501
DTEND;VALUE=DATE:20230505
DTSTAMP:20260425T022657
CREATED:20221118T084303Z
LAST-MODIFIED:20221118T091145Z
UID:10000222-1682899200-1683244799@xn--sdtirol-dolomiten-touren-vsc.com
SUMMARY:Dream cars in front of dream scenery 1
DESCRIPTION:Anyone who knows the Dolomites knows that this is a unique landscape. From breathtaking mountain ranges to picturesque valleys\, everything is represented. And it is precisely this diversity that makes a car tour through the Dolomites something very special. The landscape is incredibly diverse and offers both breathtaking views and numerous opportunities to explore the surrounding area. For example\, you can explore the numerous mountain ranges or relax in one of the picturesque valleys. \nSo if you are looking for an unforgettable experience\, you should consider a car tour with Helmut Leitner through the Dolomites. Because here you can not only admire dream cars in front of breathtaking scenery\, but also enjoy the unique landscape of the Dolomites. \nPrice in a double room €519
URL:https://xn--sdtirol-dolomiten-touren-vsc.com/veranstaltung/dream-cars-in-front-of-dream-scenery-1/?lang=en
LOCATION:Hotel Leitner\, Katharina Lanz Street 83\, Mühlbach (BZ)\, 39037\, Italien
CATEGORIES:tours
ATTACH;FMTTYPE=image/jpeg:https://xn--sdtirol-dolomiten-touren-vsc.com/wp-content/uploads/2022/08/Suedtirol-Dolomiten-Touren-Traumautos-Traumkulissen.jpg
END:VEVENT
BEGIN:VEVENT
DTSTART;VALUE=DATE:20230501
DTEND;VALUE=DATE:20230502
DTSTAMP:20260425T022657
CREATED:20220813T193311Z
LAST-MODIFIED:20221116T174649Z
UID:10000218-1682928000-1682960400@xn--sdtirol-dolomiten-touren-vsc.com
SUMMARY:Dream cars in front of dream backdrops
DESCRIPTION:Tour through the Dolomites with dream cars and dream scenery\n\nThe name says it all – dream cars! Just take a look at the gallery. Madness – the finest stainless steel with the finest precision engineering. It’s fun – to look at and even more so to drive. \nAnd where is the best place to drive? Against the dreamy backdrop of the South Tyrolean Dolomites!!!\nLet’s go: Campolonogo pass to warm up. Then Val del Mis and “Croce d’Aune” – a fantastic circuit. The excellent food in “Feltre Panevina” goes well with this.\nStrengthened\, we continue to the Rolle Pass\, then San Pellegrino – very few have seen the pass\, most have drunk the mineral water! And for the finale\, the “all-time classic”: the Sella Pass.\nWhat was nicer now? The dream setting or the unique fleet of vehicles?
URL:https://xn--sdtirol-dolomiten-touren-vsc.com/veranstaltung/dream-cars-in-front-of-dream-backdrops/2023-05-01/?lang=en
ATTACH;FMTTYPE=image/jpeg:https://xn--sdtirol-dolomiten-touren-vsc.com/wp-content/uploads/2022/08/Touren-mit-dem-Auto-durch-die-Dolomiten-Traumautos-vor-Traumkulisse-13.jpg
END:VEVENT
BEGIN:VEVENT
DTSTART;VALUE=DATE:20230503
DTEND;VALUE=DATE:20230508
DTSTAMP:20260425T022657
CREATED:20220815T125611Z
LAST-MODIFIED:20230320T064649Z
UID:10000118-1683072000-1683503999@xn--sdtirol-dolomiten-touren-vsc.com
SUMMARY:Pleasure Tour South Tyrol\, Dolomites
DESCRIPTION:Enjoy about 220 km of beautiful nature\, food lovers and photo sessions every day\n          \n          A pleasure tour by car through the Dolomites is a wonderful way to treat yourself to a break. You can explore the unique landscape of the Dolomites by car and be amazed by the beauty of nature. The Hotel Leitner in Mühlbach has a special offer for this purpose: €699 per person in a double room .  \n          Tour highlights include Lake Braies\, Pederü\, Sella Passo Fedaia\, Passo Pordoi\, Passo di Giau\, Passo di Falzarego and Lake Misurina .  \n          During the tour\, you can drive along the route and enjoy the views\, but also allow time to take photos. The daily route is about 220 km and guarantees a relaxing and unforgettable journey. \n€699 per person in a double room
URL:https://xn--sdtirol-dolomiten-touren-vsc.com/veranstaltung/pleasure-tour-south-tyrol-dolomites/?lang=en
LOCATION:Hotel Leitner\, Katharina Lanz Street 83\, Mühlbach (BZ)\, 39037\, Italien
CATEGORIES:tours
ATTACH;FMTTYPE=image/jpeg:https://xn--sdtirol-dolomiten-touren-vsc.com/wp-content/uploads/2022/08/Genuss-Tour-Ausgebucht.jpg
END:VEVENT
BEGIN:VEVENT
DTSTART;VALUE=DATE:20230507
DTEND;VALUE=DATE:20230511
DTSTAMP:20260425T022657
CREATED:20221110T150927Z
LAST-MODIFIED:20221113T193832Z
UID:10000173-1683417600-1683763199@xn--sdtirol-dolomiten-touren-vsc.com
SUMMARY:Family & Friends
DESCRIPTION:Friendship is priceless\nTogether we are on the “Friendship is priceless” car tour through South Tyrol – and there is no better way to experience the impressive passes and curves of this breathtaking landscape than together with the people you love most. On this tour we not only get to know the friends of friends\, but also discover a whole new side of South Tyrol – and our friendship. We start in Mühlbach and drive through forests and valleys\, past lakes and small villages. The landscape is breathtaking and we enjoy every moment.  \nprivate tour
URL:https://xn--sdtirol-dolomiten-touren-vsc.com/veranstaltung/family-friends/?lang=en
LOCATION:Hotel Leitner\, Katharina Lanz Street 83\, Mühlbach (BZ)\, 39037\, Italien
CATEGORIES:tours
ATTACH;FMTTYPE=image/jpeg:https://xn--sdtirol-dolomiten-touren-vsc.com/wp-content/uploads/2022/08/Family-Friends-II.jpg
END:VEVENT
BEGIN:VEVENT
DTSTART;VALUE=DATE:20230507
DTEND;VALUE=DATE:20230508
DTSTAMP:20260425T022657
CREATED:20220820T193809Z
LAST-MODIFIED:20221110T150519Z
UID:10000170-1683446400-1683478800@xn--sdtirol-dolomiten-touren-vsc.com
SUMMARY:Family & Friends
DESCRIPTION:Friendship is priceless\nNothing beats true friends. They are the best passengers on car tours with passes and curves. Today we start a new friends tour and also get to know the friends of friends. Family & Friends – endless passes! \nprivate tour
URL:https://xn--sdtirol-dolomiten-touren-vsc.com/veranstaltung/family-friends-ii/2023-05-07/?lang=en
LOCATION:Hotel Leitner\, Katharina Lanz Street 83\, Mühlbach (BZ)\, 39037\, Italien
ATTACH;FMTTYPE=image/jpeg:https://xn--sdtirol-dolomiten-touren-vsc.com/wp-content/uploads/2022/08/Family-Friends-II.jpg
END:VEVENT
BEGIN:VEVENT
DTSTART;VALUE=DATE:20230512
DTEND;VALUE=DATE:20230517
DTSTAMP:20260425T022657
CREATED:20221110T151359Z
LAST-MODIFIED:20221113T194717Z
UID:10000176-1683849600-1684281599@xn--sdtirol-dolomiten-touren-vsc.com
SUMMARY:WingMan Tour Dolomites Spring
DESCRIPTION:The WingMan Tour Dolomites Spring is the perfect opportunity to experience the best of South Tyrol’s culinary scene. Enjoy traditional specialties or a really good pizza in insider restaurants before heading back up the mountain road and discovering the next surprise of the tour! The tour takes you over breathtaking passes and through narrow\, winding roads in the Dolomites. This is the perfect car tour for anyone who wants to experience the best of South Tyrol and the Dolomites! You will get to know the breathtaking scenery and the unique culture of this area and you will not regret it.  \nprivate tour
URL:https://xn--sdtirol-dolomiten-touren-vsc.com/veranstaltung/wingman-tour-dolomites-spring/?lang=en
ATTACH;FMTTYPE=image/jpeg:https://xn--sdtirol-dolomiten-touren-vsc.com/wp-content/uploads/2022/07/Wingman-Tour-2022-13.jpeg
END:VEVENT
BEGIN:VEVENT
DTSTART;VALUE=DATE:20230515
DTEND;VALUE=DATE:20230519
DTSTAMP:20260425T022658
CREATED:20221110T154134Z
LAST-MODIFIED:20230320T064747Z
UID:10000179-1684108800-1684454399@xn--sdtirol-dolomiten-touren-vsc.com
SUMMARY:Dream cars in front of a dream backdrop 2
DESCRIPTION:If you are looking for an unforgettable experience in the South Tyrolean Dolomites\, you can look forward to a tour with dream cars and breathtaking landscapes. The vehicles themselves are a feast for the eyes and fun to drive. During the tour you can explore different pass roads\, such as the Campolonogo Pass and the Rolle Pass\, as well as the town of San Pellegrino. At the end of the tour\, the well-known Sella Pass is on the program – a must for all car enthusiasts! \nPrice in a double room €519
URL:https://xn--sdtirol-dolomiten-touren-vsc.com/veranstaltung/dream-cars-in-front-of-a-dream-backdrop/?lang=en
LOCATION:Hotel Leitner\, Katharina Lanz Street 83\, Mühlbach (BZ)\, 39037\, Italien
CATEGORIES:tours
ATTACH;FMTTYPE=image/jpeg:https://xn--sdtirol-dolomiten-touren-vsc.com/wp-content/uploads/2022/11/Traumautos-Traumkulissen-Ausgebucht.jpg
END:VEVENT
BEGIN:VEVENT
DTSTART;VALUE=DATE:20230521
DTEND;VALUE=DATE:20230525
DTSTAMP:20260425T022658
CREATED:20221110T162136Z
LAST-MODIFIED:20221110T170912Z
UID:10000182-1684627200-1684972799@xn--sdtirol-dolomiten-touren-vsc.com
SUMMARY:Convertible Europe
DESCRIPTION:My name is Helmut and I am a real South Tyrolean. Having grown up in the mountains\, I know the area like the back of my hand. If there is something to discover\, then I know exactly where it is. And what could be nicer than exploring this beautiful landscape by car? I love driving through the curves and being on the mountain passes. The view is just stunning and it’s so much fun!  \nEspecially when you’re with someone you like. Then you can enjoy the beautiful moments even more intensively. But of course you always have to be careful. The roads in the mountains are often not easy to drive on and caution is therefore required. But don’t worry\, I’m an experienced driver and I know this area like the back of my hand.  \nSo\, if you fancy an exciting car tour in the South Tyrolean mountains\, then just come along – I’m looking forward to it!
URL:https://xn--sdtirol-dolomiten-touren-vsc.com/veranstaltung/convertible-europe-2/?lang=en
LOCATION:Hotel Leitner\, Katharina Lanz Street 83\, Mühlbach (BZ)\, 39037\, Italien
ATTACH;FMTTYPE=image/jpeg:https://xn--sdtirol-dolomiten-touren-vsc.com/wp-content/uploads/2022/08/Touren-mit-dem-Auto-durch-die-Dolomiten-Traumautos-vor-Traumkulisse-20.jpg
END:VEVENT
END:VCALENDAR