BEGIN:VCALENDAR
VERSION:2.0
PRODID:-//Südtirol Dolomiten Touren - ECPv6.15.20//NONSGML v1.0//EN
CALSCALE:GREGORIAN
METHOD:PUBLISH
X-ORIGINAL-URL:https://xn--sdtirol-dolomiten-touren-vsc.com/?lang=it
X-WR-CALDESC:Eventi per Südtirol Dolomiten Touren
REFRESH-INTERVAL;VALUE=DURATION:PT1H
X-Robots-Tag:noindex
X-PUBLISHED-TTL:PT1H
BEGIN:VTIMEZONE
TZID:Europe/Berlin
BEGIN:DAYLIGHT
TZOFFSETFROM:+0100
TZOFFSETTO:+0200
TZNAME:CEST
DTSTART:20240331T010000
END:DAYLIGHT
BEGIN:STANDARD
TZOFFSETFROM:+0200
TZOFFSETTO:+0100
TZNAME:CET
DTSTART:20241027T010000
END:STANDARD
BEGIN:DAYLIGHT
TZOFFSETFROM:+0100
TZOFFSETTO:+0200
TZNAME:CEST
DTSTART:20250330T010000
END:DAYLIGHT
BEGIN:STANDARD
TZOFFSETFROM:+0200
TZOFFSETTO:+0100
TZNAME:CET
DTSTART:20251026T010000
END:STANDARD
BEGIN:DAYLIGHT
TZOFFSETFROM:+0100
TZOFFSETTO:+0200
TZNAME:CEST
DTSTART:20260329T010000
END:DAYLIGHT
BEGIN:STANDARD
TZOFFSETFROM:+0200
TZOFFSETTO:+0100
TZNAME:CET
DTSTART:20261025T010000
END:STANDARD
END:VTIMEZONE
BEGIN:VEVENT
DTSTART;VALUE=DATE:20250921
DTEND;VALUE=DATE:20250926
DTSTAMP:20260420T071703
CREATED:20240116T210049Z
LAST-MODIFIED:20250618T123909Z
UID:10000256-1758412800-1758844799@xn--sdtirol-dolomiten-touren-vsc.com
SUMMARY:Tour in auto “Dolomiti Panorama Drive: i tesori nascosti dell’Alto Adige”
DESCRIPTION:Preparati per un viaggio che non dimenticherai mai! Sul Dolomiti Panorama Drive vivrete emozionanti giri in macchina\, natura meravigliosa e cibo delizioso. Dal 21 al 25 settembre 2025 vi mostreremo i migliori consigli utili in Alto Adige e nelle Dolomiti. Puoi aspettarti panorami meravigliosi\, percorsi emozionanti e momenti che ricorderete per sempre. Immergiti in un mondo pieno di paesaggi affascinanti\, attrazioni culturali ed esperienze uniche perfette per gli amanti della natura e degli automobilisti.     \nIl tuo viaggio: \n\nGiorno 1: Benvenuti nell’accogliente Hotel Leitner! Dopo il vostro arrivo brinderemo insieme con un aperitivo e vi spiegheremo il percorso previsto. Godetevi l’atmosfera familiare dell’hotel e conoscete gli altri partecipanti al tour. La prima serata è pensata per rilassarsi e prendere l’atmosfera giusta per le avventure a venire.   \nGiorno 2 – 4: Durante il nostro viaggio esploriamo i luoghi più belli delle Dolomiti. Questi includono la pittoresca Val Pusteria\, il lago di Dobbiaco liscio come uno specchio e il famoso Passo Sella. Oltre alle attrazioni più famose\, ci fermiamo anche in luoghi meno conosciuti che ti impressioneranno con la loro bellezza naturale. Ci sono molte opportunità per scattare foto e godersi il paesaggio. Potrai anche assaggiare specialità locali e imparare storie emozionanti sulla regione e sulle sue tradizioni. In serata ritorniamo in hotel\, dove potrete rilassarvi con una deliziosa cena.     \nGiorno 5: Al termine ci godiamo una serata rilassante all’Hotel Leitner. Qui potrete riflettere sulle impressioni del viaggio e salutare il tour. Concludiamo il viaggio con una cena speciale preparata appositamente per il nostro gruppo. Condividi i tuoi momenti preferiti con gli altri partecipanti e porta a casa con te ricordi indimenticabili.   \n\nPunti salienti: \n\nNatura meravigliosa: le Dolomiti sono un posto da vedere! Ci sono laghi cristallini\, alte montagne e passi emozionanti. Ogni curva ti porta verso un panorama nuovo\, mozzafiato.  \nCucina deliziosa: provate le specialità altoatesine come i canederli fatti in casa\, lo speck delizioso e i vini pregiati. Visitiamo ristoranti selezionati noti per la loro cucina regionale. \nMomenti indimenticabili: cattura i momenti più belli con la tua fotocamera\, sia in un tranquillo lago di montagna o su una vetta impressionante. Il nostro viaggio ti offre numerose opportunità per catturare i momenti più belli. \nContatto personale: grazie alle dimensioni ridotte del nostro gruppo\, potete porre le vostre domande in qualsiasi momento e godervi un’atmosfera familiare.\nApprofondimenti esclusivi: scopri di più sulla storia e la cultura delle Dolomiti. Le nostre guide turistiche conoscono la regione come le loro tasche e condividono aneddoti emozionanti. \n\nPerché dovresti iscriverti?\nIl Dolomites Panorama Drive è più di un semplice viaggio. È un “avventura per chiunque ami guidare e voglia scoprire la natura. Che ti piaccia esplorare nuovi luoghi o semplicemente divertirti\, questo tour è perfetto per te! La combinazione di divertimento alla guida\, natura e piacere rende questo viaggio un” esperienza indimenticabile. Fai nuove amicizie\, scopri angoli segreti delle Dolomiti e lasciati incantare da paesaggi mozzafiato.     \nPrezzo a persona in camera doppia: 725€ \nNon aspettare troppo a lungo: i posti sono limitati! Iscriviti subito e vivi le Dolomiti in un modo davvero unico. Quest’avventura aspetta solo te!
URL:https://xn--sdtirol-dolomiten-touren-vsc.com/veranstaltung/tour-in-auto-dolomiti-panorama-drive-i-tesori-nascosti-dellalto-adige/?lang=it
LOCATION:Hotel Leitner\, Via Katharina Lanz 83\, Rio di Pusteria (BZ)\, 39037\, Italien
CATEGORIES:tour
ATTACH;FMTTYPE=image/jpeg:https://xn--sdtirol-dolomiten-touren-vsc.com/wp-content/uploads/2022/08/Apfelbluetentour-Ausgebucht.jpg
END:VEVENT
END:VCALENDAR