BEGIN:VCALENDAR
VERSION:2.0
PRODID:-//Südtirol Dolomiten Touren - ECPv6.15.20//NONSGML v1.0//EN
CALSCALE:GREGORIAN
METHOD:PUBLISH
X-WR-CALNAME:Südtirol Dolomiten Touren
X-ORIGINAL-URL:https://xn--sdtirol-dolomiten-touren-vsc.com/?lang=it
X-WR-CALDESC:Eventi per Südtirol Dolomiten Touren
REFRESH-INTERVAL;VALUE=DURATION:PT1H
X-Robots-Tag:noindex
X-PUBLISHED-TTL:PT1H
BEGIN:VTIMEZONE
TZID:Europe/Berlin
BEGIN:DAYLIGHT
TZOFFSETFROM:+0100
TZOFFSETTO:+0200
TZNAME:CEST
DTSTART:20240331T010000
END:DAYLIGHT
BEGIN:STANDARD
TZOFFSETFROM:+0200
TZOFFSETTO:+0100
TZNAME:CET
DTSTART:20241027T010000
END:STANDARD
BEGIN:DAYLIGHT
TZOFFSETFROM:+0100
TZOFFSETTO:+0200
TZNAME:CEST
DTSTART:20250330T010000
END:DAYLIGHT
BEGIN:STANDARD
TZOFFSETFROM:+0200
TZOFFSETTO:+0100
TZNAME:CET
DTSTART:20251026T010000
END:STANDARD
BEGIN:DAYLIGHT
TZOFFSETFROM:+0100
TZOFFSETTO:+0200
TZNAME:CEST
DTSTART:20260329T010000
END:DAYLIGHT
BEGIN:STANDARD
TZOFFSETFROM:+0200
TZOFFSETTO:+0100
TZNAME:CET
DTSTART:20261025T010000
END:STANDARD
END:VTIMEZONE
BEGIN:VEVENT
DTSTART;VALUE=DATE:20250709
DTEND;VALUE=DATE:20250713
DTSTAMP:20260422T105908
CREATED:20220818T195212Z
LAST-MODIFIED:20250626T110958Z
UID:10000142-1752019200-1752364799@xn--sdtirol-dolomiten-touren-vsc.com
SUMMARY:BMW MINI
DESCRIPTION:BMW MINI Dolomites Tour: un’avventura su quattro ruote\n9-12 luglio 2025 | 465 € a persona in camera doppia \nImmagina: il profondo ronzio della tua MINI che riecheggia tra le maestose Dolomiti mentre ti fai strada attraverso i leggendari passi alpini. Un tour che non promette solo divertimento alla guida\, ma delizia anche i sensi: con viste spettacolari\, curve mozzafiato e specialità culinarie!  \nGiorno 1: Arrivo e immersione\nLa tua avventura inizia in Alto Adige! Fate il check-in nel vostro confortevole hotel e gustate un aperitivo per iniziare al meglio la giornata. L’attesa cresce: le strade delle Dolomiti ti aspettano!   \nGiorno 2 e 3: Divertimento alla guida e panorama alpino allo stato puro\nAdesso inizia davvero:  Percorsi tortuosi da sogno vi condurranno attraverso i passi alpini più iconici\, come Valparola\, Giau\, Staulanza\, Cibiana e Sella : strade leggendarie che fanno battere più forte il cuore di ogni automobilista. Lungo il percorso vi attendono soste pittoresche con viste spettacolari e specialità culinarie selezionate che faranno risaltare i sapori dell’Alto Adige nei vostri piatti.  \nRelax e divertimento dopo una perfetta giornata di guida\nDopo ore emozionanti sui percorsi panoramici più belli\, rilassatevi nel vostro elegante hotel. È inclusa la mezza pensione\, così potrete concludere la giornata con prelibatezze regionali e un bicchiere di vino.  \nGiorno 4: Ricordi indimenticabili e arrivederci\nDopo tre giorni pieni di divertimento\, esperienze nella natura e socializzazione\, saluterai le Dolomiti\, ma non senza innumerevoli ricordi e foto nel tuo bagaglio! \nPrenota il tuo posto per questo straordinario tour!\nVivi da vicino il fascino delle Dolomiti : prenota subito e vieni a trovarci! \n📅 9-12 luglio 2025  💰 465 € a persona in camera doppia (incl. mezza pensione)  🏎 Visita guidata con guida esperta  🥂 Specialità culinarie e soste fotografiche indimenticabili \n➡ Invia una richiesta e partecipa!
URL:https://xn--sdtirol-dolomiten-touren-vsc.com/veranstaltung/bmw-sud-ovest-mini/?lang=it
LOCATION:Hotel Leitner\, Via Katharina Lanz 83\, Rio di Pusteria (BZ)\, 39037\, Italien
CATEGORIES:tour
ATTACH;FMTTYPE=image/jpeg:https://xn--sdtirol-dolomiten-touren-vsc.com/wp-content/uploads/2022/08/Autotour-Dolomiten-BMW-MINI-Ausgebucht.jpg
END:VEVENT
END:VCALENDAR