BEGIN:VCALENDAR
VERSION:2.0
PRODID:-//Südtirol Dolomiten Touren - ECPv6.15.20//NONSGML v1.0//EN
CALSCALE:GREGORIAN
METHOD:PUBLISH
X-WR-CALNAME:Südtirol Dolomiten Touren
X-ORIGINAL-URL:https://xn--sdtirol-dolomiten-touren-vsc.com/?lang=it
X-WR-CALDESC:Eventi per Südtirol Dolomiten Touren
REFRESH-INTERVAL;VALUE=DURATION:PT1H
X-Robots-Tag:noindex
X-PUBLISHED-TTL:PT1H
BEGIN:VTIMEZONE
TZID:Europe/Berlin
BEGIN:DAYLIGHT
TZOFFSETFROM:+0100
TZOFFSETTO:+0200
TZNAME:CEST
DTSTART:20230326T010000
END:DAYLIGHT
BEGIN:STANDARD
TZOFFSETFROM:+0200
TZOFFSETTO:+0100
TZNAME:CET
DTSTART:20231029T010000
END:STANDARD
BEGIN:DAYLIGHT
TZOFFSETFROM:+0100
TZOFFSETTO:+0200
TZNAME:CEST
DTSTART:20240331T010000
END:DAYLIGHT
BEGIN:STANDARD
TZOFFSETFROM:+0200
TZOFFSETTO:+0100
TZNAME:CET
DTSTART:20241027T010000
END:STANDARD
BEGIN:DAYLIGHT
TZOFFSETFROM:+0100
TZOFFSETTO:+0200
TZNAME:CEST
DTSTART:20250330T010000
END:DAYLIGHT
BEGIN:STANDARD
TZOFFSETFROM:+0200
TZOFFSETTO:+0100
TZNAME:CET
DTSTART:20251026T010000
END:STANDARD
END:VTIMEZONE
BEGIN:VEVENT
DTSTART;VALUE=DATE:20240427
DTEND;VALUE=DATE:20240502
DTSTAMP:20260426T053539
CREATED:20231114T173211Z
LAST-MODIFIED:20231223T102531Z
UID:10000252-1714176000-1714607999@xn--sdtirol-dolomiten-touren-vsc.com
SUMMARY:Amici del Porsche Club
DESCRIPTION:Scopri la magia delle Dolomiti altoatesine con Helmut e gli amici del Porsche Club\nCiao cari amici del Porsche Club\, \nSono Helmut Leitner\, detto TRIENTNA \, e vorrei invitarvi ad un viaggio molto speciale. Dal 27 aprile al 1 maggio 2024 esploreremo insieme la bellezza mozzafiato delle Dolomiti altoatesine . Il nostro tour non è solo un viaggio attraverso uno dei paesaggi più belli d’Europa\, ma anche un’esperienza esclusiva per gli amanti della Porsche. \nPunto di partenza: Hotel Leitner – La nostra porta sulle Dolomiti\nIl nostro viaggio inizia all’Hotel Leitner \, un luogo che offre comfort e ospitalità in mezzo al pittoresco paesaggio altoatesino. Qui ci incontriamo per iniziare il nostro tour nel mondo delle maestose montagne. \nIl percorso: Da est a ovest\, attraversando passi e valli\nIl nostro percorso ci porta verso est verso le Dolomiti Carniche e ovviamente verso i famosi passi dolomitici. Ogni chilometro del nostro percorso è scelto con cura per garantire di ottenere il massimo da questa spettacolare regione. Attraverseremo paesaggi mozzafiato\, sfondo perfetto per le nostre Porsche. \nEsclusività e comunità: un tour privato per gli appassionati Porsche\nQuesto tour è riservato esclusivamente ai soci del Porsche Club. È un’opportunità per incontrare persone che la pensano allo stesso modo\, scambiare esperienze e condividere la propria passione per Porsche. Siamo una comunità che unisce la gioia di guidare e l’amore per le auto straordinarie.
URL:https://xn--sdtirol-dolomiten-touren-vsc.com/veranstaltung/amici-del-porsche-club/?lang=it
LOCATION:Hotel Leitner\, Via Katharina Lanz 83\, Rio di Pusteria (BZ)\, 39037\, Italien
CATEGORIES:tour
ATTACH;FMTTYPE=image/jpeg:https://xn--sdtirol-dolomiten-touren-vsc.com/wp-content/uploads/2023/11/Porsche-Club-Freunde.jpg
END:VEVENT
BEGIN:VEVENT
DTSTART;VALUE=DATE:20240430
DTEND;VALUE=DATE:20240505
DTSTAMP:20260426T053539
CREATED:20231105T110420Z
LAST-MODIFIED:20231223T102702Z
UID:10000247-1714435200-1714867199@xn--sdtirol-dolomiten-touren-vsc.com
SUMMARY:Giro di piacere
DESCRIPTION:Scopri le meraviglie dell’Alto Adige: il tuo esclusivo tour delle Dolomiti\nVivi la magia delle Dolomiti\nL’Alto Adige\, una regione nota per le sue bellezze naturali mozzafiato\, la diversità culturale e le delizie culinarie\, vi invita a diventare parte di un viaggio indimenticabile. Con i tour delle Dolomiti dell’Alto Adige vi offriamo un’opportunità esclusiva per scoprire e vivere l’essenza di questo pittoresco paesaggio. \nIl vostro compagno di viaggio: Helmut Leitner\nSotto la guida esperta di Helmut Leitner\, il rinomato organizzatore e albergatore dell’Hotel Leitner\, vi accompagneremo in un tour che coinvolge tutti i sensi. Helmut\, originario dell’Alto Adige\, conosce come nessun altro i tesori nascosti della sua terra natale e vi guiderà nei luoghi più spettacolari della regione. \nIl percorso: Tra il Lago di Braies e il Lago di Misurina\nDal 01.05. Fino al 4 maggio 2024 si svolge il nostro GenussTour \, che vi porta attraverso le strade di montagna e di passo più pittoresche. Il Lago di Braies\, con le sue acque cristalline e i maestosi scenari montani\, vi farà battere forte il cuore. Il Lago di Misurina\, gioiello delle Dolomiti\, regala scenari che non dimenticherete presto. \nHighlight culinari\nLa cucina altoatesina è una simbiosi tra la cordialità alpina e la leggerezza mediterranea. Durante il nostro tour sarai trattato con specialità locali che combinano il meglio dei due mondi. Ogni pasto diventa un’esperienza indimenticabile che incanterà le vostre papille gustative. \nNumero limitato di partecipanti\nCrediamo nella qualità piuttosto che nella quantità. Pertanto\, il numero di partecipanti al nostro GenussTour è strettamente limitato. Ciò garantisce un’atmosfera personale e ci consente di rispondere ai desideri individuali di ogni ospite. \nLa vostra casa: Hotel Leitner\nL’Hotel Leitner\, la vostra casa durante il tour\, unisce il fascino tradizionale al comfort moderno. Qui potrete rilassarvi dopo una giornata intensa e riflettere in tutta tranquillità sulle vostre impressioni. \nUn pacchetto tutto compreso\nAl prezzo di soli 19 € a persona in camera doppia riceverete un pacchetto completo e spensierato che comprende pernottamento\, visite guidate e mezza pensione. Ricordatevi che i posti si riempiono velocemente\, quindi assicuratevi per tempo il vostro biglietto per le Dolomiti.
URL:https://xn--sdtirol-dolomiten-touren-vsc.com/veranstaltung/giro-di-piacere/?lang=it
LOCATION:Hotel Leitner\, Via Katharina Lanz 83\, Rio di Pusteria (BZ)\, 39037\, Italien
CATEGORIES:tour
ATTACH;FMTTYPE=image/jpeg:https://xn--sdtirol-dolomiten-touren-vsc.com/wp-content/uploads/2022/08/Genuss-Tour-2022-Touren-mit-dem-Auto-Dolomiten-Suedtirol5.jpg
END:VEVENT
END:VCALENDAR