BEGIN:VCALENDAR
VERSION:2.0
PRODID:-//Südtirol Dolomiten Touren - ECPv6.15.20//NONSGML v1.0//EN
CALSCALE:GREGORIAN
METHOD:PUBLISH
X-WR-CALNAME:Südtirol Dolomiten Touren
X-ORIGINAL-URL:https://xn--sdtirol-dolomiten-touren-vsc.com/?lang=it
X-WR-CALDESC:Eventi per Südtirol Dolomiten Touren
REFRESH-INTERVAL;VALUE=DURATION:PT1H
X-Robots-Tag:noindex
X-PUBLISHED-TTL:PT1H
BEGIN:VTIMEZONE
TZID:Europe/Berlin
BEGIN:DAYLIGHT
TZOFFSETFROM:+0100
TZOFFSETTO:+0200
TZNAME:CEST
DTSTART:20250330T010000
END:DAYLIGHT
BEGIN:STANDARD
TZOFFSETFROM:+0200
TZOFFSETTO:+0100
TZNAME:CET
DTSTART:20251026T010000
END:STANDARD
BEGIN:DAYLIGHT
TZOFFSETFROM:+0100
TZOFFSETTO:+0200
TZNAME:CEST
DTSTART:20260329T010000
END:DAYLIGHT
BEGIN:STANDARD
TZOFFSETFROM:+0200
TZOFFSETTO:+0100
TZNAME:CET
DTSTART:20261025T010000
END:STANDARD
BEGIN:DAYLIGHT
TZOFFSETFROM:+0100
TZOFFSETTO:+0200
TZNAME:CEST
DTSTART:20270328T010000
END:DAYLIGHT
BEGIN:STANDARD
TZOFFSETFROM:+0200
TZOFFSETTO:+0100
TZNAME:CET
DTSTART:20271031T010000
END:STANDARD
END:VTIMEZONE
BEGIN:VEVENT
DTSTART;VALUE=DATE:20260902
DTEND;VALUE=DATE:20260907
DTSTAMP:20260423T003653
CREATED:20260125T120556Z
LAST-MODIFIED:20260129T115234Z
UID:10000330-1788307200-1788739199@xn--sdtirol-dolomiten-touren-vsc.com
SUMMARY:Auto da sogno su uno sfondo da sogno
DESCRIPTION:I classici delle Dolomiti in 3 giorni: da vivere\, gustare e ricordare.\nA volte basta uno sguardo alle montagne e capisci subito: è lì che voglio andare.\n Curva dopo curva\, quel particolare flusso dolomitico\, e una luce che fa sembrare la tua auto uscita da uno studio di design. È proprio per questo che è stato creato “Dream Cars Against a Dream Backdrop” : per tutti coloro che non vogliono solo percorrere un qualsiasi circuito\, ma collezionare i classici : Sella\, Misurina\, Giau\, Fedaia\, Mendola e molti altri.  \nQuesto non è un evento di massa. È un’esperienza per chi ama la cultura della guida \, celebra l’estetica e vuole dire a fine giornata con un ampio sorriso: “È stato davvero fantastico”.  \n\nAttrazioni delle Dolomiti\nLe auto d’epoca che devi assolutamente guidare.\nNon perdetevi percorsi e luoghi leggendari che vi lasceranno un ricordo indelebile e che saranno belli tanto nelle foto quanto nella vita reale: \n\nSella – un passo di montagna leggendario che risveglia il cuore di ogni automobilista\nMisurina : un paesaggio da cartolina che vi lascerà per un attimo in silenzio.\nGiau – panorama puro\, con curve avvincenti\nFedaia – drammatico\, potente\, indimenticabile\nMendel et al. – l’aggiunta perfetta alla tua collezione classica\n\nE la parte migliore: non abbiamo fretta. Pianifichiamo il tutto in modo che tu abbia tempo per soste fotografiche\, divertimento e momenti autentici .  \n\nCosa rende questo tour speciale\nPiacere di guida con senso del tempismo\nGuidiamo quando è il momento migliore e ci fermiamo dove la tua auto diventa un palcoscenico . \nLuoghi da sogno per foto mozzafiato\nNon limitarsi a “fermarsi brevemente da qualche parte”\, ma organizzarlo deliberatamente : luce\, linea\, sfondo\, ed ecco che si ottiene un ricordo duraturo. \nDivertimento incluso\nUna giornata sulle Dolomiti ha bisogno anche di pause adeguate. Ecco perché il pranzo è incluso nelle escursioni guidate .  \n\nServizi inclusi e prezzo\nPacchetto di servizi\n\n4x mezza pensione (HP)\n3 visite guidate con pranzo incluso \nPernottamento: sera presso l’Hotel Leitner **\nDiretto da: Helmut Leitner (TRIENTNA)\nPranzo incluso\n\nPrezzo\n€799 a persona in camera doppia (DZ) \n\nA chi è rivolto “Auto da sogno in un ambiente da sogno”?\nPer tutti coloro che non vogliono “spuntare” le Dolomiti\, ma viverle davvero .\nPer gli amanti dei classici e che desiderano sedersi in hotel la sera\, ripercorrete la giornata e pensate:  “È esattamente così che dovrebbe essere.” \n\nAssicurati il ​​tuo posto ora\nSe volete collezionare i classici delle Dolomiti\, con guida\, comfort e divertimento \, allora questo è il tour che fa per voi.\nPrenota il tuo posto e fai sì che l’auto dei tuoi sogni diventi la protagonista assoluta sullo sfondo più bello delle Alpi.
URL:https://xn--sdtirol-dolomiten-touren-vsc.com/veranstaltung/8904/?lang=it
LOCATION:Hotel Leitner\, Via Katharina Lanz 83\, Rio di Pusteria (BZ)\, 39037\, Italien
CATEGORIES:tour
ATTACH;FMTTYPE=image/jpeg:https://xn--sdtirol-dolomiten-touren-vsc.com/wp-content/uploads/2022/08/Touren-mit-dem-Auto-durch-die-Dolomiten-Traumautos-vor-Traumkulisse-7.jpg
END:VEVENT
BEGIN:VEVENT
DTSTART;VALUE=DATE:20260906
DTEND;VALUE=DATE:20260910
DTSTAMP:20260423T003653
CREATED:20260125T121323Z
LAST-MODIFIED:20260125T121323Z
UID:10000333-1788652800-1788998399@xn--sdtirol-dolomiten-touren-vsc.com
SUMMARY:GARAGE Blanc con gli amici nelle Dolomiti
DESCRIPTION:GARAGE Blanc & Friends: a conduzione familiare\, elegante e piacevole. Dolomiti da cartolina.\nDiretto da: Helmut Leitner (TRIENTNA)\nPernottamento: sera presso l’Hotel Leitner****\nPranzo incluso
URL:https://xn--sdtirol-dolomiten-touren-vsc.com/veranstaltung/garage-blanc-con-gli-amici-nelle-dolomiti/?lang=it
LOCATION:Hotel Leitner\, Via Katharina Lanz 83\, Rio di Pusteria (BZ)\, 39037\, Italien
CATEGORIES:tour
ATTACH;FMTTYPE=image/jpeg:https://xn--sdtirol-dolomiten-touren-vsc.com/wp-content/uploads/2022/10/Autotour-Mighty-Dolomiti-2022-Suedtirol-Dolomiten-Touren-3.jpg
END:VEVENT
BEGIN:VEVENT
DTSTART;VALUE=DATE:20260908
DTEND;VALUE=DATE:20260913
DTSTAMP:20260423T003653
CREATED:20260125T121429Z
LAST-MODIFIED:20260125T121445Z
UID:10000337-1788825600-1789257599@xn--sdtirol-dolomiten-touren-vsc.com
SUMMARY:Rausch & Friends nelle Dolomiti
DESCRIPTION:Rausch & Friends: percorsi selezionati\, bella atmosfera\, serate in compagnia.\n Diretto da: Helmut Leitner (TRIENTNA)\n Pernottamento: sera presso l’Hotel Leitner****\n Pranzo incluso
URL:https://xn--sdtirol-dolomiten-touren-vsc.com/veranstaltung/rausch-friends-nelle-dolomiti/?lang=it
LOCATION:Hotel Leitner\, Via Katharina Lanz 83\, Rio di Pusteria (BZ)\, 39037\, Italien
CATEGORIES:tour
ATTACH;FMTTYPE=image/jpeg:https://xn--sdtirol-dolomiten-touren-vsc.com/wp-content/uploads/2024/08/Videos-von-Suedtirol-Dolomiten-Touren-1.jpeg
END:VEVENT
BEGIN:VEVENT
DTSTART;VALUE=DATE:20260919
DTEND;VALUE=DATE:20260923
DTSTAMP:20260423T003653
CREATED:20251120T070910Z
LAST-MODIFIED:20251120T124005Z
UID:10000114-1789776000-1790121599@xn--sdtirol-dolomiten-touren-vsc.com
SUMMARY:Tiki-Taka Tour - Gioco di passaggi brevi su hot hoop
DESCRIPTION:Tour in auto Tiki Taka – 19-22 settembre 2026\nPrezzo: € 577 a persona in camera doppia\n2 giorni di viaggio – 3 notti con mezza pensione all’Hotel Leitner\nGuidato da Helmut Leitner – TRIENTNA \n\nSalite\, rilassatevi e riscoprite l’Alto Adige\nIl tour in auto Tiki Taka è perfetto per chi ama le strade tortuose ma desidera viaggiare comodamente in auto. Guida rilassata\, paesaggi mozzafiato e la sensazione di vivere insieme un’esperienza speciale.\n E proprio al centro: Helmut Leitner (TRIENTNA) \, la vostra guida personale attraverso la sua terra natale.  \n\nCosa rende questo tour così speciale?\nDue giorni di guida con varietà e momenti WOW\nHelmut vi guiderà lungo itinerari che difficilmente trovereste senza la conoscenza del posto.\nSi attraversano valli\, si superano passi di montagna\, si superano piccoli villaggi e punti panoramici che altrimenti si potrebbero conoscere solo attraverso i libri illustrati.\nTutto a un ritmo confortevole: il viaggio è la destinazione. \nLa bellezza dell’Alto Adige dalla prospettiva migliore\nIn auto potrete godervi ogni curva\, ogni vista sulle Dolomiti e ogni paesaggio che si apre davanti a voi.\nHelmut vi mostrerà: \n\ntranquille valli laterali lontane dalle rotte turistiche più note\npunti panoramici selezionati\nluoghi incantevoli che hanno mantenuto il loro carattere originale\nincluso il pranzo\n\n\nSerate da godersi – Hotel Leitner\nIl vostro campo base è l’accogliente Hotel Leitner \, dove trascorrerete tre serate rilassanti.\nNon vedo l’ora di: \n\nuna deliziosa cena serale\ncamere confortevoli\nun’atmosfera familiare\nbuone conversazioni sulle esperienze della giornata\n\nQuesto è un posto meraviglioso dove arrivare\, riposarsi e ricaricare le batterie. \n\nPer chi è il tour in auto Tiki Taka?\nPer tutti coloro che amano viaggiare in compagnia e desiderano scoprire l’Alto Adige in modo tranquillo e piacevole.\nPer coppie\, amici o piccoli gruppi che desiderano unire piacere di guida\, natura e comfort.\nPer tutti coloro che dicono:  “Voglio vivere le Dolomiti\, ma in modo rilassato.” \n\nPerché dovresti essere lì\nPerché Helmut conosce le strade come quasi nessun altro e perché sa esattamente cosa rende un tour indimenticabile.\nÈ il mix di paesaggi\, buona compagnia\, tappe rilassate e autentici consigli da esperti. \n\nAssicurati il ​​tuo posto ora\nIl numero di partecipanti è limitato per rendere il tour personale e piacevole.\nSe avete voglia di trascorrere due splendide giornate in auto e volete scoprire l’Alto Adige in un modo completamente diverso\, allora questo tour vi aspetta. \nHelmut non vede l’ora di avervi qui!
URL:https://xn--sdtirol-dolomiten-touren-vsc.com/veranstaltung/tour-di-tiki-taka/?lang=it
LOCATION:Hotel Leitner\, Via Katharina Lanz 83\, Rio di Pusteria (BZ)\, 39037\, Italien
CATEGORIES:tour
ATTACH;FMTTYPE=image/jpeg:https://xn--sdtirol-dolomiten-touren-vsc.com/wp-content/uploads/2022/08/Tiki-Taka-Tour-–-Kurzpassspiel-auf-heissen-Reifen.jpg
END:VEVENT
BEGIN:VEVENT
DTSTART;VALUE=DATE:20260926
DTEND;VALUE=DATE:20261001
DTSTAMP:20260423T003653
CREATED:20251120T124734Z
LAST-MODIFIED:20251120T124942Z
UID:10000279-1790380800-1790812799@xn--sdtirol-dolomiten-touren-vsc.com
SUMMARY:Strada panoramica dell'Alto Adige
DESCRIPTION:€755 a persona in camera doppia – 4 mezze pensioni – 3 giorni di viaggio impressionanti \n\nUn’esperienza che unisce la magia delle Dolomiti alla gioia di vivere altoatesina\nImmagina di chiudere la portiera della tua auto al mattino\, di accendere il motore senza intoppi e di percorrere quelle strade che di solito sogni solo. Sulla Strada Panoramica dell’Alto Adige\, vivrai esattamente questi percorsi\, guidati da Helmut Leitner\, meglio conosciuto come TRIENTNA \, l’uomo che conosce ogni curva delle Dolomiti come chiunque altro conosce il proprio orto.  \n\nPanorami che ti entrano sotto pelle\nTre giorni di guida ricchi di emozioni: maestose catene montuose\, avventurose strade d’alta quota\, valli assolate e panorami mozzafiato. Ogni tappa è stata scelta con cura per farvi vivere l’Alto Adige più autentico e autentico: intenso\, spettacolare e assolutamente indimenticabile.  \nGuidare – Divertirsi – Spegnere\nTra una tappa e l’altra\, vi attende ogni giorno un pranzo accuratamente selezionato \, che cattura i sapori della regione. La sera\, farete ritorno all’Hotel Leitner \, la vostra oasi di benessere per questo tour. Dopo una giornata intensa\, potrete gustare una cena di quattro portate\, rilassarvi\, ridere e lasciarvi trasportare dalle esperienze della giornata.   \nGuidato da esperti e raccontato in modo accattivante\nTRIENTNA non si limita a guidare un tour: lo vive. Con la sua personalità calorosa\, la sua profonda conoscenza del territorio e la sua passione per la guida\, trasforma ogni tappa in una mini-avventura. Non devi preoccuparti di nulla: guida e goditi il ​​tour.   \n\nI servizi in breve\n\n4 notti all’Hotel Leitner\n – inclusa una ricca colazione\n – inclusa una deliziosa cena di mezza pensione  \n3 giorni spettacolari di guida\n – percorsi panoramici accuratamente selezionati\n – visita guidata con TRIENTNA\nPranzo in tutti i giorni di viaggio\nPaesaggi da sogno dell’Alto Adige e delle Dolomiti\nComunità\, divertimento alla guida e momenti indimenticabili\n\n\nPerché questo tour?\nPerché qui troverai esattamente ciò che rende perfetto un viaggio su strada:\nPiacere di guida\, viste panoramiche\, divertimento: tutto racchiuso in un’esperienza che dura a lungo. \n\nSe siete pronti per cinque giorni che non dimenticherete facilmente\, allora il percorso panoramico dell’Alto Adige sarà il momento clou dell’autunno 2026.
URL:https://xn--sdtirol-dolomiten-touren-vsc.com/veranstaltung/strada-panoramica-dellalto-adige/?lang=it
LOCATION:Hotel Leitner\, Via Katharina Lanz 83\, Rio di Pusteria (BZ)\, 39037\, Italien
ATTACH;FMTTYPE=image/jpeg:https://xn--sdtirol-dolomiten-touren-vsc.com/wp-content/uploads/2022/08/Dolomiten-andersT-tour.jpeg
END:VEVENT
BEGIN:VEVENT
DTSTART;VALUE=DATE:20260930
DTEND;VALUE=DATE:20261005
DTSTAMP:20260423T003653
CREATED:20221113T191154Z
LAST-MODIFIED:20251120T125430Z
UID:10000210-1790726400-1791158399@xn--sdtirol-dolomiten-touren-vsc.com
SUMMARY:Curve del Törggelen in Alto Adige: magia autunnale nelle Dolomiti
DESCRIPTION:Törggelen Curves Alto Adige – dal 30.09. al 04.10.2026 \n\n\n\n\n\n\n4 notti in mezza pensione – 3 giorni di viaggio – incluso pranzo tradizionale Törggelen \n€660 a persona in camera doppia\nGuidato da  Helmut Leitner – TRIENTNA \n\nUn tour autunnale che vi farà battere forte il cuore e il palato\nChi ama l’Alto Adige adorerà questo tour. Quando le montagne brillano d’oro\, le castagne sono mature e le cantine aprono le loro porte\, inizia una delle tradizioni più belle della regione: il Törggelen . Ed è proprio in questa atmosfera che vi porteremo in un viaggio indimenticabile attraverso le Dolomiti\, pieno di delizie\, panorami mozzafiato e pura gioia di vivere.   \n\nTre fantastici giorni di guida\nHelmut Leitner\, meglio conosciuto come TRIENTNA \, vi accompagna personalmente attraverso tortuosi passi di montagna\, tranquille valli laterali e punti panoramici dove non potrete fare a meno di prendere la macchina fotografica.\nOgni giornata di guida è pianificata con cura\, equilibrata e ideale per gli intenditori che desiderano coniugare l’esperienza di guida con lo stile di vita altoatesino . \n\nMomento clou: pranzo Törggelen\nUna giornata è dedicata interamente alla tradizione:\n Caldarroste\, mosto d’uva dolce\, Schlutzkrapfen (ravioli ripieni)\, salumi\, canederli\, frittelle di mele: tutto questo in una rustica osteria\, come quelle che si trovano solo se si conosce davvero l’Alto Adige.\nHelmut conosce i posti migliori\, ed è proprio lì che ti fermerai. \n\nSentirsi a casa – all’Hotel Leitner\nQuattro notti in mezza pensione significa: \n\ncamere confortevoli\ncalda ospitalità\nricca colazione\nMenù serali gustosi\nUna conclusione rilassata della giornata in un’atmosfera familiare\n\nArrivi\, scendi dall’auto e ti senti subito arrivato. \n\nPerché proprio questo tour?\nPerché offre il mix perfetto di:\n\nAvventure in curva sulle Dolomiti\nMomenti culinari che non si dimenticano mai\nserate rilassanti in hotel\natmosfera rilassata e autentica\n\nE naturalmente perché viaggiate con TRIENTNA \, una guida che non solo conosce l’Alto Adige\, ma lo vive. \n\n📌 Panoramica del tour\n📅 Data: 30 settembre – 4 ottobre 2026 \n🛏️ 4 x mezza pensione presso l’Hotel Leitner\n🚗 3 giorni di guida attraverso l’Alto Adige\n🥘 Include il tradizionale pranzo Törggelen \n💶 Prezzo: 660 € a persona in camera doppia\n👤 Visita guidata di Helmut Leitner (TRIENTNA)\n\nSiete pronti per la magia dell’autunno in stile altoatesino?\nQuesto tour è perfetto per chi ama il divertimento\, la cultura e gli itinerari da sogno.\nVuoi prenotare o fare domande? Sono pronto!
URL:https://xn--sdtirol-dolomiten-touren-vsc.com/veranstaltung/tour-del-toerggelen-in-alto-adige/?lang=it
LOCATION:Hotel Leitner\, Via Katharina Lanz 83\, Rio di Pusteria (BZ)\, 39037\, Italien
CATEGORIES:tour
ATTACH;FMTTYPE=image/jpeg:https://xn--sdtirol-dolomiten-touren-vsc.com/wp-content/uploads/2022/08/Toerggelen.jpg
END:VEVENT
BEGIN:VEVENT
DTSTART;VALUE=DATE:20261004
DTEND;VALUE=DATE:20261009
DTSTAMP:20260423T003653
CREATED:20250112T110223Z
LAST-MODIFIED:20251222T094358Z
UID:10000270-1791072000-1791503999@xn--sdtirol-dolomiten-touren-vsc.com
SUMMARY:Tour di Trientna – tour in auto attraverso le Dolomiti
DESCRIPTION:Tour di TRIENTNA – Godetevi l&#39;Alto Adige e le Dolomiti\n4–8 ottobre 2026 | 4 giorni | Mezza pensione | €777 a persona in camera doppia \nArriva. Respira. Vivi l’esperienza.  \nQuando l’autunno tinge le Dolomiti di sfumature dorate e le montagne svelano la loro tranquillità\, inizia il tour di TRIENTNA . Questo viaggio è più di un semplice viaggio attraverso l’Alto Adige: è una festa per tutti i sensi .  \nInsieme\, scopriremo gli angoli più belli delle Dolomiti con tre tour guidati . Guiderete in un’atmosfera rilassata\, senza pianificazione o stress\, guidati da Helmut Leitner (TRIENTNA) \, che conosce e ama la regione. Lungo il percorso\, vi aspettano panorami mozzafiato \, percorsi accuratamente selezionati e pranzi condivisi dove anche le delizie culinarie sono garantite.   \nLa sera torniamo all’accogliente Hotel Leitner \, dove vi attendono un’atmosfera piacevole e il trattamento di mezza pensione . Un luogo dove rilassarvi\, socializzare e pregustare il giorno successivo.  \n\nQuesto è incluso per te\n\n4-8 ottobre 2026 – 4 giorni di viaggio rilassanti\nPernottamento presso l’Hotel Leitner\nMezza pensione\n3 tour guidati in auto tra l’Alto Adige e le Dolomiti\n3 pranzi durante i tour\nGuida turistica personale: Helmut Leitner (TRIENTNA)\n\n\nIl prezzo\n€777 a persona in camera doppia \nUn pacchetto completo di scenari\, divertimento\, guida e comunità\, senza costi nascosti. \n\nImportante da sapere\nLa pianificazione del tour viene effettuata con la massima cura \, tuttavia si applicano le seguenti condizioni: 👉 Non è possibile garantire l’esatto itinerario del tour \, poiché i percorsi potrebbero subire variazioni a breve termine a causa delle condizioni meteorologiche o per motivi organizzativi . Ma l’obiettivo rimane sempre lo stesso: i percorsi più belli e sicuri attraverso l’Alto Adige e le Dolomiti . \n\nPer chi è perfetto questo viaggio?\n\nPer intenditori che vogliono vivere l’Alto Adige senza la confusione e la confusione.\nPer chi apprezza i tour guidati in auto e la buona organizzazione\nPer chi preferisce sperimentare piuttosto che pianificare\n\n\nInteressato?\nAllora assicuratevi un posto nel tour TRIENTNA nell’ottobre 2026 e godetevi giornate ricche di panorami\, divertimento e autentici momenti dolomitici. Non si prenota questo viaggio per il programma\, ma per la sensazione che ne deriva.
URL:https://xn--sdtirol-dolomiten-touren-vsc.com/veranstaltung/tour-di-trientna-tour-in-auto-attraverso-le-dolomiti/?lang=it
LOCATION:Hotel Leitner\, Via Katharina Lanz 83\, Rio di Pusteria (BZ)\, 39037\, Italien
CATEGORIES:tour
ATTACH;FMTTYPE=image/jpeg:https://xn--sdtirol-dolomiten-touren-vsc.com/wp-content/uploads/2022/07/trientna-286-1425x807-1.jpg
END:VEVENT
BEGIN:VEVENT
DTSTART;VALUE=DATE:20261014
DTEND;VALUE=DATE:20261019
DTSTAMP:20260423T003653
CREATED:20260125T121529Z
LAST-MODIFIED:20260129T121510Z
UID:10000340-1791936000-1792367999@xn--sdtirol-dolomiten-touren-vsc.com
SUMMARY:A tutto gas in autunno
DESCRIPTION:14 ottobre 2026 – 18 ottobre 2026 | Tour in auto delle Dolomiti\nPassi di montagna senza ostacoli. Linee pulite. Massimo piacere di guida.  \nSe volete vivere al meglio le Dolomiti in auto\, ottobre è il periodo giusto per voi. Le strade diventano deserte\, l’aria è limpida\, la luce colpisce duramente le rocce e l’asfalto sembra fatto apposta per voi.  \n“A tutto gas verso l’autunno” è il nostro tour più sportivo. Niente traffico estivo\, niente esibizionismo: solo guida pura . Concentratevi sull’essenziale: curve\, ritmo\, linea.   \n\nCosa aspettarsi\nStai guidando su passi di montagna veloci e scorrevoli \, puro divertimento\, con linee sportive e un flusso che ha senso. Nessuna sosta inutile\, nessun “dobbiamo arrivare in fretta anche noi”. Invece: puro flusso .   \nPotrai sperimentare: \n\npercorsi pianificati con precisione senza deviazioni\npiccoli gruppi \, in modo che il ritmo rimanga costante\nConsigli dagli autisti per gli autisti : così puoi guidare con facilità.\n\n\nGuidato da Helmut Leitner (TRIENTNA)\nNon sarete soli nel vostro viaggio: Helmut Leitner (TRIENTNA) guiderà voi e il gruppo attraverso le Dolomiti\, con il tempismo giusto\, il ritmo perfetto e seguendo esattamente i percorsi che rendono l’autunno così speciale. \n\nSera: Divertimento in un hotel a 4 stelle\nDopo il viaggio\, arriverete in serata all’Hotel Leitner** a 4 stelle . Potrete rilassarvi\, gustare un buon pasto\, dormire sonni tranquilli e la mattina dopo sarete di nuovo in cammino sui passi alpini.  \n\nServizi e prezzi\n\n4x mezza pensione (HP)\n3 visite guidate con pranzo incluso \nPernottamento: sera presso l’Hotel Leitner 4 stelle **\nPranzo incluso\nPrezzo: €788 a persona in camera doppia\nDiretto da: Helmut Leitner (TRIENTNA)\n\n\nAvvia la richiesta\nSe pensi: “È proprio quello che fa per me”\, allora invia subito la tua richiesta.\nFateci sapere brevemente se venite da soli o in una camera doppia e vi risponderemo al più presto. \nSalite. Riscaldatevi. A tutta velocità verso l’autunno.
URL:https://xn--sdtirol-dolomiten-touren-vsc.com/veranstaltung/a-tutta-velocita-verso-lautunno/?lang=it
LOCATION:Hotel Leitner\, Via Katharina Lanz 83\, Rio di Pusteria (BZ)\, 39037\, Italien
CATEGORIES:tour
ATTACH;FMTTYPE=image/jpeg:https://xn--sdtirol-dolomiten-touren-vsc.com/wp-content/uploads/2022/11/Autotour-Mit-Vollgas-in-den-Herbst-Suedtirol-Dolomiten-Touren14.jpg
END:VEVENT
END:VCALENDAR