BEGIN:VCALENDAR
VERSION:2.0
PRODID:-//Südtirol Dolomiten Touren - ECPv6.15.20//NONSGML v1.0//EN
CALSCALE:GREGORIAN
METHOD:PUBLISH
X-WR-CALNAME:Südtirol Dolomiten Touren
X-ORIGINAL-URL:https://xn--sdtirol-dolomiten-touren-vsc.com/?lang=it
X-WR-CALDESC:Eventi per Südtirol Dolomiten Touren
REFRESH-INTERVAL;VALUE=DURATION:PT1H
X-Robots-Tag:noindex
X-PUBLISHED-TTL:PT1H
BEGIN:VTIMEZONE
TZID:Europe/Berlin
BEGIN:DAYLIGHT
TZOFFSETFROM:+0100
TZOFFSETTO:+0200
TZNAME:CEST
DTSTART:20250330T010000
END:DAYLIGHT
BEGIN:STANDARD
TZOFFSETFROM:+0200
TZOFFSETTO:+0100
TZNAME:CET
DTSTART:20251026T010000
END:STANDARD
BEGIN:DAYLIGHT
TZOFFSETFROM:+0100
TZOFFSETTO:+0200
TZNAME:CEST
DTSTART:20260329T010000
END:DAYLIGHT
BEGIN:STANDARD
TZOFFSETFROM:+0200
TZOFFSETTO:+0100
TZNAME:CET
DTSTART:20261025T010000
END:STANDARD
BEGIN:DAYLIGHT
TZOFFSETFROM:+0100
TZOFFSETTO:+0200
TZNAME:CEST
DTSTART:20270328T010000
END:DAYLIGHT
BEGIN:STANDARD
TZOFFSETFROM:+0200
TZOFFSETTO:+0100
TZNAME:CET
DTSTART:20271031T010000
END:STANDARD
END:VTIMEZONE
BEGIN:VEVENT
DTSTART;VALUE=DATE:20260930
DTEND;VALUE=DATE:20261005
DTSTAMP:20260422T181119
CREATED:20221113T191154Z
LAST-MODIFIED:20251120T125430Z
UID:10000210-1790726400-1791158399@xn--sdtirol-dolomiten-touren-vsc.com
SUMMARY:Curve del Törggelen in Alto Adige: magia autunnale nelle Dolomiti
DESCRIPTION:Törggelen Curves Alto Adige – dal 30.09. al 04.10.2026 \n\n\n\n\n\n\n4 notti in mezza pensione – 3 giorni di viaggio – incluso pranzo tradizionale Törggelen \n€660 a persona in camera doppia\nGuidato da  Helmut Leitner – TRIENTNA \n\nUn tour autunnale che vi farà battere forte il cuore e il palato\nChi ama l’Alto Adige adorerà questo tour. Quando le montagne brillano d’oro\, le castagne sono mature e le cantine aprono le loro porte\, inizia una delle tradizioni più belle della regione: il Törggelen . Ed è proprio in questa atmosfera che vi porteremo in un viaggio indimenticabile attraverso le Dolomiti\, pieno di delizie\, panorami mozzafiato e pura gioia di vivere.   \n\nTre fantastici giorni di guida\nHelmut Leitner\, meglio conosciuto come TRIENTNA \, vi accompagna personalmente attraverso tortuosi passi di montagna\, tranquille valli laterali e punti panoramici dove non potrete fare a meno di prendere la macchina fotografica.\nOgni giornata di guida è pianificata con cura\, equilibrata e ideale per gli intenditori che desiderano coniugare l’esperienza di guida con lo stile di vita altoatesino . \n\nMomento clou: pranzo Törggelen\nUna giornata è dedicata interamente alla tradizione:\n Caldarroste\, mosto d’uva dolce\, Schlutzkrapfen (ravioli ripieni)\, salumi\, canederli\, frittelle di mele: tutto questo in una rustica osteria\, come quelle che si trovano solo se si conosce davvero l’Alto Adige.\nHelmut conosce i posti migliori\, ed è proprio lì che ti fermerai. \n\nSentirsi a casa – all’Hotel Leitner\nQuattro notti in mezza pensione significa: \n\ncamere confortevoli\ncalda ospitalità\nricca colazione\nMenù serali gustosi\nUna conclusione rilassata della giornata in un’atmosfera familiare\n\nArrivi\, scendi dall’auto e ti senti subito arrivato. \n\nPerché proprio questo tour?\nPerché offre il mix perfetto di:\n\nAvventure in curva sulle Dolomiti\nMomenti culinari che non si dimenticano mai\nserate rilassanti in hotel\natmosfera rilassata e autentica\n\nE naturalmente perché viaggiate con TRIENTNA \, una guida che non solo conosce l’Alto Adige\, ma lo vive. \n\n📌 Panoramica del tour\n📅 Data: 30 settembre – 4 ottobre 2026 \n🛏️ 4 x mezza pensione presso l’Hotel Leitner\n🚗 3 giorni di guida attraverso l’Alto Adige\n🥘 Include il tradizionale pranzo Törggelen \n💶 Prezzo: 660 € a persona in camera doppia\n👤 Visita guidata di Helmut Leitner (TRIENTNA)\n\nSiete pronti per la magia dell’autunno in stile altoatesino?\nQuesto tour è perfetto per chi ama il divertimento\, la cultura e gli itinerari da sogno.\nVuoi prenotare o fare domande? Sono pronto!
URL:https://xn--sdtirol-dolomiten-touren-vsc.com/veranstaltung/tour-del-toerggelen-in-alto-adige/?lang=it
LOCATION:Hotel Leitner\, Via Katharina Lanz 83\, Rio di Pusteria (BZ)\, 39037\, Italien
CATEGORIES:tour
ATTACH;FMTTYPE=image/jpeg:https://xn--sdtirol-dolomiten-touren-vsc.com/wp-content/uploads/2022/08/Toerggelen.jpg
END:VEVENT
BEGIN:VEVENT
DTSTART;VALUE=DATE:20261004
DTEND;VALUE=DATE:20261009
DTSTAMP:20260422T181119
CREATED:20250112T110223Z
LAST-MODIFIED:20251222T094358Z
UID:10000270-1791072000-1791503999@xn--sdtirol-dolomiten-touren-vsc.com
SUMMARY:Tour di Trientna – tour in auto attraverso le Dolomiti
DESCRIPTION:Tour di TRIENTNA – Godetevi l&#39;Alto Adige e le Dolomiti\n4–8 ottobre 2026 | 4 giorni | Mezza pensione | €777 a persona in camera doppia \nArriva. Respira. Vivi l’esperienza.  \nQuando l’autunno tinge le Dolomiti di sfumature dorate e le montagne svelano la loro tranquillità\, inizia il tour di TRIENTNA . Questo viaggio è più di un semplice viaggio attraverso l’Alto Adige: è una festa per tutti i sensi .  \nInsieme\, scopriremo gli angoli più belli delle Dolomiti con tre tour guidati . Guiderete in un’atmosfera rilassata\, senza pianificazione o stress\, guidati da Helmut Leitner (TRIENTNA) \, che conosce e ama la regione. Lungo il percorso\, vi aspettano panorami mozzafiato \, percorsi accuratamente selezionati e pranzi condivisi dove anche le delizie culinarie sono garantite.   \nLa sera torniamo all’accogliente Hotel Leitner \, dove vi attendono un’atmosfera piacevole e il trattamento di mezza pensione . Un luogo dove rilassarvi\, socializzare e pregustare il giorno successivo.  \n\nQuesto è incluso per te\n\n4-8 ottobre 2026 – 4 giorni di viaggio rilassanti\nPernottamento presso l’Hotel Leitner\nMezza pensione\n3 tour guidati in auto tra l’Alto Adige e le Dolomiti\n3 pranzi durante i tour\nGuida turistica personale: Helmut Leitner (TRIENTNA)\n\n\nIl prezzo\n€777 a persona in camera doppia \nUn pacchetto completo di scenari\, divertimento\, guida e comunità\, senza costi nascosti. \n\nImportante da sapere\nLa pianificazione del tour viene effettuata con la massima cura \, tuttavia si applicano le seguenti condizioni: 👉 Non è possibile garantire l’esatto itinerario del tour \, poiché i percorsi potrebbero subire variazioni a breve termine a causa delle condizioni meteorologiche o per motivi organizzativi . Ma l’obiettivo rimane sempre lo stesso: i percorsi più belli e sicuri attraverso l’Alto Adige e le Dolomiti . \n\nPer chi è perfetto questo viaggio?\n\nPer intenditori che vogliono vivere l’Alto Adige senza la confusione e la confusione.\nPer chi apprezza i tour guidati in auto e la buona organizzazione\nPer chi preferisce sperimentare piuttosto che pianificare\n\n\nInteressato?\nAllora assicuratevi un posto nel tour TRIENTNA nell’ottobre 2026 e godetevi giornate ricche di panorami\, divertimento e autentici momenti dolomitici. Non si prenota questo viaggio per il programma\, ma per la sensazione che ne deriva.
URL:https://xn--sdtirol-dolomiten-touren-vsc.com/veranstaltung/tour-di-trientna-tour-in-auto-attraverso-le-dolomiti/?lang=it
LOCATION:Hotel Leitner\, Via Katharina Lanz 83\, Rio di Pusteria (BZ)\, 39037\, Italien
CATEGORIES:tour
ATTACH;FMTTYPE=image/jpeg:https://xn--sdtirol-dolomiten-touren-vsc.com/wp-content/uploads/2022/07/trientna-286-1425x807-1.jpg
END:VEVENT
BEGIN:VEVENT
DTSTART;VALUE=DATE:20261014
DTEND;VALUE=DATE:20261019
DTSTAMP:20260422T181119
CREATED:20260125T121529Z
LAST-MODIFIED:20260129T121510Z
UID:10000340-1791936000-1792367999@xn--sdtirol-dolomiten-touren-vsc.com
SUMMARY:A tutto gas in autunno
DESCRIPTION:14 ottobre 2026 – 18 ottobre 2026 | Tour in auto delle Dolomiti\nPassi di montagna senza ostacoli. Linee pulite. Massimo piacere di guida.  \nSe volete vivere al meglio le Dolomiti in auto\, ottobre è il periodo giusto per voi. Le strade diventano deserte\, l’aria è limpida\, la luce colpisce duramente le rocce e l’asfalto sembra fatto apposta per voi.  \n“A tutto gas verso l’autunno” è il nostro tour più sportivo. Niente traffico estivo\, niente esibizionismo: solo guida pura . Concentratevi sull’essenziale: curve\, ritmo\, linea.   \n\nCosa aspettarsi\nStai guidando su passi di montagna veloci e scorrevoli \, puro divertimento\, con linee sportive e un flusso che ha senso. Nessuna sosta inutile\, nessun “dobbiamo arrivare in fretta anche noi”. Invece: puro flusso .   \nPotrai sperimentare: \n\npercorsi pianificati con precisione senza deviazioni\npiccoli gruppi \, in modo che il ritmo rimanga costante\nConsigli dagli autisti per gli autisti : così puoi guidare con facilità.\n\n\nGuidato da Helmut Leitner (TRIENTNA)\nNon sarete soli nel vostro viaggio: Helmut Leitner (TRIENTNA) guiderà voi e il gruppo attraverso le Dolomiti\, con il tempismo giusto\, il ritmo perfetto e seguendo esattamente i percorsi che rendono l’autunno così speciale. \n\nSera: Divertimento in un hotel a 4 stelle\nDopo il viaggio\, arriverete in serata all’Hotel Leitner** a 4 stelle . Potrete rilassarvi\, gustare un buon pasto\, dormire sonni tranquilli e la mattina dopo sarete di nuovo in cammino sui passi alpini.  \n\nServizi e prezzi\n\n4x mezza pensione (HP)\n3 visite guidate con pranzo incluso \nPernottamento: sera presso l’Hotel Leitner 4 stelle **\nPranzo incluso\nPrezzo: €788 a persona in camera doppia\nDiretto da: Helmut Leitner (TRIENTNA)\n\n\nAvvia la richiesta\nSe pensi: “È proprio quello che fa per me”\, allora invia subito la tua richiesta.\nFateci sapere brevemente se venite da soli o in una camera doppia e vi risponderemo al più presto. \nSalite. Riscaldatevi. A tutta velocità verso l’autunno.
URL:https://xn--sdtirol-dolomiten-touren-vsc.com/veranstaltung/a-tutta-velocita-verso-lautunno/?lang=it
LOCATION:Hotel Leitner\, Via Katharina Lanz 83\, Rio di Pusteria (BZ)\, 39037\, Italien
CATEGORIES:tour
ATTACH;FMTTYPE=image/jpeg:https://xn--sdtirol-dolomiten-touren-vsc.com/wp-content/uploads/2022/11/Autotour-Mit-Vollgas-in-den-Herbst-Suedtirol-Dolomiten-Touren14.jpg
END:VEVENT
END:VCALENDAR